{"text_format":"1","workbook":"xlsx","n_sheets":7,"sheets":["Einstellungen","Kategorien","Rangliste_01","Rangliste_02","Rangliste_03","Rangliste_04","Hilfstabellen"],"not_rendered":{"charts":0,"images":0,"macros":1,"external_links":0,"defined_names":13,"comments":0,"pivot_tables":0},"unopened":[],"bounds":{"document_bytes":16777216,"sheet_cells":100000,"rows_first":2000,"rows_last":500,"rows_between":2000,"halvings":0,"cell_chars":16384,"cell_head_chars":4096},"cells_cut":0,"cells_raw":0,"read":"whole","date_system":"1900"}

{"sheet":"Einstellungen","index":0,"n_rows":42,"n_cols":9,"rows_kept":42,"cut":false,"hidden":false,"merged":[[7,2,7,8],[3,0,3,4],[9,6,9,8]]}
["Zürcher Schiesssportverband ZHSV",null,null,null,null,null,null,null,"Zürcher Kantonaler Armbrustschützenverband ZKAV"]
[{"$f":"(C10-1979) & \". Goldiger Züri-Träffer \" & C10","v":"44. Goldiger Züri-Träffer 2023"},null,null,null,null,null,null,null,"Qualifikation"]
[]
["Basis-Einstellungen:",null,null,null,null,null,null,null,"Version V8/25.12.2022"]
[]
["Hinweise:",null,"Die Datei ist mit AKTIVIERTEN MAKROS zu starten!"]
[null,null,"Die gelben Felder sind mit den aktuellen Daten ausfüllen."]
[null,null,"Soll die Rangliste für weitere Kategorien verwendet werden, so ist eine Kopie der Excel-Datei zu erstellen."]
[]
["Jahr:",null,{"$f":"Hilfstabellen!$B$2","v":2023},null,"Organisator:"]
[]
["Register:",null,"[Rangliste_01]",null,"[Rangliste_02]",null,"[Rangliste_03]",null,"[Rangliste_04]"]
[]
["Kategorie:",null,"---",null,"---",null,"---",null,"---"]
[]
["Disziplin:",null,{"$f":"VLOOKUP(C14,Kategorie,2,FALSE)","v":"keine"},null,{"$f":"VLOOKUP(E14,Kategorie,2,FALSE)","v":"keine"},null,{"$f":"VLOOKUP(G14,Kategorie,2,FALSE)","v":"keine"},null,{"$f":"VLOOKUP(I14,Kategorie,2,FALSE)","v":"keine"}]
["Alter:",null,{"$f":"IF(C33<>C34,C33 & \" - \" & C34, C33)","v":"---"},null,{"$f":"IF(E33<>E34,E33 & \" - \" & E34, E33)","v":"---"},null,{"$f":"IF(G33<>G34,G33 & \" - \" & G34, G33)","v":"---"},null,{"$f":"IF(I33<>I34,I33 & \" - \" & I34, I33)","v":"---"}]
[]
["Ranglisten-Datum:"]
[]
[]
["Die nachstehenden Felder werden durch den ZHSV- bzw. den ZKAV-Funktionär befüllt:"]
[]
["Anz. Final-Qualifizierte:",null,3,null,0,null,0,null,0]
[]
["Anz. Final-Reserve:",null,4,null,0,null,0,null,0]
[]
[]
["Kategorien-Details:"]
[]
["Disziplin:",null,{"$f":"VLOOKUP(C14,Kategorie,2,FALSE)","v":"keine"},null,{"$f":"VLOOKUP(E14,Kategorie,2,FALSE)","v":"keine"},null,{"$f":"VLOOKUP(G14,Kategorie,2,FALSE)","v":"keine"},null,{"$f":"VLOOKUP(I14,Kategorie,2,FALSE)","v":"keine"}]
["Stellung:",null,{"$f":"VLOOKUP(C14,Kategorie,3,FALSE)","v":0},null,{"$f":"VLOOKUP(E14,Kategorie,3,FALSE)","v":0},null,{"$f":"VLOOKUP(G14,Kategorie,3,FALSE)","v":0},null,{"$f":"VLOOKUP(I14,Kategorie,3,FALSE)","v":0}]
["Alter von:",null,{"$f":"VLOOKUP(C14,Kategorie,4,FALSE)","v":"---"},null,{"$f":"VLOOKUP(E14,Kategorie,4,FALSE)","v":"---"},null,{"$f":"VLOOKUP(G14,Kategorie,4,FALSE)","v":"---"},null,{"$f":"VLOOKUP(I14,Kategorie,4,FALSE)","v":"---"}]
["Alter bis:",null,{"$f":"VLOOKUP(C14,Kategorie,5,FALSE)","v":"---"},null,{"$f":"VLOOKUP(E14,Kategorie,5,FALSE)","v":"---"},null,{"$f":"VLOOKUP(G14,Kategorie,5,FALSE)","v":"---"},null,{"$f":"VLOOKUP(I14,Kategorie,5,FALSE)","v":"---"}]
["Jahrgang von:",null,{"$f":"VLOOKUP(C14,Kategorie,6,FALSE)","v":"---"},null,{"$f":"VLOOKUP(E14,Kategorie,6,FALSE)","v":"---"},null,{"$f":"VLOOKUP(G14,Kategorie,6,FALSE)","v":"---"},null,{"$f":"VLOOKUP(I14,Kategorie,6,FALSE)","v":"---"}]
["Jahrgang bis:",null,{"$f":"VLOOKUP(C14,Kategorie,7,FALSE)","v":"---"},null,{"$f":"VLOOKUP(E14,Kategorie,7,FALSE)","v":"---"},null,{"$f":"VLOOKUP(G14,Kategorie,7,FALSE)","v":"---"},null,{"$f":"VLOOKUP(I14,Kategorie,7,FALSE)","v":"---"}]
["T01:",null,{"$f":"VLOOKUP(C14,Kategorie,8,FALSE)","v":""},null,{"$f":"VLOOKUP(E14,Kategorie,8,FALSE)","v":""},null,{"$f":"VLOOKUP(G14,Kategorie,8,FALSE)","v":""},null,{"$f":"VLOOKUP(I14,Kategorie,8,FALSE)","v":""}]
["T02:",null,{"$f":"VLOOKUP(C14,Kategorie,9,FALSE)","v":""},null,{"$f":"VLOOKUP(E14,Kategorie,9,FALSE)","v":""},null,{"$f":"VLOOKUP(G14,Kategorie,9,FALSE)","v":""},null,{"$f":"VLOOKUP(I14,Kategorie,9,FALSE)","v":""}]
["T03:",null,{"$f":"VLOOKUP(C14,Kategorie,10,FALSE)","v":""},null,{"$f":"VLOOKUP(E14,Kategorie,10,FALSE)","v":""},null,{"$f":"VLOOKUP(G14,Kategorie,10,FALSE)","v":""},null,{"$f":"VLOOKUP(I14,Kategorie,10,FALSE)","v":""}]
["T04:",null,{"$f":"VLOOKUP(C14,Kategorie,11,FALSE)","v":""},null,{"$f":"VLOOKUP(E14,Kategorie,11,FALSE)","v":""},null,{"$f":"VLOOKUP(G14,Kategorie,11,FALSE)","v":""},null,{"$f":"VLOOKUP(I14,Kategorie,11,FALSE)","v":""}]
["T05:",null,{"$f":"VLOOKUP(C14,Kategorie,12,FALSE)","v":0},null,{"$f":"VLOOKUP(E14,Kategorie,12,FALSE)","v":0},null,{"$f":"VLOOKUP(G14,Kategorie,12,FALSE)","v":0},null,{"$f":"VLOOKUP(I14,Kategorie,12,FALSE)","v":0}]
["T06:",null,{"$f":"VLOOKUP(C14,Kategorie,13,FALSE)","v":0},null,{"$f":"VLOOKUP(E14,Kategorie,13,FALSE)","v":0},null,{"$f":"VLOOKUP(G14,Kategorie,13,FALSE)","v":0},null,{"$f":"VLOOKUP(I14,Kategorie,13,FALSE)","v":0}]

{"sheet":"Kategorien","index":1,"n_rows":55,"n_cols":11,"rows_kept":55,"cut":false,"hidden":false,"merged":[[1,0,1,10]]}
["Zürcher Schiesssportverband ZHSV",null,null,null,null,null,null,null,null,null,"Zürcher Kantonaler Armbrustschützenverband ZKAV"]
[{"$f":"Einstellungen!$A$2","v":"44. Goldiger Züri-Träffer 2023"}]
[]
[]
["Kategorien und Rangierungs-Kriterien"]
[null,null,null,null,null,null,null,null,null,null,{"$f":"Einstellungen!$I$4","v":"Version V8/25.12.2022"}]
[]
["Kategorie","Alter","Kategorie-Bezeichnung","Rangierungsfolge",null,null,"Bemerkung"]
[]
["Armbrust","08 - 10","A1  08-10","1.","Anzahl Schwarztreffer",null,"--> wird nicht eingegeben"]
["sitzend",null,null,"2.","Total der 10 Wertungsschüsse",null,"max. 100"]
["feste Auflage",null,null,"3.","Stellung \"frei\" vor \"aufgelegt\""]
[null,null,null,"4.","Tieferes Alter (Geburtsdatum)"]
["Armbrust","08 - 12","A2  08-12","1.","Anzahl Schwarztreffer",null,"--> wird nicht eingegeben"]
["stehend",null,null,"2.","Total der 10 Wertungsschüsse",null,"max. 100"]
["aufgelegt und frei",null,null,"3.","Stellung \"frei\" vor \"aufgelegt\""]
[null,null,null,"4.","Tieferes Alter (Geburtsdatum)"]
["Armbrust","13 - 15","A3  13-15","1.","Anzahl Schwarztreffer",null,"--> wird nicht eingegeben"]
["stehend",null,null,"2.","Total der 10 Wertungsschüsse",null,"max. 100"]
["aufgelegt und frei",null,null,"3.","Stellung \"frei\" vor \"aufgelegt\""]
[null,null,null,"4.","Tieferes Alter (Geburtsdatum)"]
[]
["Gewehr","08 - 10","G1  08-10","1.","Anzahl Schwarztreffer",null,"max. 15"]
["sitzend",null,null,"2.","Total der 5 Wertungsschüsse",null,"max. 50"]
["feste Auflage",null,null,"3.","Stellung \"frei\" vor \"aufgelegt\"",null,"--> wird nicht eingegeben"]
[null,null,null,"4.","Tieferes Alter (Geburtsdatum)"]
["Gewehr","08 - 12","G2  08-12","1.","Anzahl Schwarztreffer",null,"max. 15"]
["stehend",null,null,"2.","Total der 5 Wertungsschüsse",null,"max. 50"]
["feste Auflage",null,null,"3.","Stellung \"frei\" vor \"aufgelegt\"",null,"--> wird nicht eingegeben"]
[null,null,null,"4.","Tieferes Alter (Geburtsdatum)"]
["Gewehr","10 - 15","G3  10-14","1.","Anzahl Schwarztreffer",null,"max. 15"]
["stehend",null,null,"2.","Total der 5 Wertungsschüsse",null,"max. 50"]
["bewegliche Auflage",null,null,"3.","Stellung \"frei\" vor \"aufgelegt\"",null,"--> wird nicht eingegeben"]
[null,null,null,"4.","Tieferes Alter (Geburtsdatum)"]
["Gewehr","10 - 15","G4  10-14","1.","Anzahl Schwarztreffer",null,"max. 15"]
["stehend",null,null,"2.","Total der 5 Wertungsschüsse",null,"max. 50"]
["frei",null,null,"3.","Stellung \"frei\" vor \"aufgelegt\"",null,"--> wird nicht eingegeben"]
[null,null,null,"4.","Tieferes Alter (Geburtsdatum)"]
[]
["Pistole","08 - 10","P1  08-10","1.","Anzahl Schwarztreffer",null,"max. 15"]
["sitzend",null,null,"2.","Total der 5 Wertungsschüsse",null,"max. 50"]
["feste Auflage",null,null,"3.","Stellung \"frei\" vor \"aufgelegt\"",null,"--> wird nicht eingegeben"]
[null,null,null,"4.","Tieferes Alter (Geburtsdatum)"]
["Pistole","08 - 12","P2  08-12","1.","Anzahl Schwarztreffer",null,"max. 15"]
["stehend",null,null,"2.","Total der 5 Wertungsschüsse",null,"max. 50"]
["feste Auflage",null,null,"3.","Stellung \"frei\" vor \"aufgelegt\"",null,"--> wird nicht eingegeben"]
[null,null,null,"4.","Tieferes Alter (Geburtsdatum)"]
["Pistole","10 - 15","P3  10-14","1.","Anzahl Schwarztreffer",null,"max. 15"]
["stehend",null,null,"2.","Total der 5 Wertungsschüsse",null,"max. 50"]
["bewegliche Auflage",null,null,"3.","Stellung \"frei\" vor \"aufgelegt\"",null,"--> wird nicht eingegeben"]
[null,null,null,"4.","Tieferes Alter (Geburtsdatum)"]
["Pistole","10 - 15","P4  10-14","1.","Anzahl Schwarztreffer",null,"max. 15"]
["stehend",null,null,"2.","Total der 5 Wertungsschüsse",null,"max. 50"]
["frei",null,null,"3.","Stellung \"frei\" vor \"aufgelegt\"",null,"--> wird nicht eingegeben"]
[null,null,null,"4.","Tieferes Alter (Geburtsdatum)"]

{"sheet":"Rangliste_01","index":2,"n_rows":717,"n_cols":35,"rows_kept":717,"cut":false,"hidden":false,"merged":[[3,13,3,16],[3,11,3,12],[6,0,6,3],[1,0,1,4],[1,10,1,16],[11,15,11,16],[6,10,6,16],[7,0,7,4],[9,15,9,16],[10,15,10,16]]}
[null,null,null,null,null,null,null,null,null,null,null,null,null,null,null,null,null,">>",null,null,null,null,null,null,null,null,null,null,null,null,null,null,null,null,"<<"]
["Zürcher Schiesssportverband\nZHSV   -   www.ZHSV.ch",null,null,null,null,null,null,null,null,null,"Zürcher Kantonaler Armbrustschützenverband\nZKAV   -   www.ZKAV.ch"]
[{"$f":"Einstellungen!$A$2","v":"44. Goldiger Züri-Träffer 2023"},null,null,null,null,null,null,null,null,null,null,null,null,null,null,null,{"$f":"Einstellungen!$I$2","v":"Qualifikation"}]
[{"$f":"Einstellungen!$I$4","v":"Version V8/25.12.2022"},null,null,null,null,null,null,null,null,null,null,"Rangliste per:",null,{"$f":"Einstellungen!$C$19","v":"00:00:00"},null,null,null,null,null,"Erste Rangzeile:",null,18]
[]
["Disziplin:",null,null,null,"Alter:",null,null,"Jahrgänge:",null,null,"Organisator:",null,null,null,null,null,null,null,null,"Letzte Rangzeile:",null,{"$f":"V4+P10-1","v":17}]
[{"$f":"Einstellungen!$C$16","v":"keine"},null,null,null,{"$f":"Einstellungen!$C$17","v":"---"},null,null,{"$f":"IF(Einstellungen!$C$35<>Einstellungen!$C$36,Einstellungen!$C$35 & \" - \" & Einstellungen!$C$36, Einstellungen!$C$35)","v":"---"},null,null,{"$f":"Einstellungen!$G$10","v":0},null,null,null,null,null,null,null,null,"Print-Select:",null,{"$f":"\"A2:Q\"&V6","v":"A2:Q17"}]
[{"$f":"Einstellungen!$C$32","v":0}]
[]
["Final:","Q",null,"= qualifiziert",null,null,null,null,null,null,null,null,"Teilnehmer:",null,null,{"$f":"SUM(P11:P12)","v":0},null,null,null,"Hilfsfeld",null,null,null,null,null,"Anz. Q","Anz. R",null,null,"Alter","Alter"]
[null,"R",null,"= Reserve",null,null,null,null,null,null,null,null,"- Mädchen:",null,null,{"$f":"COUNTIF(P18:P717,\"x\")","v":0},null,null,null,null,null,null,null,null,null,null,null,null,null,"von","bis"]
[null,null,"K","= Kadermitglied (keine Finalteilnahme)",null,null,null,null,null,null,null,null,"- Jungen:",null,null,{"$f":"COUNTIF(Q18:Q717,\"x\")","v":0},null,null,null,{"$f":"\"---\"","v":"---"},null,null,null,null,null,{"$f":"Einstellungen!$C$24","v":3},{"$f":"Einstellungen!$C$26","v":4},null,null,{"$f":"Einstellungen!$C$33","v":"---"},{"$f":"Einstellungen!$C$34","v":"---"}]
[null,null,"A","= abgemeldet (keine Finalteilnahme)"]
[]
["Rang","Final",{"$f":"Einstellungen!$C$42","v":0},"Name","Vorname","Adresse","PLZ","Wohnort","Telefon","eMail","Verein","Geburts-\nDatum\n(tt.mm.jjjj)",{"$f":"Einstellungen!$C$37","v":""},{"$f":"Einstellungen!$C$38","v":""},{"$f":"Einstellungen!$C$39","v":""},{"$f":"Einstellungen!$C$40","v":""},{"$f":"Einstellungen!$C$41","v":0},"Alter","Total","Rang_Ber","Rang_Set","Rang_OK","Final","mögliche Final\nTeilnahme","Anzahl\nmöglicher Final\nTeilnahmen","Q_OK","R_OK","Treffer","Punkte","Stellung","Alter","Geb.-Jahr","Geb.-Monat","Geb.-Tag"]
[]
[null,null,null,null,null,null,null,null,null,null,null,null,null,null,null,null,null,null,null,null,0,null,null,null,0]
["","",null,null,null,null,null,null,null,null,null,null,null,null,null,null,{"$f":"IF(LEN(D18)>0,IF(P18=\"x\",\"\",\"x\"),\"\")","v":""},{"$f":"IF(YEAR(L18)>1900,Einstellungen!$C$10-YEAR(L18),\"---\")","v":"---"},{"$f":"AB18 & \"-\" & AC18 & \"-\" & AD18 & \"-\" & AE18","v":"0000-0000-f-19000100"},{"$f":"IF(R18<=$AE$12,1,0)","v":1},{"$f":"IF(T18=1,U17+1,U17)","v":1},{"$f":"IF((M18+N18)>0,IF(T18=1,U18,\"-\"),\"\")","v":""},{"$f":"Z18 & AA18","v":"Q"},{"$f":"IF(LEN(C18)>0, 0, T18)","v":1},{"$f":"Y17+X18","v":1},{"$f":"IF(X18=1,IF(Y18<=$Z$12,\"Q\",\"\"),\"\")","v":"Q"},{"$f":"IF(X18=1, IF(Y18>$Z$12, IF(Y18<=($Z$12+$AA$12),\"R\",\"\"),\"\"), \"\")","v":""},{"$f":"IF(M18<1,\"0000\", IF(M18<10,\"000\"&M18, IF(M18<100,\"00\"&M18, IF(M18<1000,\"0\"&M18,\"\"& M18))))","v":"0000"},{"$f":"IF(N18<1,\"0000\", IF(N18<10,\"000\"&N18, IF(N18<100,\"00\"&N18, IF(N18<1000,\"0\"&N18,\"\"& N18))))","v":"0000"},{"$f":"IF(O18=\"a\",\"a\",\"f\")","v":"f"},{"$f":"AF18&AG18&AH18","v":"19000100"},{"$f":"YEAR(L18)","v":1900},{"$f":"IF(MONTH(L18)<10,\"0\"&MONTH(L18),MONTH(L18))","v":"01"},{"$f":"IF(DAY(L18)<10,\"0\"&DAY(L18),DAY(L18))","v":"00"}]
["","",null,null,null,null,null,null,null,null,null,null,null,null,null,null,"",{"$f":"IF(YEAR(L19)>1900,Einstellungen!$C$10-YEAR(L19),\"---\")","v":"---"},{"$f":"AB19 & \"-\" & AC19 & \"-\" & AD19 & \"-\" & AE19","v":"0000-0000-f-19000100"},{"$f":"IF(R19<=$AE$12,1,0)","v":1},{"$f":"IF(T19=1,U18+1,U18)","v":2},{"$f":"IF((M19+N19)>0,IF(T19=1,U19,\"-\"),\"\")","v":""},{"$f":"Z19 & AA19","v":"Q"},1,{"$f":"Y18+X19","v":2},{"$f":"IF(X19=1,IF(Y19<=$Z$12,\"Q\",\"\"),\"\")","v":"Q"},{"$f":"IF(X19=1, IF(Y19>$Z$12, IF(Y19<=($Z$12+$AA$12),\"R\",\"\"),\"\"), \"\")","v":""},{"$f":"IF(M19<1,\"0000\", IF(M19<10,\"000\"&M19, IF(M19<100,\"00\"&M19, IF(M19<1000,\"0\"&M19,\"\"& M19))))","v":"0000"},{"$f":"IF(N19<1,\"0000\", IF(N19<10,\"000\"&N19, IF(N19<100,\"00\"&N19, IF(N19<1000,\"0\"&N19,\"\"& N19))))","v":"0000"},{"$f":"IF(O19=\"a\",\"a\",\"f\")","v":"f"},{"$f":"AF19&AG19&AH19","v":"19000100"},1900,"01","00"]
["","",null,null,null,null,null,null,null,null,null,null,null,null,null,null,"",{"$f":"IF(YEAR(L20)>1900,Einstellungen!$C$10-YEAR(L20),\"---\")","v":"---"},"0000-0000-f-19000100",1,3,"","Q",1,3,"Q","","0000","0000","f","19000100",1900,"01","00"]
["","",null,null,null,null,null,null,null,null,null,null,null,null,null,null,"",{"$f":"IF(YEAR(L21)>1900,Einstellungen!$C$10-YEAR(L21),\"---\")","v":"---"},"0000-0000-f-19000100",1,4,"","R",1,4,"","R","0000","0000","f","19000100",1900,"01","00"]
["","",null,null,null,null,null,null,null,null,null,null,null,null,null,null,"",{"$f":"IF(YEAR(L22)>1900,Einstellungen!$C$10-YEAR(L22),\"---\")","v":"---"},"0000-0000-f-19000100",1,5,"","R",1,5,"","R","0000","0000","f","19000100",1900,"01","00"]
["","",null,null,null,null,null,null,null,null,null,null,null,null,null,null,"",{"$f":"IF(YEAR(L23)>1900,Einstellungen!$C$10-YEAR(L23),\"---\")","v":"---"},"0000-0000-f-19000100",1,6,"","R",1,6,"","R","0000","0000","f","19000100",1900,"01","00"]
["","",null,null,null,null,null,null,null,null,null,null,null,null,null,null,"",{"$f":"IF(YEAR(L24)>1900,Einstellungen!$C$10-YEAR(L24),\"---\")","v":"---"},"0000-0000-f-19000100",1,7,"","R",1,7,"","R","0000","0000","f","19000100",1900,"01","00"]
["","",null,null,null,null,null,null,null,null,null,null,null,null,null,null,"",{"$f":"IF(YEAR(L25)>1900,Einstellungen!$C$10-YEAR(L25),\"---\")","v":"---"},"0000-0000-f-19000100",1,8,"","",1,8,"","","0000","0000","f","19000100",1900,"01","00"]
["","",null,null,null,null,null,null,null,null,null,null,null,null,null,null,"",{"$f":"IF(YEAR(L26)>1900,Einstellungen!$C$10-YEAR(L26),\"---\")","v":"---"},"0000-0000-f-19000100",1,9,"","",1,9,"","","0000","0000","f","19000100",1900,"01","00"]
["","",null,null,null,null,null,null,null,null,null,null,null,null,null,null,"",{"$f":"IF(YEAR(L27)>1900,Einstellungen!$C$10-YEAR(L27),\"---\")","v":"---"},"0000-0000-f-19000100",1,10,"","",1,10,"","","0000","0000","f","19000100",1900,"01","00"]
["","",null,null,null,null,null,null,null,null,null,null,null,null,null,null,"",{"$f":"IF(YEAR(L28)>1900,Einstellungen!$C$10-YEAR(L28),\"---\")","v":"---"},"0000-0000-f-19000100",1,11,"","",1,11,"","","0000","0000","f","19000100",1900,"01","00"]
["","",null,null,null,null,null,null,null,null,null,null,null,null,null,null,"",{"$f":"IF(YEAR(L29)>1900,Einstellungen!$C$10-YEAR(L29),\"---\")","v":"---"},"0000-0000-f-19000100",1,12,"","",1,12,"","","0000","0000","f","19000100",1900,"01","00"]
["","",null,null,null,null,null,null,null,null,null,null,null,null,null,null,"",{"$f":"IF(YEAR(L30)>1900,Einstellungen!$C$10-YEAR(L30),\"---\")","v":"---"},"0000-0000-f-19000100",1,13,"","",1,13,"","","0000","0000","f","19000100",1900,"01","00"]
["","",null,null,null,null,null,null,null,null,null,null,null,null,null,null,"",{"$f":"IF(YEAR(L31)>1900,Einstellungen!$C$10-YEAR(L31),\"---\")","v":"---"},"0000-0000-f-19000100",1,14,"","",1,14,"","","0000","0000","f","19000100",1900,"01","00"]
["","",null,null,null,null,null,null,null,null,null,null,null,null,null,null,"",{"$f":"IF(YEAR(L32)>1900,Einstellungen!$C$10-YEAR(L32),\"---\")","v":"---"},"0000-0000-f-19000100",1,15,"","",1,15,"","","0000","0000","f","19000100",1900,"01","00"]
["","",null,null,null,null,null,null,null,null,null,null,null,null,null,null,"",{"$f":"IF(YEAR(L33)>1900,Einstellungen!$C$10-YEAR(L33),\"---\")","v":"---"},"0000-0000-f-19000100",1,16,"","",1,16,"","","0000","0000","f","19000100",1900,"01","00"]
["","",null,null,null,null,null,null,null,null,null,null,null,null,null,null,"",{"$f":"IF(YEAR(L34)>1900,Einstellungen!$C$10-YEAR(L34),\"---\")","v":"---"},"0000-0000-f-19000100",1,17,"","",1,17,"","","0000","0000","f","19000100",1900,"01","00"]
["","",null,null,null,null,null,null,null,null,null,null,null,null,null,null,"",{"$f":"IF(YEAR(L35)>1900,Einstellungen!$C$10-YEAR(L35),\"---\")","v":"---"},"0000-0000-f-19000100",1,18,"","",1,18,"","","0000","0000","f","19000100",1900,"01","00"]
["","",null,null,null,null,null,null,null,null,null,null,null,null,null,null,"",{"$f":"IF(YEAR(L36)>1900,Einstellungen!$C$10-YEAR(L36),\"---\")","v":"---"},"0000-0000-f-19000100",1,19,"","",1,19,"","","0000","0000","f","19000100",1900,"01","00"]
["","",null,null,null,null,null,null,null,null,null,null,null,null,null,null,"",{"$f":"IF(YEAR(L37)>1900,Einstellungen!$C$10-YEAR(L37),\"---\")","v":"---"},"0000-0000-f-19000100",1,20,"","",1,20,"","","0000","0000","f","19000100",1900,"01","00"]
["","",null,null,null,null,null,null,null,null,null,null,null,null,null,null,"",{"$f":"IF(YEAR(L38)>1900,Einstellungen!$C$10-YEAR(L38),\"---\")","v":"---"},"0000-0000-f-19000100",1,21,"","",1,21,"","","0000","0000","f","19000100",1900,"01","00"]
["","",null,null,null,null,null,null,null,null,null,null,null,null,null,null,"",{"$f":"IF(YEAR(L39)>1900,Einstellungen!$C$10-YEAR(L39),\"---\")","v":"---"},"0000-0000-f-19000100",1,22,"","",1,22,"","","0000","0000","f","19000100",1900,"01","00"]
["","",null,null,null,null,null,null,null,null,null,null,null,null,null,null,"",{"$f":"IF(YEAR(L40)>1900,Einstellungen!$C$10-YEAR(L40),\"---\")","v":"---"},"0000-0000-f-19000100",1,23,"","",1,23,"","","0000","0000","f","19000100",1900,"01","00"]
["","",null,null,null,null,null,null,null,null,null,null,null,null,null,null,"",{"$f":"IF(YEAR(L41)>1900,Einstellungen!$C$10-YEAR(L41),\"---\")","v":"---"},"0000-0000-f-19000100",1,24,"","",1,24,"","","0000","0000","f","19000100",1900,"01","00"]
["","",null,null,null,null,null,null,null,null,null,null,null,null,null,null,"",{"$f":"IF(YEAR(L42)>1900,Einstellungen!$C$10-YEAR(L42),\"---\")","v":"---"},"0000-0000-f-19000100",1,25,"","",1,25,"","","0000","0000","f","19000100",1900,"01","00"]
["","",null,null,null,null,null,null,null,null,null,null,null,null,null,null,"",{"$f":"IF(YEAR(L43)>1900,Einstellungen!$C$10-YEAR(L43),\"---\")","v":"---"},"0000-0000-f-19000100",1,26,"","",1,26,"","","0000","0000","f","19000100",1900,"01","00"]
["","",null,null,null,null,null,null,null,null,null,null,null,null,null,null,"",{"$f":"IF(YEAR(L44)>1900,Einstellungen!$C$10-YEAR(L44),\"---\")","v":"---"},"0000-0000-f-19000100",1,27,"","",1,27,"","","0000","0000","f","19000100",1900,"01","00"]
["","",null,null,null,null,null,null,null,null,null,null,null,null,null,null,"",{"$f":"IF(YEAR(L45)>1900,Einstellungen!$C$10-YEAR(L45),\"---\")","v":"---"},"0000-0000-f-19000100",1,28,"","",1,28,"","","0000","0000","f","19000100",1900,"01","00"]
["","",null,null,null,null,null,null,null,null,null,null,null,null,null,null,"",{"$f":"IF(YEAR(L46)>1900,Einstellungen!$C$10-YEAR(L46),\"---\")","v":"---"},"0000-0000-f-19000100",1,29,"","",1,29,"","","0000","0000","f","19000100",1900,"01","00"]
["","",null,null,null,null,null,null,null,null,null,null,null,null,null,null,"",{"$f":"IF(YEAR(L47)>1900,Einstellungen!$C$10-YEAR(L47),\"---\")","v":"---"},"0000-0000-f-19000100",1,30,"","",1,30,"","","0000","0000","f","19000100",1900,"01","00"]
["","",null,null,null,null,null,null,null,null,null,null,null,null,null,null,"",{"$f":"IF(YEAR(L48)>1900,Einstellungen!$C$10-YEAR(L48),\"---\")","v":"---"},"0000-0000-f-19000100",1,31,"","",1,31,"","","0000","0000","f","19000100",1900,"01","00"]
["","",null,null,null,null,null,null,null,null,null,null,null,null,null,null,"",{"$f":"IF(YEAR(L49)>1900,Einstellungen!$C$10-YEAR(L49),\"---\")","v":"---"},"0000-0000-f-19000100",1,32,"","",1,32,"","","0000","0000","f","19000100",1900,"01","00"]
["","",null,null,null,null,null,null,null,null,null,null,null,null,null,null,"",{"$f":"IF(YEAR(L50)>1900,Einstellungen!$C$10-YEAR(L50),\"---\")","v":"---"},"0000-0000-f-19000100",1,33,"","",1,33,"","","0000","0000","f","19000100",1900,"01","00"]
["","",null,null,null,null,null,null,null,null,null,null,null,null,null,null,"",{"$f":"IF(YEAR(L51)>1900,Einstellungen!$C$10-YEAR(L51),\"---\")","v":"---"},"0000-0000-f-19000100",1,34,"","",1,34,"","","0000","0000","f","19000100",1900,"01","00"]
["","",null,null,null,null,null,null,null,null,null,null,null,null,null,null,"",{"$f":"IF(YEAR(L52)>1900,Einstellungen!$C$10-YEAR(L52),\"---\")","v":"---"},"0000-0000-f-19000100",1,35,"","",1,35,"","","0000","0000","f","19000100",1900,"01","00"]
["","",null,null,null,null,null,null,null,null,null,null,null,null,null,null,"",{"$f":"IF(YEAR(L53)>1900,Einstellungen!$C$10-YEAR(L53),\"---\")","v":"---"},"0000-0000-f-19000100",1,36,"","",1,36,"","","0000","0000","f","19000100",1900,"01","00"]
["","",null,null,null,null,null,null,null,null,null,null,null,null,null,null,"",{"$f":"IF(YEAR(L54)>1900,Einstellungen!$C$10-YEAR(L54),\"---\")","v":"---"},"0000-0000-f-19000100",1,37,"","",1,37,"","","0000","0000","f","19000100",1900,"01","00"]
["","",null,null,null,null,null,null,null,null,null,null,null,null,null,null,"",{"$f":"IF(YEAR(L55)>1900,Einstellungen!$C$10-YEAR(L55),\"---\")","v":"---"},"0000-0000-f-19000100",1,38,"","",1,38,"","","0000","0000","f","19000100",1900,"01","00"]
["","",null,null,null,null,null,null,null,null,null,null,null,null,null,null,"",{"$f":"IF(YEAR(L56)>1900,Einstellungen!$C$10-YEAR(L56),\"---\")","v":"---"},"0000-0000-f-19000100",1,39,"","",1,39,"","","0000","0000","f","19000100",1900,"01","00"]
["","",null,null,null,null,null,null,null,null,null,null,null,null,null,null,"",{"$f":"IF(YEAR(L57)>1900,Einstellungen!$C$10-YEAR(L57),\"---\")","v":"---"},"0000-0000-f-19000100",1,40,"","",1,40,"","","0000","0000","f","19000100",1900,"01","00"]
["","",null,null,null,null,null,null,null,null,null,null,null,null,null,null,"",{"$f":"IF(YEAR(L58)>1900,Einstellungen!$C$10-YEAR(L58),\"---\")","v":"---"},"0000-0000-f-19000100",1,41,"","",1,41,"","","0000","0000","f","19000100",1900,"01","00"]
["","",null,null,null,null,null,null,null,null,null,null,null,null,null,null,"",{"$f":"IF(YEAR(L59)>1900,Einstellungen!$C$10-YEAR(L59),\"---\")","v":"---"},"0000-0000-f-19000100",1,42,"","",1,42,"","","0000","0000","f","19000100",1900,"01","00"]
["","",null,null,null,null,null,null,null,null,null,null,null,null,null,null,"",{"$f":"IF(YEAR(L60)>1900,Einstellungen!$C$10-YEAR(L60),\"---\")","v":"---"},"0000-0000-f-19000100",1,43,"","",1,43,"","","0000","0000","f","19000100",1900,"01","00"]
["","",null,null,null,null,null,null,null,null,null,null,null,null,null,null,"",{"$f":"IF(YEAR(L61)>1900,Einstellungen!$C$10-YEAR(L61),\"---\")","v":"---"},"0000-0000-f-19000100",1,44,"","",1,44,"","","0000","0000","f","19000100",1900,"01","00"]
["","",null,null,null,null,null,null,null,null,null,null,null,null,null,null,"",{"$f":"IF(YEAR(L62)>1900,Einstellungen!$C$10-YEAR(L62),\"---\")","v":"---"},"0000-0000-f-19000100",1,45,"","",1,45,"","","0000","0000","f","19000100",1900,"01","00"]
["","",null,null,null,null,null,null,null,null,null,null,null,null,null,null,"",{"$f":"IF(YEAR(L63)>1900,Einstellungen!$C$10-YEAR(L63),\"---\")","v":"---"},"0000-0000-f-19000100",1,46,"","",1,46,"","","0000","0000","f","19000100",1900,"01","00"]
["","",null,null,null,null,null,null,null,null,null,null,null,null,null,null,"",{"$f":"IF(YEAR(L64)>1900,Einstellungen!$C$10-YEAR(L64),\"---\")","v":"---"},"0000-0000-f-19000100",1,47,"","",1,47,"","","0000","0000","f","19000100",1900,"01","00"]
["","",null,null,null,null,null,null,null,null,null,null,null,null,null,null,"",{"$f":"IF(YEAR(L65)>1900,Einstellungen!$C$10-YEAR(L65),\"---\")","v":"---"},"0000-0000-f-19000100",1,48,"","",1,48,"","","0000","0000","f","19000100",1900,"01","00"]
["","",null,null,null,null,null,null,null,null,null,null,null,null,null,null,"",{"$f":"IF(YEAR(L66)>1900,Einstellungen!$C$10-YEAR(L66),\"---\")","v":"---"},"0000-0000-f-19000100",1,49,"","",1,49,"","","0000","0000","f","19000100",1900,"01","00"]
["","",null,null,null,null,null,null,null,null,null,null,null,null,null,null,"",{"$f":"IF(YEAR(L67)>1900,Einstellungen!$C$10-YEAR(L67),\"---\")","v":"---"},"0000-0000-f-19000100",1,50,"","",1,50,"","","0000","0000","f","19000100",1900,"01","00"]
["","",null,null,null,null,null,null,null,null,null,null,null,null,null,null,"",{"$f":"IF(YEAR(L68)>1900,Einstellungen!$C$10-YEAR(L68),\"---\")","v":"---"},"0000-0000-f-19000100",1,51,"","",1,51,"","","0000","0000","f","19000100",1900,"01","00"]
["","",null,null,null,null,null,null,null,null,null,null,null,null,null,null,"",{"$f":"IF(YEAR(L69)>1900,Einstellungen!$C$10-YEAR(L69),\"---\")","v":"---"},"0000-0000-f-19000100",1,52,"","",1,52,"","","0000","0000","f","19000100",1900,"01","00"]
["","",null,null,null,null,null,null,null,null,null,null,null,null,null,null,"",{"$f":"IF(YEAR(L70)>1900,Einstellungen!$C$10-YEAR(L70),\"---\")","v":"---"},"0000-0000-f-19000100",1,53,"","",1,53,"","","0000","0000","f","19000100",1900,"01","00"]
["","",null,null,null,null,null,null,null,null,null,null,null,null,null,null,"",{"$f":"IF(YEAR(L71)>1900,Einstellungen!$C$10-YEAR(L71),\"---\")","v":"---"},"0000-0000-f-19000100",1,54,"","",1,54,"","","0000","0000","f","19000100",1900,"01","00"]
["","",null,null,null,null,null,null,null,null,null,null,null,null,null,null,"",{"$f":"IF(YEAR(L72)>1900,Einstellungen!$C$10-YEAR(L72),\"---\")","v":"---"},"0000-0000-f-19000100",1,55,"","",1,55,"","","0000","0000","f","19000100",1900,"01","00"]
["","",null,null,null,null,null,null,null,null,null,null,null,null,null,null,"",{"$f":"IF(YEAR(L73)>1900,Einstellungen!$C$10-YEAR(L73),\"---\")","v":"---"},"0000-0000-f-19000100",1,56,"","",1,56,"","","0000","0000","f","19000100",1900,"01","00"]
["","",null,null,null,null,null,null,null,null,null,null,null,null,null,null,"",{"$f":"IF(YEAR(L74)>1900,Einstellungen!$C$10-YEAR(L74),\"---\")","v":"---"},"0000-0000-f-19000100",1,57,"","",1,57,"","","0000","0000","f","19000100",1900,"01","00"]
["","",null,null,null,null,null,null,null,null,null,null,null,null,null,null,"",{"$f":"IF(YEAR(L75)>1900,Einstellungen!$C$10-YEAR(L75),\"---\")","v":"---"},"0000-0000-f-19000100",1,58,"","",1,58,"","","0000","0000","f","19000100",1900,"01","00"]
["","",null,null,null,null,null,null,null,null,null,null,null,null,null,null,"",{"$f":"IF(YEAR(L76)>1900,Einstellungen!$C$10-YEAR(L76),\"---\")","v":"---"},"0000-0000-f-19000100",1,59,"","",1,59,"","","0000","0000","f","19000100",1900,"01","00"]
["","",null,null,null,null,null,null,null,null,null,null,null,null,null,null,"",{"$f":"IF(YEAR(L77)>1900,Einstellungen!$C$10-YEAR(L77),\"---\")","v":"---"},"0000-0000-f-19000100",1,60,"","",1,60,"","","0000","0000","f","19000100",1900,"01","00"]
["","",null,null,null,null,null,null,null,null,null,null,null,null,null,null,"",{"$f":"IF(YEAR(L78)>1900,Einstellungen!$C$10-YEAR(L78),\"---\")","v":"---"},"0000-0000-f-19000100",1,61,"","",1,61,"","","0000","0000","f","19000100",1900,"01","00"]
["","",null,null,null,null,null,null,null,null,null,null,null,null,null,null,"",{"$f":"IF(YEAR(L79)>1900,Einstellungen!$C$10-YEAR(L79),\"---\")","v":"---"},"0000-0000-f-19000100",1,62,"","",1,62,"","","0000","0000","f","19000100",1900,"01","00"]
["","",null,null,null,null,null,null,null,null,null,null,null,null,null,null,"",{"$f":"IF(YEAR(L80)>1900,Einstellungen!$C$10-YEAR(L80),\"---\")","v":"---"},"0000-0000-f-19000100",1,63,"","",1,63,"","","0000","0000","f","19000100",1900,"01","00"]
["","",null,null,null,null,null,null,null,null,null,null,null,null,null,null,"",{"$f":"IF(YEAR(L81)>1900,Einstellungen!$C$10-YEAR(L81),\"---\")","v":"---"},"0000-0000-f-19000100",1,64,"","",1,64,"","","0000","0000","f","19000100",1900,"01","00"]
["","",null,null,null,null,null,null,null,null,null,null,null,null,null,null,{"$f":"IF(LEN(D82)>0,IF(P82=\"x\",\"\",\"x\"),\"\")","v":""},{"$f":"IF(YEAR(L82)>1900,Einstellungen!$C$10-YEAR(L82),\"---\")","v":"---"},"0000-0000-f-19000100",1,65,"","",{"$f":"IF(LEN(C82)>0, 0, T82)","v":1},65,"","","0000","0000","f","19000100",{"$f":"YEAR(L82)","v":1900},{"$f":"IF(MONTH(L82)<10,\"0\"&MONTH(L82),MONTH(L82))","v":"01"},{"$f":"IF(DAY(L82)<10,\"0\"&DAY(L82),DAY(L82))","v":"00"}]
["","",null,null,null,null,null,null,null,null,null,null,null,null,null,null,"",{"$f":"IF(YEAR(L83)>1900,Einstellungen!$C$10-YEAR(L83),\"---\")","v":"---"},{"$f":"AB83 & \"-\" & AC83 & \"-\" & AD83 & \"-\" & AE83","v":"0000-0000-f-19000100"},{"$f":"IF(R83<=$AE$12,1,0)","v":1},{"$f":"IF(T83=1,U82+1,U82)","v":66},{"$f":"IF((M83+N83)>0,IF(T83=1,U83,\"-\"),\"\")","v":""},{"$f":"Z83 & AA83","v":""},1,{"$f":"Y82+X83","v":66},{"$f":"IF(X83=1,IF(Y83<=$Z$12,\"Q\",\"\"),\"\")","v":""},{"$f":"IF(X83=1, IF(Y83>$Z$12, IF(Y83<=($Z$12+$AA$12),\"R\",\"\"),\"\"), \"\")","v":""},{"$f":"IF(M83<1,\"0000\", IF(M83<10,\"000\"&M83, IF(M83<100,\"00\"&M83, IF(M83<1000,\"0\"&M83,\"\"& M83))))","v":"0000"},{"$f":"IF(N83<1,\"0000\", IF(N83<10,\"000\"&N83, IF(N83<100,\"00\"&N83, IF(N83<1000,\"0\"&N83,\"\"& N83))))","v":"0000"},{"$f":"IF(O83=\"a\",\"a\",\"f\")","v":"f"},{"$f":"AF83&AG83&AH83","v":"19000100"},1900,"01","00"]
["","",null,null,null,null,null,null,null,null,null,null,null,null,null,null,"",{"$f":"IF(YEAR(L84)>1900,Einstellungen!$C$10-YEAR(L84),\"---\")","v":"---"},"0000-0000-f-19000100",1,67,"","",1,67,"","","0000","0000","f","19000100",1900,"01","00"]
["","",null,null,null,null,null,null,null,null,null,null,null,null,null,null,"",{"$f":"IF(YEAR(L85)>1900,Einstellungen!$C$10-YEAR(L85),\"---\")","v":"---"},"0000-0000-f-19000100",1,68,"","",1,68,"","","0000","0000","f","19000100",1900,"01","00"]
["","",null,null,null,null,null,null,null,null,null,null,null,null,null,null,"",{"$f":"IF(YEAR(L86)>1900,Einstellungen!$C$10-YEAR(L86),\"---\")","v":"---"},"0000-0000-f-19000100",1,69,"","",1,69,"","","0000","0000","f","19000100",1900,"01","00"]
["","",null,null,null,null,null,null,null,null,null,null,null,null,null,null,"",{"$f":"IF(YEAR(L87)>1900,Einstellungen!$C$10-YEAR(L87),\"---\")","v":"---"},"0000-0000-f-19000100",1,70,"","",1,70,"","","0000","0000","f","19000100",1900,"01","00"]
["","",null,null,null,null,null,null,null,null,null,null,null,null,null,null,"",{"$f":"IF(YEAR(L88)>1900,Einstellungen!$C$10-YEAR(L88),\"---\")","v":"---"},"0000-0000-f-19000100",1,71,"","",1,71,"","","0000","0000","f","19000100",1900,"01","00"]
["","",null,null,null,null,null,null,null,null,null,null,null,null,null,null,"",{"$f":"IF(YEAR(L89)>1900,Einstellungen!$C$10-YEAR(L89),\"---\")","v":"---"},"0000-0000-f-19000100",1,72,"","",1,72,"","","0000","0000","f","19000100",1900,"01","00"]
["","",null,null,null,null,null,null,null,null,null,null,null,null,null,null,"",{"$f":"IF(YEAR(L90)>1900,Einstellungen!$C$10-YEAR(L90),\"---\")","v":"---"},"0000-0000-f-19000100",1,73,"","",1,73,"","","0000","0000","f","19000100",1900,"01","00"]
["","",null,null,null,null,null,null,null,null,null,null,null,null,null,null,"",{"$f":"IF(YEAR(L91)>1900,Einstellungen!$C$10-YEAR(L91),\"---\")","v":"---"},"0000-0000-f-19000100",1,74,"","",1,74,"","","0000","0000","f","19000100",1900,"01","00"]
["","",null,null,null,null,null,null,null,null,null,null,null,null,null,null,"",{"$f":"IF(YEAR(L92)>1900,Einstellungen!$C$10-YEAR(L92),\"---\")","v":"---"},"0000-0000-f-19000100",1,75,"","",1,75,"","","0000","0000","f","19000100",1900,"01","00"]
["","",null,null,null,null,null,null,null,null,null,null,null,null,null,null,"",{"$f":"IF(YEAR(L93)>1900,Einstellungen!$C$10-YEAR(L93),\"---\")","v":"---"},"0000-0000-f-19000100",1,76,"","",1,76,"","","0000","0000","f","19000100",1900,"01","00"]
["","",null,null,null,null,null,null,null,null,null,null,null,null,null,null,"",{"$f":"IF(YEAR(L94)>1900,Einstellungen!$C$10-YEAR(L94),\"---\")","v":"---"},"0000-0000-f-19000100",1,77,"","",1,77,"","","0000","0000","f","19000100",1900,"01","00"]
["","",null,null,null,null,null,null,null,null,null,null,null,null,null,null,"",{"$f":"IF(YEAR(L95)>1900,Einstellungen!$C$10-YEAR(L95),\"---\")","v":"---"},"0000-0000-f-19000100",1,78,"","",1,78,"","","0000","0000","f","19000100",1900,"01","00"]
["","",null,null,null,null,null,null,null,null,null,null,null,null,null,null,"",{"$f":"IF(YEAR(L96)>1900,Einstellungen!$C$10-YEAR(L96),\"---\")","v":"---"},"0000-0000-f-19000100",1,79,"","",1,79,"","","0000","0000","f","19000100",1900,"01","00"]
["","",null,null,null,null,null,null,null,null,null,null,null,null,null,null,"",{"$f":"IF(YEAR(L97)>1900,Einstellungen!$C$10-YEAR(L97),\"---\")","v":"---"},"0000-0000-f-19000100",1,80,"","",1,80,"","","0000","0000","f","19000100",1900,"01","00"]
["","",null,null,null,null,null,null,null,null,null,null,null,null,null,null,"",{"$f":"IF(YEAR(L98)>1900,Einstellungen!$C$10-YEAR(L98),\"---\")","v":"---"},"0000-0000-f-19000100",1,81,"","",1,81,"","","0000","0000","f","19000100",1900,"01","00"]
["","",null,null,null,null,null,null,null,null,null,null,null,null,null,null,"",{"$f":"IF(YEAR(L99)>1900,Einstellungen!$C$10-YEAR(L99),\"---\")","v":"---"},"0000-0000-f-19000100",1,82,"","",1,82,"","","0000","0000","f","19000100",1900,"01","00"]
["","",null,null,null,null,null,null,null,null,null,null,null,null,null,null,"",{"$f":"IF(YEAR(L100)>1900,Einstellungen!$C$10-YEAR(L100),\"---\")","v":"---"},"0000-0000-f-19000100",1,83,"","",1,83,"","","0000","0000","f","19000100",1900,"01","00"]
["","",null,null,null,null,null,null,null,null,null,null,null,null,null,null,"",{"$f":"IF(YEAR(L101)>1900,Einstellungen!$C$10-YEAR(L101),\"---\")","v":"---"},"0000-0000-f-19000100",1,84,"","",1,84,"","","0000","0000","f","19000100",1900,"01","00"]
["","",null,null,null,null,null,null,null,null,null,null,null,null,null,null,"",{"$f":"IF(YEAR(L102)>1900,Einstellungen!$C$10-YEAR(L102),\"---\")","v":"---"},"0000-0000-f-19000100",1,85,"","",1,85,"","","0000","0000","f","19000100",1900,"01","00"]
["","",null,null,null,null,null,null,null,null,null,null,null,null,null,null,"",{"$f":"IF(YEAR(L103)>1900,Einstellungen!$C$10-YEAR(L103),\"---\")","v":"---"},"0000-0000-f-19000100",1,86,"","",1,86,"","","0000","0000","f","19000100",1900,"01","00"]
["","",null,null,null,null,null,null,null,null,null,null,null,null,null,null,"",{"$f":"IF(YEAR(L104)>1900,Einstellungen!$C$10-YEAR(L104),\"---\")","v":"---"},"0000-0000-f-19000100",1,87,"","",1,87,"","","0000","0000","f","19000100",1900,"01","00"]
["","",null,null,null,null,null,null,null,null,null,null,null,null,null,null,"",{"$f":"IF(YEAR(L105)>1900,Einstellungen!$C$10-YEAR(L105),\"---\")","v":"---"},"0000-0000-f-19000100",1,88,"","",1,88,"","","0000","0000","f","19000100",1900,"01","00"]
["","",null,null,null,null,null,null,null,null,null,null,null,null,null,null,"",{"$f":"IF(YEAR(L106)>1900,Einstellungen!$C$10-YEAR(L106),\"---\")","v":"---"},"0000-0000-f-19000100",1,89,"","",1,89,"","","0000","0000","f","19000100",1900,"01","00"]
["","",null,null,null,null,null,null,null,null,null,null,null,null,null,null,"",{"$f":"IF(YEAR(L107)>1900,Einstellungen!$C$10-YEAR(L107),\"---\")","v":"---"},"0000-0000-f-19000100",1,90,"","",1,90,"","","0000","0000","f","19000100",1900,"01","00"]
["","",null,null,null,null,null,null,null,null,null,null,null,null,null,null,"",{"$f":"IF(YEAR(L108)>1900,Einstellungen!$C$10-YEAR(L108),\"---\")","v":"---"},"0000-0000-f-19000100",1,91,"","",1,91,"","","0000","0000","f","19000100",1900,"01","00"]
["","",null,null,null,null,null,null,null,null,null,null,null,null,null,null,"",{"$f":"IF(YEAR(L109)>1900,Einstellungen!$C$10-YEAR(L109),\"---\")","v":"---"},"0000-0000-f-19000100",1,92,"","",1,92,"","","0000","0000","f","19000100",1900,"01","00"]
["","",null,null,null,null,null,null,null,null,null,null,null,null,null,null,"",{"$f":"IF(YEAR(L110)>1900,Einstellungen!$C$10-YEAR(L110),\"---\")","v":"---"},"0000-0000-f-19000100",1,93,"","",1,93,"","","0000","0000","f","19000100",1900,"01","00"]
["","",null,null,null,null,null,null,null,null,null,null,null,null,null,null,"",{"$f":"IF(YEAR(L111)>1900,Einstellungen!$C$10-YEAR(L111),\"---\")","v":"---"},"0000-0000-f-19000100",1,94,"","",1,94,"","","0000","0000","f","19000100",1900,"01","00"]
["","",null,null,null,null,null,null,null,null,null,null,null,null,null,null,"",{"$f":"IF(YEAR(L112)>1900,Einstellungen!$C$10-YEAR(L112),\"---\")","v":"---"},"0000-0000-f-19000100",1,95,"","",1,95,"","","0000","0000","f","19000100",1900,"01","00"]
["","",null,null,null,null,null,null,null,null,null,null,null,null,null,null,"",{"$f":"IF(YEAR(L113)>1900,Einstellungen!$C$10-YEAR(L113),\"---\")","v":"---"},"0000-0000-f-19000100",1,96,"","",1,96,"","","0000","0000","f","19000100",1900,"01","00"]
["","",null,null,null,null,null,null,null,null,null,null,null,null,null,null,"",{"$f":"IF(YEAR(L114)>1900,Einstellungen!$C$10-YEAR(L114),\"---\")","v":"---"},"0000-0000-f-19000100",1,97,"","",1,97,"","","0000","0000","f","19000100",1900,"01","00"]
["","",null,null,null,null,null,null,null,null,null,null,null,null,null,null,"",{"$f":"IF(YEAR(L115)>1900,Einstellungen!$C$10-YEAR(L115),\"---\")","v":"---"},"0000-0000-f-19000100",1,98,"","",1,98,"","","0000","0000","f","19000100",1900,"01","00"]
["","",null,null,null,null,null,null,null,null,null,null,null,null,null,null,"",{"$f":"IF(YEAR(L116)>1900,Einstellungen!$C$10-YEAR(L116),\"---\")","v":"---"},"0000-0000-f-19000100",1,99,"","",1,99,"","","0000","0000","f","19000100",1900,"01","00"]
["","",null,null,null,null,null,null,null,null,null,null,null,null,null,null,"",{"$f":"IF(YEAR(L117)>1900,Einstellungen!$C$10-YEAR(L117),\"---\")","v":"---"},"0000-0000-f-19000100",1,100,"","",1,100,"","","0000","0000","f","19000100",1900,"01","00"]
["","",null,null,null,null,null,null,null,null,null,null,null,null,null,null,"",{"$f":"IF(YEAR(L118)>1900,Einstellungen!$C$10-YEAR(L118),\"---\")","v":"---"},"0000-0000-f-19000100",1,101,"","",1,101,"","","0000","0000","f","19000100",1900,"01","00"]
["","",null,null,null,null,null,null,null,null,null,null,null,null,null,null,"",{"$f":"IF(YEAR(L119)>1900,Einstellungen!$C$10-YEAR(L119),\"---\")","v":"---"},"0000-0000-f-19000100",1,102,"","",1,102,"","","0000","0000","f","19000100",1900,"01","00"]
["","",null,null,null,null,null,null,null,null,null,null,null,null,null,null,"",{"$f":"IF(YEAR(L120)>1900,Einstellungen!$C$10-YEAR(L120),\"---\")","v":"---"},"0000-0000-f-19000100",1,103,"","",1,103,"","","0000","0000","f","19000100",1900,"01","00"]
["","",null,null,null,null,null,null,null,null,null,null,null,null,null,null,"",{"$f":"IF(YEAR(L121)>1900,Einstellungen!$C$10-YEAR(L121),\"---\")","v":"---"},"0000-0000-f-19000100",1,104,"","",1,104,"","","0000","0000","f","19000100",1900,"01","00"]
["","",null,null,null,null,null,null,null,null,null,null,null,null,null,null,"",{"$f":"IF(YEAR(L122)>1900,Einstellungen!$C$10-YEAR(L122),\"---\")","v":"---"},"0000-0000-f-19000100",1,105,"","",1,105,"","","0000","0000","f","19000100",1900,"01","00"]
["","",null,null,null,null,null,null,null,null,null,null,null,null,null,null,"",{"$f":"IF(YEAR(L123)>1900,Einstellungen!$C$10-YEAR(L123),\"---\")","v":"---"},"0000-0000-f-19000100",1,106,"","",1,106,"","","0000","0000","f","19000100",1900,"01","00"]
["","",null,null,null,null,null,null,null,null,null,null,null,null,null,null,"",{"$f":"IF(YEAR(L124)>1900,Einstellungen!$C$10-YEAR(L124),\"---\")","v":"---"},"0000-0000-f-19000100",1,107,"","",1,107,"","","0000","0000","f","19000100",1900,"01","00"]
["","",null,null,null,null,null,null,null,null,null,null,null,null,null,null,"",{"$f":"IF(YEAR(L125)>1900,Einstellungen!$C$10-YEAR(L125),\"---\")","v":"---"},"0000-0000-f-19000100",1,108,"","",1,108,"","","0000","0000","f","19000100",1900,"01","00"]
["","",null,null,null,null,null,null,null,null,null,null,null,null,null,null,"",{"$f":"IF(YEAR(L126)>1900,Einstellungen!$C$10-YEAR(L126),\"---\")","v":"---"},"0000-0000-f-19000100",1,109,"","",1,109,"","","0000","0000","f","19000100",1900,"01","00"]
["","",null,null,null,null,null,null,null,null,null,null,null,null,null,null,"",{"$f":"IF(YEAR(L127)>1900,Einstellungen!$C$10-YEAR(L127),\"---\")","v":"---"},"0000-0000-f-19000100",1,110,"","",1,110,"","","0000","0000","f","19000100",1900,"01","00"]
["","",null,null,null,null,null,null,null,null,null,null,null,null,null,null,"",{"$f":"IF(YEAR(L128)>1900,Einstellungen!$C$10-YEAR(L128),\"---\")","v":"---"},"0000-0000-f-19000100",1,111,"","",1,111,"","","0000","0000","f","19000100",1900,"01","00"]
["","",null,null,null,null,null,null,null,null,null,null,null,null,null,null,"",{"$f":"IF(YEAR(L129)>1900,Einstellungen!$C$10-YEAR(L129),\"---\")","v":"---"},"0000-0000-f-19000100",1,112,"","",1,112,"","","0000","0000","f","19000100",1900,"01","00"]
["","",null,null,null,null,null,null,null,null,null,null,null,null,null,null,"",{"$f":"IF(YEAR(L130)>1900,Einstellungen!$C$10-YEAR(L130),\"---\")","v":"---"},"0000-0000-f-19000100",1,113,"","",1,113,"","","0000","0000","f","19000100",1900,"01","00"]
["","",null,null,null,null,null,null,null,null,null,null,null,null,null,null,"",{"$f":"IF(YEAR(L131)>1900,Einstellungen!$C$10-YEAR(L131),\"---\")","v":"---"},"0000-0000-f-19000100",1,114,"","",1,114,"","","0000","0000","f","19000100",1900,"01","00"]
["","",null,null,null,null,null,null,null,null,null,null,null,null,null,null,"",{"$f":"IF(YEAR(L132)>1900,Einstellungen!$C$10-YEAR(L132),\"---\")","v":"---"},"0000-0000-f-19000100",1,115,"","",1,115,"","","0000","0000","f","19000100",1900,"01","00"]
["","",null,null,null,null,null,null,null,null,null,null,null,null,null,null,"",{"$f":"IF(YEAR(L133)>1900,Einstellungen!$C$10-YEAR(L133),\"---\")","v":"---"},"0000-0000-f-19000100",1,116,"","",1,116,"","","0000","0000","f","19000100",1900,"01","00"]
["","",null,null,null,null,null,null,null,null,null,null,null,null,null,null,"",{"$f":"IF(YEAR(L134)>1900,Einstellungen!$C$10-YEAR(L134),\"---\")","v":"---"},"0000-0000-f-19000100",1,117,"","",1,117,"","","0000","0000","f","19000100",1900,"01","00"]
["","",null,null,null,null,null,null,null,null,null,null,null,null,null,null,"",{"$f":"IF(YEAR(L135)>1900,Einstellungen!$C$10-YEAR(L135),\"---\")","v":"---"},"0000-0000-f-19000100",1,118,"","",1,118,"","","0000","0000","f","19000100",1900,"01","00"]
["","",null,null,null,null,null,null,null,null,null,null,null,null,null,null,"",{"$f":"IF(YEAR(L136)>1900,Einstellungen!$C$10-YEAR(L136),\"---\")","v":"---"},"0000-0000-f-19000100",1,119,"","",1,119,"","","0000","0000","f","19000100",1900,"01","00"]
["","",null,null,null,null,null,null,null,null,null,null,null,null,null,null,"",{"$f":"IF(YEAR(L137)>1900,Einstellungen!$C$10-YEAR(L137),\"---\")","v":"---"},"0000-0000-f-19000100",1,120,"","",1,120,"","","0000","0000","f","19000100",1900,"01","00"]
["","",null,null,null,null,null,null,null,null,null,null,null,null,null,null,"",{"$f":"IF(YEAR(L138)>1900,Einstellungen!$C$10-YEAR(L138),\"---\")","v":"---"},"0000-0000-f-19000100",1,121,"","",1,121,"","","0000","0000","f","19000100",1900,"01","00"]
["","",null,null,null,null,null,null,null,null,null,null,null,null,null,null,"",{"$f":"IF(YEAR(L139)>1900,Einstellungen!$C$10-YEAR(L139),\"---\")","v":"---"},"0000-0000-f-19000100",1,122,"","",1,122,"","","0000","0000","f","19000100",1900,"01","00"]
["","",null,null,null,null,null,null,null,null,null,null,null,null,null,null,"",{"$f":"IF(YEAR(L140)>1900,Einstellungen!$C$10-YEAR(L140),\"---\")","v":"---"},"0000-0000-f-19000100",1,123,"","",1,123,"","","0000","0000","f","19000100",1900,"01","00"]
["","",null,null,null,null,null,null,null,null,null,null,null,null,null,null,"",{"$f":"IF(YEAR(L141)>1900,Einstellungen!$C$10-YEAR(L141),\"---\")","v":"---"},"0000-0000-f-19000100",1,124,"","",1,124,"","","0000","0000","f","19000100",1900,"01","00"]
["","",null,null,null,null,null,null,null,null,null,null,null,null,null,null,"",{"$f":"IF(YEAR(L142)>1900,Einstellungen!$C$10-YEAR(L142),\"---\")","v":"---"},"0000-0000-f-19000100",1,125,"","",1,125,"","","0000","0000","f","19000100",1900,"01","00"]
["","",null,null,null,null,null,null,null,null,null,null,null,null,null,null,"",{"$f":"IF(YEAR(L143)>1900,Einstellungen!$C$10-YEAR(L143),\"---\")","v":"---"},"0000-0000-f-19000100",1,126,"","",1,126,"","","0000","0000","f","19000100",1900,"01","00"]
["","",null,null,null,null,null,null,null,null,null,null,null,null,null,null,"",{"$f":"IF(YEAR(L144)>1900,Einstellungen!$C$10-YEAR(L144),\"---\")","v":"---"},"0000-0000-f-19000100",1,127,"","",1,127,"","","0000","0000","f","19000100",1900,"01","00"]
["","",null,null,null,null,null,null,null,null,null,null,null,null,null,null,"",{"$f":"IF(YEAR(L145)>1900,Einstellungen!$C$10-YEAR(L145),\"---\")","v":"---"},"0000-0000-f-19000100",1,128,"","",1,128,"","","0000","0000","f","19000100",1900,"01","00"]
["","",null,null,null,null,null,null,null,null,null,null,null,null,null,null,{"$f":"IF(LEN(D146)>0,IF(P146=\"x\",\"\",\"x\"),\"\")","v":""},{"$f":"IF(YEAR(L146)>1900,Einstellungen!$C$10-YEAR(L146),\"---\")","v":"---"},"0000-0000-f-19000100",1,129,"","",{"$f":"IF(LEN(C146)>0, 0, T146)","v":1},129,"","","0000","0000","f","19000100",{"$f":"YEAR(L146)","v":1900},{"$f":"IF(MONTH(L146)<10,\"0\"&MONTH(L146),MONTH(L146))","v":"01"},{"$f":"IF(DAY(L146)<10,\"0\"&DAY(L146),DAY(L146))","v":"00"}]
["","",null,null,null,null,null,null,null,null,null,null,null,null,null,null,"",{"$f":"IF(YEAR(L147)>1900,Einstellungen!$C$10-YEAR(L147),\"---\")","v":"---"},{"$f":"AB147 & \"-\" & AC147 & \"-\" & AD147 & \"-\" & AE147","v":"0000-0000-f-19000100"},{"$f":"IF(R147<=$AE$12,1,0)","v":1},{"$f":"IF(T147=1,U146+1,U146)","v":130},{"$f":"IF((M147+N147)>0,IF(T147=1,U147,\"-\"),\"\")","v":""},{"$f":"Z147 & AA147","v":""},1,{"$f":"Y146+X147","v":130},{"$f":"IF(X147=1,IF(Y147<=$Z$12,\"Q\",\"\"),\"\")","v":""},{"$f":"IF(X147=1, IF(Y147>$Z$12, IF(Y147<=($Z$12+$AA$12),\"R\",\"\"),\"\"), \"\")","v":""},{"$f":"IF(M147<1,\"0000\", IF(M147<10,\"000\"&M147, IF(M147<100,\"00\"&M147, IF(M147<1000,\"0\"&M147,\"\"& M147))))","v":"0000"},{"$f":"IF(N147<1,\"0000\", IF(N147<10,\"000\"&N147, IF(N147<100,\"00\"&N147, IF(N147<1000,\"0\"&N147,\"\"& N147))))","v":"0000"},{"$f":"IF(O147=\"a\",\"a\",\"f\")","v":"f"},{"$f":"AF147&AG147&AH147","v":"19000100"},1900,"01","00"]
["","",null,null,null,null,null,null,null,null,null,null,null,null,null,null,"",{"$f":"IF(YEAR(L148)>1900,Einstellungen!$C$10-YEAR(L148),\"---\")","v":"---"},"0000-0000-f-19000100",1,131,"","",1,131,"","","0000","0000","f","19000100",1900,"01","00"]
["","",null,null,null,null,null,null,null,null,null,null,null,null,null,null,"",{"$f":"IF(YEAR(L149)>1900,Einstellungen!$C$10-YEAR(L149),\"---\")","v":"---"},"0000-0000-f-19000100",1,132,"","",1,132,"","","0000","0000","f","19000100",1900,"01","00"]
["","",null,null,null,null,null,null,null,null,null,null,null,null,null,null,"",{"$f":"IF(YEAR(L150)>1900,Einstellungen!$C$10-YEAR(L150),\"---\")","v":"---"},"0000-0000-f-19000100",1,133,"","",1,133,"","","0000","0000","f","19000100",1900,"01","00"]
["","",null,null,null,null,null,null,null,null,null,null,null,null,null,null,"",{"$f":"IF(YEAR(L151)>1900,Einstellungen!$C$10-YEAR(L151),\"---\")","v":"---"},"0000-0000-f-19000100",1,134,"","",1,134,"","","0000","0000","f","19000100",1900,"01","00"]
["","",null,null,null,null,null,null,null,null,null,null,null,null,null,null,"",{"$f":"IF(YEAR(L152)>1900,Einstellungen!$C$10-YEAR(L152),\"---\")","v":"---"},"0000-0000-f-19000100",1,135,"","",1,135,"","","0000","0000","f","19000100",1900,"01","00"]
["","",null,null,null,null,null,null,null,null,null,null,null,null,null,null,"",{"$f":"IF(YEAR(L153)>1900,Einstellungen!$C$10-YEAR(L153),\"---\")","v":"---"},"0000-0000-f-19000100",1,136,"","",1,136,"","","0000","0000","f","19000100",1900,"01","00"]
["","",null,null,null,null,null,null,null,null,null,null,null,null,null,null,"",{"$f":"IF(YEAR(L154)>1900,Einstellungen!$C$10-YEAR(L154),\"---\")","v":"---"},"0000-0000-f-19000100",1,137,"","",1,137,"","","0000","0000","f","19000100",1900,"01","00"]
["","",null,null,null,null,null,null,null,null,null,null,null,null,null,null,"",{"$f":"IF(YEAR(L155)>1900,Einstellungen!$C$10-YEAR(L155),\"---\")","v":"---"},"0000-0000-f-19000100",1,138,"","",1,138,"","","0000","0000","f","19000100",1900,"01","00"]
["","",null,null,null,null,null,null,null,null,null,null,null,null,null,null,"",{"$f":"IF(YEAR(L156)>1900,Einstellungen!$C$10-YEAR(L156),\"---\")","v":"---"},"0000-0000-f-19000100",1,139,"","",1,139,"","","0000","0000","f","19000100",1900,"01","00"]
["","",null,null,null,null,null,null,null,null,null,null,null,null,null,null,"",{"$f":"IF(YEAR(L157)>1900,Einstellungen!$C$10-YEAR(L157),\"---\")","v":"---"},"0000-0000-f-19000100",1,140,"","",1,140,"","","0000","0000","f","19000100",1900,"01","00"]
["","",null,null,null,null,null,null,null,null,null,null,null,null,null,null,"",{"$f":"IF(YEAR(L158)>1900,Einstellungen!$C$10-YEAR(L158),\"---\")","v":"---"},"0000-0000-f-19000100",1,141,"","",1,141,"","","0000","0000","f","19000100",1900,"01","00"]
["","",null,null,null,null,null,null,null,null,null,null,null,null,null,null,"",{"$f":"IF(YEAR(L159)>1900,Einstellungen!$C$10-YEAR(L159),\"---\")","v":"---"},"0000-0000-f-19000100",1,142,"","",1,142,"","","0000","0000","f","19000100",1900,"01","00"]
["","",null,null,null,null,null,null,null,null,null,null,null,null,null,null,"",{"$f":"IF(YEAR(L160)>1900,Einstellungen!$C$10-YEAR(L160),\"---\")","v":"---"},"0000-0000-f-19000100",1,143,"","",1,143,"","","0000","0000","f","19000100",1900,"01","00"]
["","",null,null,null,null,null,null,null,null,null,null,null,null,null,null,"",{"$f":"IF(YEAR(L161)>1900,Einstellungen!$C$10-YEAR(L161),\"---\")","v":"---"},"0000-0000-f-19000100",1,144,"","",1,144,"","","0000","0000","f","19000100",1900,"01","00"]
["","",null,null,null,null,null,null,null,null,null,null,null,null,null,null,"",{"$f":"IF(YEAR(L162)>1900,Einstellungen!$C$10-YEAR(L162),\"---\")","v":"---"},"0000-0000-f-19000100",1,145,"","",1,145,"","","0000","0000","f","19000100",1900,"01","00"]
["","",null,null,null,null,null,null,null,null,null,null,null,null,null,null,"",{"$f":"IF(YEAR(L163)>1900,Einstellungen!$C$10-YEAR(L163),\"---\")","v":"---"},"0000-0000-f-19000100",1,146,"","",1,146,"","","0000","0000","f","19000100",1900,"01","00"]
["","",null,null,null,null,null,null,null,null,null,null,null,null,null,null,"",{"$f":"IF(YEAR(L164)>1900,Einstellungen!$C$10-YEAR(L164),\"---\")","v":"---"},"0000-0000-f-19000100",1,147,"","",1,147,"","","0000","0000","f","19000100",1900,"01","00"]
["","",null,null,null,null,null,null,null,null,null,null,null,null,null,null,"",{"$f":"IF(YEAR(L165)>1900,Einstellungen!$C$10-YEAR(L165),\"---\")","v":"---"},"0000-0000-f-19000100",1,148,"","",1,148,"","","0000","0000","f","19000100",1900,"01","00"]
["","",null,null,null,null,null,null,null,null,null,null,null,null,null,null,"",{"$f":"IF(YEAR(L166)>1900,Einstellungen!$C$10-YEAR(L166),\"---\")","v":"---"},"0000-0000-f-19000100",1,149,"","",1,149,"","","0000","0000","f","19000100",1900,"01","00"]
["","",null,null,null,null,null,null,null,null,null,null,null,null,null,null,"",{"$f":"IF(YEAR(L167)>1900,Einstellungen!$C$10-YEAR(L167),\"---\")","v":"---"},"0000-0000-f-19000100",1,150,"","",1,150,"","","0000","0000","f","19000100",1900,"01","00"]
["","",null,null,null,null,null,null,null,null,null,null,null,null,null,null,"",{"$f":"IF(YEAR(L168)>1900,Einstellungen!$C$10-YEAR(L168),\"---\")","v":"---"},"0000-0000-f-19000100",1,151,"","",1,151,"","","0000","0000","f","19000100",1900,"01","00"]
["","",null,null,null,null,null,null,null,null,null,null,null,null,null,null,"",{"$f":"IF(YEAR(L169)>1900,Einstellungen!$C$10-YEAR(L169),\"---\")","v":"---"},"0000-0000-f-19000100",1,152,"","",1,152,"","","0000","0000","f","19000100",1900,"01","00"]
["","",null,null,null,null,null,null,null,null,null,null,null,null,null,null,"",{"$f":"IF(YEAR(L170)>1900,Einstellungen!$C$10-YEAR(L170),\"---\")","v":"---"},"0000-0000-f-19000100",1,153,"","",1,153,"","","0000","0000","f","19000100",1900,"01","00"]
["","",null,null,null,null,null,null,null,null,null,null,null,null,null,null,"",{"$f":"IF(YEAR(L171)>1900,Einstellungen!$C$10-YEAR(L171),\"---\")","v":"---"},"0000-0000-f-19000100",1,154,"","",1,154,"","","0000","0000","f","19000100",1900,"01","00"]
["","",null,null,null,null,null,null,null,null,null,null,null,null,null,null,"",{"$f":"IF(YEAR(L172)>1900,Einstellungen!$C$10-YEAR(L172),\"---\")","v":"---"},"0000-0000-f-19000100",1,155,"","",1,155,"","","0000","0000","f","19000100",1900,"01","00"]
["","",null,null,null,null,null,null,null,null,null,null,null,null,null,null,"",{"$f":"IF(YEAR(L173)>1900,Einstellungen!$C$10-YEAR(L173),\"---\")","v":"---"},"0000-0000-f-19000100",1,156,"","",1,156,"","","0000","0000","f","19000100",1900,"01","00"]
["","",null,null,null,null,null,null,null,null,null,null,null,null,null,null,"",{"$f":"IF(YEAR(L174)>1900,Einstellungen!$C$10-YEAR(L174),\"---\")","v":"---"},"0000-0000-f-19000100",1,157,"","",1,157,"","","0000","0000","f","19000100",1900,"01","00"]
["","",null,null,null,null,null,null,null,null,null,null,null,null,null,null,"",{"$f":"IF(YEAR(L175)>1900,Einstellungen!$C$10-YEAR(L175),\"---\")","v":"---"},"0000-0000-f-19000100",1,158,"","",1,158,"","","0000","0000","f","19000100",1900,"01","00"]
["","",null,null,null,null,null,null,null,null,null,null,null,null,null,null,"",{"$f":"IF(YEAR(L176)>1900,Einstellungen!$C$10-YEAR(L176),\"---\")","v":"---"},"0000-0000-f-19000100",1,159,"","",1,159,"","","0000","0000","f","19000100",1900,"01","00"]
["","",null,null,null,null,null,null,null,null,null,null,null,null,null,null,"",{"$f":"IF(YEAR(L177)>1900,Einstellungen!$C$10-YEAR(L177),\"---\")","v":"---"},"0000-0000-f-19000100",1,160,"","",1,160,"","","0000","0000","f","19000100",1900,"01","00"]
["","",null,null,null,null,null,null,null,null,null,null,null,null,null,null,"",{"$f":"IF(YEAR(L178)>1900,Einstellungen!$C$10-YEAR(L178),\"---\")","v":"---"},"0000-0000-f-19000100",1,161,"","",1,161,"","","0000","0000","f","19000100",1900,"01","00"]
["","",null,null,null,null,null,null,null,null,null,null,null,null,null,null,"",{"$f":"IF(YEAR(L179)>1900,Einstellungen!$C$10-YEAR(L179),\"---\")","v":"---"},"0000-0000-f-19000100",1,162,"","",1,162,"","","0000","0000","f","19000100",1900,"01","00"]
["","",null,null,null,null,null,null,null,null,null,null,null,null,null,null,"",{"$f":"IF(YEAR(L180)>1900,Einstellungen!$C$10-YEAR(L180),\"---\")","v":"---"},"0000-0000-f-19000100",1,163,"","",1,163,"","","0000","0000","f","19000100",1900,"01","00"]
["","",null,null,null,null,null,null,null,null,null,null,null,null,null,null,"",{"$f":"IF(YEAR(L181)>1900,Einstellungen!$C$10-YEAR(L181),\"---\")","v":"---"},"0000-0000-f-19000100",1,164,"","",1,164,"","","0000","0000","f","19000100",1900,"01","00"]
["","",null,null,null,null,null,null,null,null,null,null,null,null,null,null,"",{"$f":"IF(YEAR(L182)>1900,Einstellungen!$C$10-YEAR(L182),\"---\")","v":"---"},"0000-0000-f-19000100",1,165,"","",1,165,"","","0000","0000","f","19000100",1900,"01","00"]
["","",null,null,null,null,null,null,null,null,null,null,null,null,null,null,"",{"$f":"IF(YEAR(L183)>1900,Einstellungen!$C$10-YEAR(L183),\"---\")","v":"---"},"0000-0000-f-19000100",1,166,"","",1,166,"","","0000","0000","f","19000100",1900,"01","00"]
["","",null,null,null,null,null,null,null,null,null,null,null,null,null,null,"",{"$f":"IF(YEAR(L184)>1900,Einstellungen!$C$10-YEAR(L184),\"---\")","v":"---"},"0000-0000-f-19000100",1,167,"","",1,167,"","","0000","0000","f","19000100",1900,"01","00"]
["","",null,null,null,null,null,null,null,null,null,null,null,null,null,null,"",{"$f":"IF(YEAR(L185)>1900,Einstellungen!$C$10-YEAR(L185),\"---\")","v":"---"},"0000-0000-f-19000100",1,168,"","",1,168,"","","0000","0000","f","19000100",1900,"01","00"]
["","",null,null,null,null,null,null,null,null,null,null,null,null,null,null,"",{"$f":"IF(YEAR(L186)>1900,Einstellungen!$C$10-YEAR(L186),\"---\")","v":"---"},"0000-0000-f-19000100",1,169,"","",1,169,"","","0000","0000","f","19000100",1900,"01","00"]
["","",null,null,null,null,null,null,null,null,null,null,null,null,null,null,"",{"$f":"IF(YEAR(L187)>1900,Einstellungen!$C$10-YEAR(L187),\"---\")","v":"---"},"0000-0000-f-19000100",1,170,"","",1,170,"","","0000","0000","f","19000100",1900,"01","00"]
["","",null,null,null,null,null,null,null,null,null,null,null,null,null,null,"",{"$f":"IF(YEAR(L188)>1900,Einstellungen!$C$10-YEAR(L188),\"---\")","v":"---"},"0000-0000-f-19000100",1,171,"","",1,171,"","","0000","0000","f","19000100",1900,"01","00"]
["","",null,null,null,null,null,null,null,null,null,null,null,null,null,null,"",{"$f":"IF(YEAR(L189)>1900,Einstellungen!$C$10-YEAR(L189),\"---\")","v":"---"},"0000-0000-f-19000100",1,172,"","",1,172,"","","0000","0000","f","19000100",1900,"01","00"]
["","",null,null,null,null,null,null,null,null,null,null,null,null,null,null,"",{"$f":"IF(YEAR(L190)>1900,Einstellungen!$C$10-YEAR(L190),\"---\")","v":"---"},"0000-0000-f-19000100",1,173,"","",1,173,"","","0000","0000","f","19000100",1900,"01","00"]
["","",null,null,null,null,null,null,null,null,null,null,null,null,null,null,"",{"$f":"IF(YEAR(L191)>1900,Einstellungen!$C$10-YEAR(L191),\"---\")","v":"---"},"0000-0000-f-19000100",1,174,"","",1,174,"","","0000","0000","f","19000100",1900,"01","00"]
["","",null,null,null,null,null,null,null,null,null,null,null,null,null,null,"",{"$f":"IF(YEAR(L192)>1900,Einstellungen!$C$10-YEAR(L192),\"---\")","v":"---"},"0000-0000-f-19000100",1,175,"","",1,175,"","","0000","0000","f","19000100",1900,"01","00"]
["","",null,null,null,null,null,null,null,null,null,null,null,null,null,null,"",{"$f":"IF(YEAR(L193)>1900,Einstellungen!$C$10-YEAR(L193),\"---\")","v":"---"},"0000-0000-f-19000100",1,176,"","",1,176,"","","0000","0000","f","19000100",1900,"01","00"]
["","",null,null,null,null,null,null,null,null,null,null,null,null,null,null,"",{"$f":"IF(YEAR(L194)>1900,Einstellungen!$C$10-YEAR(L194),\"---\")","v":"---"},"0000-0000-f-19000100",1,177,"","",1,177,"","","0000","0000","f","19000100",1900,"01","00"]
["","",null,null,null,null,null,null,null,null,null,null,null,null,null,null,"",{"$f":"IF(YEAR(L195)>1900,Einstellungen!$C$10-YEAR(L195),\"---\")","v":"---"},"0000-0000-f-19000100",1,178,"","",1,178,"","","0000","0000","f","19000100",1900,"01","00"]
["","",null,null,null,null,null,null,null,null,null,null,null,null,null,null,"",{"$f":"IF(YEAR(L196)>1900,Einstellungen!$C$10-YEAR(L196),\"---\")","v":"---"},"0000-0000-f-19000100",1,179,"","",1,179,"","","0000","0000","f","19000100",1900,"01","00"]
["","",null,null,null,null,null,null,null,null,null,null,null,null,null,null,"",{"$f":"IF(YEAR(L197)>1900,Einstellungen!$C$10-YEAR(L197),\"---\")","v":"---"},"0000-0000-f-19000100",1,180,"","",1,180,"","","0000","0000","f","19000100",1900,"01","00"]
["","",null,null,null,null,null,null,null,null,null,null,null,null,null,null,"",{"$f":"IF(YEAR(L198)>1900,Einstellungen!$C$10-YEAR(L198),\"---\")","v":"---"},"0000-0000-f-19000100",1,181,"","",1,181,"","","0000","0000","f","19000100",1900,"01","00"]
["","",null,null,null,null,null,null,null,null,null,null,null,null,null,null,"",{"$f":"IF(YEAR(L199)>1900,Einstellungen!$C$10-YEAR(L199),\"---\")","v":"---"},"0000-0000-f-19000100",1,182,"","",1,182,"","","0000","0000","f","19000100",1900,"01","00"]
["","",null,null,null,null,null,null,null,null,null,null,null,null,null,null,"",{"$f":"IF(YEAR(L200)>1900,Einstellungen!$C$10-YEAR(L200),\"---\")","v":"---"},"0000-0000-f-19000100",1,183,"","",1,183,"","","0000","0000","f","19000100",1900,"01","00"]
["","",null,null,null,null,null,null,null,null,null,null,null,null,null,null,"",{"$f":"IF(YEAR(L201)>1900,Einstellungen!$C$10-YEAR(L201),\"---\")","v":"---"},"0000-0000-f-19000100",1,184,"","",1,184,"","","0000","0000","f","19000100",1900,"01","00"]
["","",null,null,null,null,null,null,null,null,null,null,null,null,null,null,"",{"$f":"IF(YEAR(L202)>1900,Einstellungen!$C$10-YEAR(L202),\"---\")","v":"---"},"0000-0000-f-19000100",1,185,"","",1,185,"","","0000","0000","f","19000100",1900,"01","00"]
["","",null,null,null,null,null,null,null,null,null,null,null,null,null,null,"",{"$f":"IF(YEAR(L203)>1900,Einstellungen!$C$10-YEAR(L203),\"---\")","v":"---"},"0000-0000-f-19000100",1,186,"","",1,186,"","","0000","0000","f","19000100",1900,"01","00"]
["","",null,null,null,null,null,null,null,null,null,null,null,null,null,null,"",{"$f":"IF(YEAR(L204)>1900,Einstellungen!$C$10-YEAR(L204),\"---\")","v":"---"},"0000-0000-f-19000100",1,187,"","",1,187,"","","0000","0000","f","19000100",1900,"01","00"]
["","",null,null,null,null,null,null,null,null,null,null,null,null,null,null,"",{"$f":"IF(YEAR(L205)>1900,Einstellungen!$C$10-YEAR(L205),\"---\")","v":"---"},"0000-0000-f-19000100",1,188,"","",1,188,"","","0000","0000","f","19000100",1900,"01","00"]
["","",null,null,null,null,null,null,null,null,null,null,null,null,null,null,"",{"$f":"IF(YEAR(L206)>1900,Einstellungen!$C$10-YEAR(L206),\"---\")","v":"---"},"0000-0000-f-19000100",1,189,"","",1,189,"","","0000","0000","f","19000100",1900,"01","00"]
["","",null,null,null,null,null,null,null,null,null,null,null,null,null,null,"",{"$f":"IF(YEAR(L207)>1900,Einstellungen!$C$10-YEAR(L207),\"---\")","v":"---"},"0000-0000-f-19000100",1,190,"","",1,190,"","","0000","0000","f","19000100",1900,"01","00"]
["","",null,null,null,null,null,null,null,null,null,null,null,null,null,null,"",{"$f":"IF(YEAR(L208)>1900,Einstellungen!$C$10-YEAR(L208),\"---\")","v":"---"},"0000-0000-f-19000100",1,191,"","",1,191,"","","0000","0000","f","19000100",1900,"01","00"]
["","",null,null,null,null,null,null,null,null,null,null,null,null,null,null,"",{"$f":"IF(YEAR(L209)>1900,Einstellungen!$C$10-YEAR(L209),\"---\")","v":"---"},"0000-0000-f-19000100",1,192,"","",1,192,"","","0000","0000","f","19000100",1900,"01","00"]
["","",null,null,null,null,null,null,null,null,null,null,null,null,null,null,{"$f":"IF(LEN(D210)>0,IF(P210=\"x\",\"\",\"x\"),\"\")","v":""},{"$f":"IF(YEAR(L210)>1900,Einstellungen!$C$10-YEAR(L210),\"---\")","v":"---"},"0000-0000-f-19000100",1,193,"","",{"$f":"IF(LEN(C210)>0, 0, T210)","v":1},193,"","","0000","0000","f","19000100",{"$f":"YEAR(L210)","v":1900},{"$f":"IF(MONTH(L210)<10,\"0\"&MONTH(L210),MONTH(L210))","v":"01"},{"$f":"IF(DAY(L210)<10,\"0\"&DAY(L210),DAY(L210))","v":"00"}]
["","",null,null,null,null,null,null,null,null,null,null,null,null,null,null,"",{"$f":"IF(YEAR(L211)>1900,Einstellungen!$C$10-YEAR(L211),\"---\")","v":"---"},{"$f":"AB211 & \"-\" & AC211 & \"-\" & AD211 & \"-\" & AE211","v":"0000-0000-f-19000100"},{"$f":"IF(R211<=$AE$12,1,0)","v":1},{"$f":"IF(T211=1,U210+1,U210)","v":194},{"$f":"IF((M211+N211)>0,IF(T211=1,U211,\"-\"),\"\")","v":""},{"$f":"Z211 & AA211","v":""},1,{"$f":"Y210+X211","v":194},{"$f":"IF(X211=1,IF(Y211<=$Z$12,\"Q\",\"\"),\"\")","v":""},{"$f":"IF(X211=1, IF(Y211>$Z$12, IF(Y211<=($Z$12+$AA$12),\"R\",\"\"),\"\"), \"\")","v":""},{"$f":"IF(M211<1,\"0000\", IF(M211<10,\"000\"&M211, IF(M211<100,\"00\"&M211, IF(M211<1000,\"0\"&M211,\"\"& M211))))","v":"0000"},{"$f":"IF(N211<1,\"0000\", IF(N211<10,\"000\"&N211, IF(N211<100,\"00\"&N211, IF(N211<1000,\"0\"&N211,\"\"& N211))))","v":"0000"},{"$f":"IF(O211=\"a\",\"a\",\"f\")","v":"f"},{"$f":"AF211&AG211&AH211","v":"19000100"},1900,"01","00"]
["","",null,null,null,null,null,null,null,null,null,null,null,null,null,null,"",{"$f":"IF(YEAR(L212)>1900,Einstellungen!$C$10-YEAR(L212),\"---\")","v":"---"},"0000-0000-f-19000100",1,195,"","",1,195,"","","0000","0000","f","19000100",1900,"01","00"]
["","",null,null,null,null,null,null,null,null,null,null,null,null,null,null,"",{"$f":"IF(YEAR(L213)>1900,Einstellungen!$C$10-YEAR(L213),\"---\")","v":"---"},"0000-0000-f-19000100",1,196,"","",1,196,"","","0000","0000","f","19000100",1900,"01","00"]
["","",null,null,null,null,null,null,null,null,null,null,null,null,null,null,"",{"$f":"IF(YEAR(L214)>1900,Einstellungen!$C$10-YEAR(L214),\"---\")","v":"---"},"0000-0000-f-19000100",1,197,"","",1,197,"","","0000","0000","f","19000100",1900,"01","00"]
["","",null,null,null,null,null,null,null,null,null,null,null,null,null,null,"",{"$f":"IF(YEAR(L215)>1900,Einstellungen!$C$10-YEAR(L215),\"---\")","v":"---"},"0000-0000-f-19000100",1,198,"","",1,198,"","","0000","0000","f","19000100",1900,"01","00"]
["","",null,null,null,null,null,null,null,null,null,null,null,null,null,null,"",{"$f":"IF(YEAR(L216)>1900,Einstellungen!$C$10-YEAR(L216),\"---\")","v":"---"},"0000-0000-f-19000100",1,199,"","",1,199,"","","0000","0000","f","19000100",1900,"01","00"]
["","",null,null,null,null,null,null,null,null,null,null,null,null,null,null,"",{"$f":"IF(YEAR(L217)>1900,Einstellungen!$C$10-YEAR(L217),\"---\")","v":"---"},"0000-0000-f-19000100",1,200,"","",1,200,"","","0000","0000","f","19000100",1900,"01","00"]
["","",null,null,null,null,null,null,null,null,null,null,null,null,null,null,"",{"$f":"IF(YEAR(L218)>1900,Einstellungen!$C$10-YEAR(L218),\"---\")","v":"---"},"0000-0000-f-19000100",1,201,"","",1,201,"","","0000","0000","f","19000100",1900,"01","00"]
["","",null,null,null,null,null,null,null,null,null,null,null,null,null,null,"",{"$f":"IF(YEAR(L219)>1900,Einstellungen!$C$10-YEAR(L219),\"---\")","v":"---"},"0000-0000-f-19000100",1,202,"","",1,202,"","","0000","0000","f","19000100",1900,"01","00"]
["","",null,null,null,null,null,null,null,null,null,null,null,null,null,null,"",{"$f":"IF(YEAR(L220)>1900,Einstellungen!$C$10-YEAR(L220),\"---\")","v":"---"},"0000-0000-f-19000100",1,203,"","",1,203,"","","0000","0000","f","19000100",1900,"01","00"]
["","",null,null,null,null,null,null,null,null,null,null,null,null,null,null,"",{"$f":"IF(YEAR(L221)>1900,Einstellungen!$C$10-YEAR(L221),\"---\")","v":"---"},"0000-0000-f-19000100",1,204,"","",1,204,"","","0000","0000","f","19000100",1900,"01","00"]
["","",null,null,null,null,null,null,null,null,null,null,null,null,null,null,"",{"$f":"IF(YEAR(L222)>1900,Einstellungen!$C$10-YEAR(L222),\"---\")","v":"---"},"0000-0000-f-19000100",1,205,"","",1,205,"","","0000","0000","f","19000100",1900,"01","00"]
["","",null,null,null,null,null,null,null,null,null,null,null,null,null,null,"",{"$f":"IF(YEAR(L223)>1900,Einstellungen!$C$10-YEAR(L223),\"---\")","v":"---"},"0000-0000-f-19000100",1,206,"","",1,206,"","","0000","0000","f","19000100",1900,"01","00"]
["","",null,null,null,null,null,null,null,null,null,null,null,null,null,null,"",{"$f":"IF(YEAR(L224)>1900,Einstellungen!$C$10-YEAR(L224),\"---\")","v":"---"},"0000-0000-f-19000100",1,207,"","",1,207,"","","0000","0000","f","19000100",1900,"01","00"]
["","",null,null,null,null,null,null,null,null,null,null,null,null,null,null,"",{"$f":"IF(YEAR(L225)>1900,Einstellungen!$C$10-YEAR(L225),\"---\")","v":"---"},"0000-0000-f-19000100",1,208,"","",1,208,"","","0000","0000","f","19000100",1900,"01","00"]
["","",null,null,null,null,null,null,null,null,null,null,null,null,null,null,"",{"$f":"IF(YEAR(L226)>1900,Einstellungen!$C$10-YEAR(L226),\"---\")","v":"---"},"0000-0000-f-19000100",1,209,"","",1,209,"","","0000","0000","f","19000100",1900,"01","00"]
["","",null,null,null,null,null,null,null,null,null,null,null,null,null,null,"",{"$f":"IF(YEAR(L227)>1900,Einstellungen!$C$10-YEAR(L227),\"---\")","v":"---"},"0000-0000-f-19000100",1,210,"","",1,210,"","","0000","0000","f","19000100",1900,"01","00"]
["","",null,null,null,null,null,null,null,null,null,null,null,null,null,null,"",{"$f":"IF(YEAR(L228)>1900,Einstellungen!$C$10-YEAR(L228),\"---\")","v":"---"},"0000-0000-f-19000100",1,211,"","",1,211,"","","0000","0000","f","19000100",1900,"01","00"]
["","",null,null,null,null,null,null,null,null,null,null,null,null,null,null,"",{"$f":"IF(YEAR(L229)>1900,Einstellungen!$C$10-YEAR(L229),\"---\")","v":"---"},"0000-0000-f-19000100",1,212,"","",1,212,"","","0000","0000","f","19000100",1900,"01","00"]
["","",null,null,null,null,null,null,null,null,null,null,null,null,null,null,"",{"$f":"IF(YEAR(L230)>1900,Einstellungen!$C$10-YEAR(L230),\"---\")","v":"---"},"0000-0000-f-19000100",1,213,"","",1,213,"","","0000","0000","f","19000100",1900,"01","00"]
["","",null,null,null,null,null,null,null,null,null,null,null,null,null,null,"",{"$f":"IF(YEAR(L231)>1900,Einstellungen!$C$10-YEAR(L231),\"---\")","v":"---"},"0000-0000-f-19000100",1,214,"","",1,214,"","","0000","0000","f","19000100",1900,"01","00"]
["","",null,null,null,null,null,null,null,null,null,null,null,null,null,null,"",{"$f":"IF(YEAR(L232)>1900,Einstellungen!$C$10-YEAR(L232),\"---\")","v":"---"},"0000-0000-f-19000100",1,215,"","",1,215,"","","0000","0000","f","19000100",1900,"01","00"]
["","",null,null,null,null,null,null,null,null,null,null,null,null,null,null,"",{"$f":"IF(YEAR(L233)>1900,Einstellungen!$C$10-YEAR(L233),\"---\")","v":"---"},"0000-0000-f-19000100",1,216,"","",1,216,"","","0000","0000","f","19000100",1900,"01","00"]
["","",null,null,null,null,null,null,null,null,null,null,null,null,null,null,"",{"$f":"IF(YEAR(L234)>1900,Einstellungen!$C$10-YEAR(L234),\"---\")","v":"---"},"0000-0000-f-19000100",1,217,"","",1,217,"","","0000","0000","f","19000100",1900,"01","00"]
["","",null,null,null,null,null,null,null,null,null,null,null,null,null,null,"",{"$f":"IF(YEAR(L235)>1900,Einstellungen!$C$10-YEAR(L235),\"---\")","v":"---"},"0000-0000-f-19000100",1,218,"","",1,218,"","","0000","0000","f","19000100",1900,"01","00"]
["","",null,null,null,null,null,null,null,null,null,null,null,null,null,null,"",{"$f":"IF(YEAR(L236)>1900,Einstellungen!$C$10-YEAR(L236),\"---\")","v":"---"},"0000-0000-f-19000100",1,219,"","",1,219,"","","0000","0000","f","19000100",1900,"01","00"]
["","",null,null,null,null,null,null,null,null,null,null,null,null,null,null,"",{"$f":"IF(YEAR(L237)>1900,Einstellungen!$C$10-YEAR(L237),\"---\")","v":"---"},"0000-0000-f-19000100",1,220,"","",1,220,"","","0000","0000","f","19000100",1900,"01","00"]
["","",null,null,null,null,null,null,null,null,null,null,null,null,null,null,"",{"$f":"IF(YEAR(L238)>1900,Einstellungen!$C$10-YEAR(L238),\"---\")","v":"---"},"0000-0000-f-19000100",1,221,"","",1,221,"","","0000","0000","f","19000100",1900,"01","00"]
["","",null,null,null,null,null,null,null,null,null,null,null,null,null,null,"",{"$f":"IF(YEAR(L239)>1900,Einstellungen!$C$10-YEAR(L239),\"---\")","v":"---"},"0000-0000-f-19000100",1,222,"","",1,222,"","","0000","0000","f","19000100",1900,"01","00"]
["","",null,null,null,null,null,null,null,null,null,null,null,null,null,null,"",{"$f":"IF(YEAR(L240)>1900,Einstellungen!$C$10-YEAR(L240),\"---\")","v":"---"},"0000-0000-f-19000100",1,223,"","",1,223,"","","0000","0000","f","19000100",1900,"01","00"]
["","",null,null,null,null,null,null,null,null,null,null,null,null,null,null,"",{"$f":"IF(YEAR(L241)>1900,Einstellungen!$C$10-YEAR(L241),\"---\")","v":"---"},"0000-0000-f-19000100",1,224,"","",1,224,"","","0000","0000","f","19000100",1900,"01","00"]
["","",null,null,null,null,null,null,null,null,null,null,null,null,null,null,"",{"$f":"IF(YEAR(L242)>1900,Einstellungen!$C$10-YEAR(L242),\"---\")","v":"---"},"0000-0000-f-19000100",1,225,"","",1,225,"","","0000","0000","f","19000100",1900,"01","00"]
["","",null,null,null,null,null,null,null,null,null,null,null,null,null,null,"",{"$f":"IF(YEAR(L243)>1900,Einstellungen!$C$10-YEAR(L243),\"---\")","v":"---"},"0000-0000-f-19000100",1,226,"","",1,226,"","","0000","0000","f","19000100",1900,"01","00"]
["","",null,null,null,null,null,null,null,null,null,null,null,null,null,null,"",{"$f":"IF(YEAR(L244)>1900,Einstellungen!$C$10-YEAR(L244),\"---\")","v":"---"},"0000-0000-f-19000100",1,227,"","",1,227,"","","0000","0000","f","19000100",1900,"01","00"]
["","",null,null,null,null,null,null,null,null,null,null,null,null,null,null,"",{"$f":"IF(YEAR(L245)>1900,Einstellungen!$C$10-YEAR(L245),\"---\")","v":"---"},"0000-0000-f-19000100",1,228,"","",1,228,"","","0000","0000","f","19000100",1900,"01","00"]
["","",null,null,null,null,null,null,null,null,null,null,null,null,null,null,"",{"$f":"IF(YEAR(L246)>1900,Einstellungen!$C$10-YEAR(L246),\"---\")","v":"---"},"0000-0000-f-19000100",1,229,"","",1,229,"","","0000","0000","f","19000100",1900,"01","00"]
["","",null,null,null,null,null,null,null,null,null,null,null,null,null,null,"",{"$f":"IF(YEAR(L247)>1900,Einstellungen!$C$10-YEAR(L247),\"---\")","v":"---"},"0000-0000-f-19000100",1,230,"","",1,230,"","","0000","0000","f","19000100",1900,"01","00"]
["","",null,null,null,null,null,null,null,null,null,null,null,null,null,null,"",{"$f":"IF(YEAR(L248)>1900,Einstellungen!$C$10-YEAR(L248),\"---\")","v":"---"},"0000-0000-f-19000100",1,231,"","",1,231,"","","0000","0000","f","19000100",1900,"01","00"]
["","",null,null,null,null,null,null,null,null,null,null,null,null,null,null,"",{"$f":"IF(YEAR(L249)>1900,Einstellungen!$C$10-YEAR(L249),\"---\")","v":"---"},"0000-0000-f-19000100",1,232,"","",1,232,"","","0000","0000","f","19000100",1900,"01","00"]
["","",null,null,null,null,null,null,null,null,null,null,null,null,null,null,"",{"$f":"IF(YEAR(L250)>1900,Einstellungen!$C$10-YEAR(L250),\"---\")","v":"---"},"0000-0000-f-19000100",1,233,"","",1,233,"","","0000","0000","f","19000100",1900,"01","00"]
["","",null,null,null,null,null,null,null,null,null,null,null,null,null,null,"",{"$f":"IF(YEAR(L251)>1900,Einstellungen!$C$10-YEAR(L251),\"---\")","v":"---"},"0000-0000-f-19000100",1,234,"","",1,234,"","","0000","0000","f","19000100",1900,"01","00"]
["","",null,null,null,null,null,null,null,null,null,null,null,null,null,null,"",{"$f":"IF(YEAR(L252)>1900,Einstellungen!$C$10-YEAR(L252),\"---\")","v":"---"},"0000-0000-f-19000100",1,235,"","",1,235,"","","0000","0000","f","19000100",1900,"01","00"]
["","",null,null,null,null,null,null,null,null,null,null,null,null,null,null,"",{"$f":"IF(YEAR(L253)>1900,Einstellungen!$C$10-YEAR(L253),\"---\")","v":"---"},"0000-0000-f-19000100",1,236,"","",1,236,"","","0000","0000","f","19000100",1900,"01","00"]
["","",null,null,null,null,null,null,null,null,null,null,null,null,null,null,"",{"$f":"IF(YEAR(L254)>1900,Einstellungen!$C$10-YEAR(L254),\"---\")","v":"---"},"0000-0000-f-19000100",1,237,"","",1,237,"","","0000","0000","f","19000100",1900,"01","00"]
["","",null,null,null,null,null,null,null,null,null,null,null,null,null,null,"",{"$f":"IF(YEAR(L255)>1900,Einstellungen!$C$10-YEAR(L255),\"---\")","v":"---"},"0000-0000-f-19000100",1,238,"","",1,238,"","","0000","0000","f","19000100",1900,"01","00"]
["","",null,null,null,null,null,null,null,null,null,null,null,null,null,null,"",{"$f":"IF(YEAR(L256)>1900,Einstellungen!$C$10-YEAR(L256),\"---\")","v":"---"},"0000-0000-f-19000100",1,239,"","",1,239,"","","0000","0000","f","19000100",1900,"01","00"]
["","",null,null,null,null,null,null,null,null,null,null,null,null,null,null,"",{"$f":"IF(YEAR(L257)>1900,Einstellungen!$C$10-YEAR(L257),\"---\")","v":"---"},"0000-0000-f-19000100",1,240,"","",1,240,"","","0000","0000","f","19000100",1900,"01","00"]
["","",null,null,null,null,null,null,null,null,null,null,null,null,null,null,"",{"$f":"IF(YEAR(L258)>1900,Einstellungen!$C$10-YEAR(L258),\"---\")","v":"---"},"0000-0000-f-19000100",1,241,"","",1,241,"","","0000","0000","f","19000100",1900,"01","00"]
["","",null,null,null,null,null,null,null,null,null,null,null,null,null,null,"",{"$f":"IF(YEAR(L259)>1900,Einstellungen!$C$10-YEAR(L259),\"---\")","v":"---"},"0000-0000-f-19000100",1,242,"","",1,242,"","","0000","0000","f","19000100",1900,"01","00"]
["","",null,null,null,null,null,null,null,null,null,null,null,null,null,null,"",{"$f":"IF(YEAR(L260)>1900,Einstellungen!$C$10-YEAR(L260),\"---\")","v":"---"},"0000-0000-f-19000100",1,243,"","",1,243,"","","0000","0000","f","19000100",1900,"01","00"]
["","",null,null,null,null,null,null,null,null,null,null,null,null,null,null,"",{"$f":"IF(YEAR(L261)>1900,Einstellungen!$C$10-YEAR(L261),\"---\")","v":"---"},"0000-0000-f-19000100",1,244,"","",1,244,"","","0000","0000","f","19000100",1900,"01","00"]
["","",null,null,null,null,null,null,null,null,null,null,null,null,null,null,"",{"$f":"IF(YEAR(L262)>1900,Einstellungen!$C$10-YEAR(L262),\"---\")","v":"---"},"0000-0000-f-19000100",1,245,"","",1,245,"","","0000","0000","f","19000100",1900,"01","00"]
["","",null,null,null,null,null,null,null,null,null,null,null,null,null,null,"",{"$f":"IF(YEAR(L263)>1900,Einstellungen!$C$10-YEAR(L263),\"---\")","v":"---"},"0000-0000-f-19000100",1,246,"","",1,246,"","","0000","0000","f","19000100",1900,"01","00"]
["","",null,null,null,null,null,null,null,null,null,null,null,null,null,null,"",{"$f":"IF(YEAR(L264)>1900,Einstellungen!$C$10-YEAR(L264),\"---\")","v":"---"},"0000-0000-f-19000100",1,247,"","",1,247,"","","0000","0000","f","19000100",1900,"01","00"]
["","",null,null,null,null,null,null,null,null,null,null,null,null,null,null,"",{"$f":"IF(YEAR(L265)>1900,Einstellungen!$C$10-YEAR(L265),\"---\")","v":"---"},"0000-0000-f-19000100",1,248,"","",1,248,"","","0000","0000","f","19000100",1900,"01","00"]
["","",null,null,null,null,null,null,null,null,null,null,null,null,null,null,"",{"$f":"IF(YEAR(L266)>1900,Einstellungen!$C$10-YEAR(L266),\"---\")","v":"---"},"0000-0000-f-19000100",1,249,"","",1,249,"","","0000","0000","f","19000100",1900,"01","00"]
["","",null,null,null,null,null,null,null,null,null,null,null,null,null,null,"",{"$f":"IF(YEAR(L267)>1900,Einstellungen!$C$10-YEAR(L267),\"---\")","v":"---"},"0000-0000-f-19000100",1,250,"","",1,250,"","","0000","0000","f","19000100",1900,"01","00"]
["","",null,null,null,null,null,null,null,null,null,null,null,null,null,null,"",{"$f":"IF(YEAR(L268)>1900,Einstellungen!$C$10-YEAR(L268),\"---\")","v":"---"},"0000-0000-f-19000100",1,251,"","",1,251,"","","0000","0000","f","19000100",1900,"01","00"]
["","",null,null,null,null,null,null,null,null,null,null,null,null,null,null,"",{"$f":"IF(YEAR(L269)>1900,Einstellungen!$C$10-YEAR(L269),\"---\")","v":"---"},"0000-0000-f-19000100",1,252,"","",1,252,"","","0000","0000","f","19000100",1900,"01","00"]
["","",null,null,null,null,null,null,null,null,null,null,null,null,null,null,"",{"$f":"IF(YEAR(L270)>1900,Einstellungen!$C$10-YEAR(L270),\"---\")","v":"---"},"0000-0000-f-19000100",1,253,"","",1,253,"","","0000","0000","f","19000100",1900,"01","00"]
["","",null,null,null,null,null,null,null,null,null,null,null,null,null,null,"",{"$f":"IF(YEAR(L271)>1900,Einstellungen!$C$10-YEAR(L271),\"---\")","v":"---"},"0000-0000-f-19000100",1,254,"","",1,254,"","","0000","0000","f","19000100",1900,"01","00"]
["","",null,null,null,null,null,null,null,null,null,null,null,null,null,null,"",{"$f":"IF(YEAR(L272)>1900,Einstellungen!$C$10-YEAR(L272),\"---\")","v":"---"},"0000-0000-f-19000100",1,255,"","",1,255,"","","0000","0000","f","19000100",1900,"01","00"]
["","",null,null,null,null,null,null,null,null,null,null,null,null,null,null,"",{"$f":"IF(YEAR(L273)>1900,Einstellungen!$C$10-YEAR(L273),\"---\")","v":"---"},"0000-0000-f-19000100",1,256,"","",1,256,"","","0000","0000","f","19000100",1900,"01","00"]
["","",null,null,null,null,null,null,null,null,null,null,null,null,null,null,{"$f":"IF(LEN(D274)>0,IF(P274=\"x\",\"\",\"x\"),\"\")","v":""},{"$f":"IF(YEAR(L274)>1900,Einstellungen!$C$10-YEAR(L274),\"---\")","v":"---"},"0000-0000-f-19000100",1,257,"","",{"$f":"IF(LEN(C274)>0, 0, T274)","v":1},257,"","","0000","0000","f","19000100",{"$f":"YEAR(L274)","v":1900},{"$f":"IF(MONTH(L274)<10,\"0\"&MONTH(L274),MONTH(L274))","v":"01"},{"$f":"IF(DAY(L274)<10,\"0\"&DAY(L274),DAY(L274))","v":"00"}]
["","",null,null,null,null,null,null,null,null,null,null,null,null,null,null,"",{"$f":"IF(YEAR(L275)>1900,Einstellungen!$C$10-YEAR(L275),\"---\")","v":"---"},{"$f":"AB275 & \"-\" & AC275 & \"-\" & AD275 & \"-\" & AE275","v":"0000-0000-f-19000100"},{"$f":"IF(R275<=$AE$12,1,0)","v":1},{"$f":"IF(T275=1,U274+1,U274)","v":258},{"$f":"IF((M275+N275)>0,IF(T275=1,U275,\"-\"),\"\")","v":""},{"$f":"Z275 & AA275","v":""},1,{"$f":"Y274+X275","v":258},{"$f":"IF(X275=1,IF(Y275<=$Z$12,\"Q\",\"\"),\"\")","v":""},{"$f":"IF(X275=1, IF(Y275>$Z$12, IF(Y275<=($Z$12+$AA$12),\"R\",\"\"),\"\"), \"\")","v":""},{"$f":"IF(M275<1,\"0000\", IF(M275<10,\"000\"&M275, IF(M275<100,\"00\"&M275, IF(M275<1000,\"0\"&M275,\"\"& M275))))","v":"0000"},{"$f":"IF(N275<1,\"0000\", IF(N275<10,\"000\"&N275, IF(N275<100,\"00\"&N275, IF(N275<1000,\"0\"&N275,\"\"& N275))))","v":"0000"},{"$f":"IF(O275=\"a\",\"a\",\"f\")","v":"f"},{"$f":"AF275&AG275&AH275","v":"19000100"},1900,"01","00"]
["","",null,null,null,null,null,null,null,null,null,null,null,null,null,null,"",{"$f":"IF(YEAR(L276)>1900,Einstellungen!$C$10-YEAR(L276),\"---\")","v":"---"},"0000-0000-f-19000100",1,259,"","",1,259,"","","0000","0000","f","19000100",1900,"01","00"]
["","",null,null,null,null,null,null,null,null,null,null,null,null,null,null,"",{"$f":"IF(YEAR(L277)>1900,Einstellungen!$C$10-YEAR(L277),\"---\")","v":"---"},"0000-0000-f-19000100",1,260,"","",1,260,"","","0000","0000","f","19000100",1900,"01","00"]
["","",null,null,null,null,null,null,null,null,null,null,null,null,null,null,"",{"$f":"IF(YEAR(L278)>1900,Einstellungen!$C$10-YEAR(L278),\"---\")","v":"---"},"0000-0000-f-19000100",1,261,"","",1,261,"","","0000","0000","f","19000100",1900,"01","00"]
["","",null,null,null,null,null,null,null,null,null,null,null,null,null,null,"",{"$f":"IF(YEAR(L279)>1900,Einstellungen!$C$10-YEAR(L279),\"---\")","v":"---"},"0000-0000-f-19000100",1,262,"","",1,262,"","","0000","0000","f","19000100",1900,"01","00"]
["","",null,null,null,null,null,null,null,null,null,null,null,null,null,null,"",{"$f":"IF(YEAR(L280)>1900,Einstellungen!$C$10-YEAR(L280),\"---\")","v":"---"},"0000-0000-f-19000100",1,263,"","",1,263,"","","0000","0000","f","19000100",1900,"01","00"]
["","",null,null,null,null,null,null,null,null,null,null,null,null,null,null,"",{"$f":"IF(YEAR(L281)>1900,Einstellungen!$C$10-YEAR(L281),\"---\")","v":"---"},"0000-0000-f-19000100",1,264,"","",1,264,"","","0000","0000","f","19000100",1900,"01","00"]
["","",null,null,null,null,null,null,null,null,null,null,null,null,null,null,"",{"$f":"IF(YEAR(L282)>1900,Einstellungen!$C$10-YEAR(L282),\"---\")","v":"---"},"0000-0000-f-19000100",1,265,"","",1,265,"","","0000","0000","f","19000100",1900,"01","00"]
["","",null,null,null,null,null,null,null,null,null,null,null,null,null,null,"",{"$f":"IF(YEAR(L283)>1900,Einstellungen!$C$10-YEAR(L283),\"---\")","v":"---"},"0000-0000-f-19000100",1,266,"","",1,266,"","","0000","0000","f","19000100",1900,"01","00"]
["","",null,null,null,null,null,null,null,null,null,null,null,null,null,null,"",{"$f":"IF(YEAR(L284)>1900,Einstellungen!$C$10-YEAR(L284),\"---\")","v":"---"},"0000-0000-f-19000100",1,267,"","",1,267,"","","0000","0000","f","19000100",1900,"01","00"]
["","",null,null,null,null,null,null,null,null,null,null,null,null,null,null,"",{"$f":"IF(YEAR(L285)>1900,Einstellungen!$C$10-YEAR(L285),\"---\")","v":"---"},"0000-0000-f-19000100",1,268,"","",1,268,"","","0000","0000","f","19000100",1900,"01","00"]
["","",null,null,null,null,null,null,null,null,null,null,null,null,null,null,"",{"$f":"IF(YEAR(L286)>1900,Einstellungen!$C$10-YEAR(L286),\"---\")","v":"---"},"0000-0000-f-19000100",1,269,"","",1,269,"","","0000","0000","f","19000100",1900,"01","00"]
["","",null,null,null,null,null,null,null,null,null,null,null,null,null,null,"",{"$f":"IF(YEAR(L287)>1900,Einstellungen!$C$10-YEAR(L287),\"---\")","v":"---"},"0000-0000-f-19000100",1,270,"","",1,270,"","","0000","0000","f","19000100",1900,"01","00"]
["","",null,null,null,null,null,null,null,null,null,null,null,null,null,null,"",{"$f":"IF(YEAR(L288)>1900,Einstellungen!$C$10-YEAR(L288),\"---\")","v":"---"},"0000-0000-f-19000100",1,271,"","",1,271,"","","0000","0000","f","19000100",1900,"01","00"]
["","",null,null,null,null,null,null,null,null,null,null,null,null,null,null,"",{"$f":"IF(YEAR(L289)>1900,Einstellungen!$C$10-YEAR(L289),\"---\")","v":"---"},"0000-0000-f-19000100",1,272,"","",1,272,"","","0000","0000","f","19000100",1900,"01","00"]
["","",null,null,null,null,null,null,null,null,null,null,null,null,null,null,"",{"$f":"IF(YEAR(L290)>1900,Einstellungen!$C$10-YEAR(L290),\"---\")","v":"---"},"0000-0000-f-19000100",1,273,"","",1,273,"","","0000","0000","f","19000100",1900,"01","00"]
["","",null,null,null,null,null,null,null,null,null,null,null,null,null,null,"",{"$f":"IF(YEAR(L291)>1900,Einstellungen!$C$10-YEAR(L291),\"---\")","v":"---"},"0000-0000-f-19000100",1,274,"","",1,274,"","","0000","0000","f","19000100",1900,"01","00"]
["","",null,null,null,null,null,null,null,null,null,null,null,null,null,null,"",{"$f":"IF(YEAR(L292)>1900,Einstellungen!$C$10-YEAR(L292),\"---\")","v":"---"},"0000-0000-f-19000100",1,275,"","",1,275,"","","0000","0000","f","19000100",1900,"01","00"]
["","",null,null,null,null,null,null,null,null,null,null,null,null,null,null,"",{"$f":"IF(YEAR(L293)>1900,Einstellungen!$C$10-YEAR(L293),\"---\")","v":"---"},"0000-0000-f-19000100",1,276,"","",1,276,"","","0000","0000","f","19000100",1900,"01","00"]
["","",null,null,null,null,null,null,null,null,null,null,null,null,null,null,"",{"$f":"IF(YEAR(L294)>1900,Einstellungen!$C$10-YEAR(L294),\"---\")","v":"---"},"0000-0000-f-19000100",1,277,"","",1,277,"","","0000","0000","f","19000100",1900,"01","00"]
["","",null,null,null,null,null,null,null,null,null,null,null,null,null,null,"",{"$f":"IF(YEAR(L295)>1900,Einstellungen!$C$10-YEAR(L295),\"---\")","v":"---"},"0000-0000-f-19000100",1,278,"","",1,278,"","","0000","0000","f","19000100",1900,"01","00"]
["","",null,null,null,null,null,null,null,null,null,null,null,null,null,null,"",{"$f":"IF(YEAR(L296)>1900,Einstellungen!$C$10-YEAR(L296),\"---\")","v":"---"},"0000-0000-f-19000100",1,279,"","",1,279,"","","0000","0000","f","19000100",1900,"01","00"]
["","",null,null,null,null,null,null,null,null,null,null,null,null,null,null,"",{"$f":"IF(YEAR(L297)>1900,Einstellungen!$C$10-YEAR(L297),\"---\")","v":"---"},"0000-0000-f-19000100",1,280,"","",1,280,"","","0000","0000","f","19000100",1900,"01","00"]
["","",null,null,null,null,null,null,null,null,null,null,null,null,null,null,"",{"$f":"IF(YEAR(L298)>1900,Einstellungen!$C$10-YEAR(L298),\"---\")","v":"---"},"0000-0000-f-19000100",1,281,"","",1,281,"","","0000","0000","f","19000100",1900,"01","00"]
["","",null,null,null,null,null,null,null,null,null,null,null,null,null,null,"",{"$f":"IF(YEAR(L299)>1900,Einstellungen!$C$10-YEAR(L299),\"---\")","v":"---"},"0000-0000-f-19000100",1,282,"","",1,282,"","","0000","0000","f","19000100",1900,"01","00"]
["","",null,null,null,null,null,null,null,null,null,null,null,null,null,null,"",{"$f":"IF(YEAR(L300)>1900,Einstellungen!$C$10-YEAR(L300),\"---\")","v":"---"},"0000-0000-f-19000100",1,283,"","",1,283,"","","0000","0000","f","19000100",1900,"01","00"]
["","",null,null,null,null,null,null,null,null,null,null,null,null,null,null,"",{"$f":"IF(YEAR(L301)>1900,Einstellungen!$C$10-YEAR(L301),\"---\")","v":"---"},"0000-0000-f-19000100",1,284,"","",1,284,"","","0000","0000","f","19000100",1900,"01","00"]
["","",null,null,null,null,null,null,null,null,null,null,null,null,null,null,"",{"$f":"IF(YEAR(L302)>1900,Einstellungen!$C$10-YEAR(L302),\"---\")","v":"---"},"0000-0000-f-19000100",1,285,"","",1,285,"","","0000","0000","f","19000100",1900,"01","00"]
["","",null,null,null,null,null,null,null,null,null,null,null,null,null,null,"",{"$f":"IF(YEAR(L303)>1900,Einstellungen!$C$10-YEAR(L303),\"---\")","v":"---"},"0000-0000-f-19000100",1,286,"","",1,286,"","","0000","0000","f","19000100",1900,"01","00"]
["","",null,null,null,null,null,null,null,null,null,null,null,null,null,null,"",{"$f":"IF(YEAR(L304)>1900,Einstellungen!$C$10-YEAR(L304),\"---\")","v":"---"},"0000-0000-f-19000100",1,287,"","",1,287,"","","0000","0000","f","19000100",1900,"01","00"]
["","",null,null,null,null,null,null,null,null,null,null,null,null,null,null,"",{"$f":"IF(YEAR(L305)>1900,Einstellungen!$C$10-YEAR(L305),\"---\")","v":"---"},"0000-0000-f-19000100",1,288,"","",1,288,"","","0000","0000","f","19000100",1900,"01","00"]
["","",null,null,null,null,null,null,null,null,null,null,null,null,null,null,"",{"$f":"IF(YEAR(L306)>1900,Einstellungen!$C$10-YEAR(L306),\"---\")","v":"---"},"0000-0000-f-19000100",1,289,"","",1,289,"","","0000","0000","f","19000100",1900,"01","00"]
["","",null,null,null,null,null,null,null,null,null,null,null,null,null,null,"",{"$f":"IF(YEAR(L307)>1900,Einstellungen!$C$10-YEAR(L307),\"---\")","v":"---"},"0000-0000-f-19000100",1,290,"","",1,290,"","","0000","0000","f","19000100",1900,"01","00"]
["","",null,null,null,null,null,null,null,null,null,null,null,null,null,null,"",{"$f":"IF(YEAR(L308)>1900,Einstellungen!$C$10-YEAR(L308),\"---\")","v":"---"},"0000-0000-f-19000100",1,291,"","",1,291,"","","0000","0000","f","19000100",1900,"01","00"]
["","",null,null,null,null,null,null,null,null,null,null,null,null,null,null,"",{"$f":"IF(YEAR(L309)>1900,Einstellungen!$C$10-YEAR(L309),\"---\")","v":"---"},"0000-0000-f-19000100",1,292,"","",1,292,"","","0000","0000","f","19000100",1900,"01","00"]
["","",null,null,null,null,null,null,null,null,null,null,null,null,null,null,"",{"$f":"IF(YEAR(L310)>1900,Einstellungen!$C$10-YEAR(L310),\"---\")","v":"---"},"0000-0000-f-19000100",1,293,"","",1,293,"","","0000","0000","f","19000100",1900,"01","00"]
["","",null,null,null,null,null,null,null,null,null,null,null,null,null,null,"",{"$f":"IF(YEAR(L311)>1900,Einstellungen!$C$10-YEAR(L311),\"---\")","v":"---"},"0000-0000-f-19000100",1,294,"","",1,294,"","","0000","0000","f","19000100",1900,"01","00"]
["","",null,null,null,null,null,null,null,null,null,null,null,null,null,null,"",{"$f":"IF(YEAR(L312)>1900,Einstellungen!$C$10-YEAR(L312),\"---\")","v":"---"},"0000-0000-f-19000100",1,295,"","",1,295,"","","0000","0000","f","19000100",1900,"01","00"]
["","",null,null,null,null,null,null,null,null,null,null,null,null,null,null,"",{"$f":"IF(YEAR(L313)>1900,Einstellungen!$C$10-YEAR(L313),\"---\")","v":"---"},"0000-0000-f-19000100",1,296,"","",1,296,"","","0000","0000","f","19000100",1900,"01","00"]
["","",null,null,null,null,null,null,null,null,null,null,null,null,null,null,"",{"$f":"IF(YEAR(L314)>1900,Einstellungen!$C$10-YEAR(L314),\"---\")","v":"---"},"0000-0000-f-19000100",1,297,"","",1,297,"","","0000","0000","f","19000100",1900,"01","00"]
["","",null,null,null,null,null,null,null,null,null,null,null,null,null,null,"",{"$f":"IF(YEAR(L315)>1900,Einstellungen!$C$10-YEAR(L315),\"---\")","v":"---"},"0000-0000-f-19000100",1,298,"","",1,298,"","","0000","0000","f","19000100",1900,"01","00"]
["","",null,null,null,null,null,null,null,null,null,null,null,null,null,null,"",{"$f":"IF(YEAR(L316)>1900,Einstellungen!$C$10-YEAR(L316),\"---\")","v":"---"},"0000-0000-f-19000100",1,299,"","",1,299,"","","0000","0000","f","19000100",1900,"01","00"]
["","",null,null,null,null,null,null,null,null,null,null,null,null,null,null,"",{"$f":"IF(YEAR(L317)>1900,Einstellungen!$C$10-YEAR(L317),\"---\")","v":"---"},"0000-0000-f-19000100",1,300,"","",1,300,"","","0000","0000","f","19000100",1900,"01","00"]
["","",null,null,null,null,null,null,null,null,null,null,null,null,null,null,"",{"$f":"IF(YEAR(L318)>1900,Einstellungen!$C$10-YEAR(L318),\"---\")","v":"---"},"0000-0000-f-19000100",1,301,"","",1,301,"","","0000","0000","f","19000100",1900,"01","00"]
["","",null,null,null,null,null,null,null,null,null,null,null,null,null,null,"",{"$f":"IF(YEAR(L319)>1900,Einstellungen!$C$10-YEAR(L319),\"---\")","v":"---"},"0000-0000-f-19000100",1,302,"","",1,302,"","","0000","0000","f","19000100",1900,"01","00"]
["","",null,null,null,null,null,null,null,null,null,null,null,null,null,null,"",{"$f":"IF(YEAR(L320)>1900,Einstellungen!$C$10-YEAR(L320),\"---\")","v":"---"},"0000-0000-f-19000100",1,303,"","",1,303,"","","0000","0000","f","19000100",1900,"01","00"]
["","",null,null,null,null,null,null,null,null,null,null,null,null,null,null,"",{"$f":"IF(YEAR(L321)>1900,Einstellungen!$C$10-YEAR(L321),\"---\")","v":"---"},"0000-0000-f-19000100",1,304,"","",1,304,"","","0000","0000","f","19000100",1900,"01","00"]
["","",null,null,null,null,null,null,null,null,null,null,null,null,null,null,"",{"$f":"IF(YEAR(L322)>1900,Einstellungen!$C$10-YEAR(L322),\"---\")","v":"---"},"0000-0000-f-19000100",1,305,"","",1,305,"","","0000","0000","f","19000100",1900,"01","00"]
["","",null,null,null,null,null,null,null,null,null,null,null,null,null,null,"",{"$f":"IF(YEAR(L323)>1900,Einstellungen!$C$10-YEAR(L323),\"---\")","v":"---"},"0000-0000-f-19000100",1,306,"","",1,306,"","","0000","0000","f","19000100",1900,"01","00"]
["","",null,null,null,null,null,null,null,null,null,null,null,null,null,null,"",{"$f":"IF(YEAR(L324)>1900,Einstellungen!$C$10-YEAR(L324),\"---\")","v":"---"},"0000-0000-f-19000100",1,307,"","",1,307,"","","0000","0000","f","19000100",1900,"01","00"]
["","",null,null,null,null,null,null,null,null,null,null,null,null,null,null,"",{"$f":"IF(YEAR(L325)>1900,Einstellungen!$C$10-YEAR(L325),\"---\")","v":"---"},"0000-0000-f-19000100",1,308,"","",1,308,"","","0000","0000","f","19000100",1900,"01","00"]
["","",null,null,null,null,null,null,null,null,null,null,null,null,null,null,"",{"$f":"IF(YEAR(L326)>1900,Einstellungen!$C$10-YEAR(L326),\"---\")","v":"---"},"0000-0000-f-19000100",1,309,"","",1,309,"","","0000","0000","f","19000100",1900,"01","00"]
["","",null,null,null,null,null,null,null,null,null,null,null,null,null,null,"",{"$f":"IF(YEAR(L327)>1900,Einstellungen!$C$10-YEAR(L327),\"---\")","v":"---"},"0000-0000-f-19000100",1,310,"","",1,310,"","","0000","0000","f","19000100",1900,"01","00"]
["","",null,null,null,null,null,null,null,null,null,null,null,null,null,null,"",{"$f":"IF(YEAR(L328)>1900,Einstellungen!$C$10-YEAR(L328),\"---\")","v":"---"},"0000-0000-f-19000100",1,311,"","",1,311,"","","0000","0000","f","19000100",1900,"01","00"]
["","",null,null,null,null,null,null,null,null,null,null,null,null,null,null,"",{"$f":"IF(YEAR(L329)>1900,Einstellungen!$C$10-YEAR(L329),\"---\")","v":"---"},"0000-0000-f-19000100",1,312,"","",1,312,"","","0000","0000","f","19000100",1900,"01","00"]
["","",null,null,null,null,null,null,null,null,null,null,null,null,null,null,"",{"$f":"IF(YEAR(L330)>1900,Einstellungen!$C$10-YEAR(L330),\"---\")","v":"---"},"0000-0000-f-19000100",1,313,"","",1,313,"","","0000","0000","f","19000100",1900,"01","00"]
["","",null,null,null,null,null,null,null,null,null,null,null,null,null,null,"",{"$f":"IF(YEAR(L331)>1900,Einstellungen!$C$10-YEAR(L331),\"---\")","v":"---"},"0000-0000-f-19000100",1,314,"","",1,314,"","","0000","0000","f","19000100",1900,"01","00"]
["","",null,null,null,null,null,null,null,null,null,null,null,null,null,null,"",{"$f":"IF(YEAR(L332)>1900,Einstellungen!$C$10-YEAR(L332),\"---\")","v":"---"},"0000-0000-f-19000100",1,315,"","",1,315,"","","0000","0000","f","19000100",1900,"01","00"]
["","",null,null,null,null,null,null,null,null,null,null,null,null,null,null,"",{"$f":"IF(YEAR(L333)>1900,Einstellungen!$C$10-YEAR(L333),\"---\")","v":"---"},"0000-0000-f-19000100",1,316,"","",1,316,"","","0000","0000","f","19000100",1900,"01","00"]
["","",null,null,null,null,null,null,null,null,null,null,null,null,null,null,"",{"$f":"IF(YEAR(L334)>1900,Einstellungen!$C$10-YEAR(L334),\"---\")","v":"---"},"0000-0000-f-19000100",1,317,"","",1,317,"","","0000","0000","f","19000100",1900,"01","00"]
["","",null,null,null,null,null,null,null,null,null,null,null,null,null,null,"",{"$f":"IF(YEAR(L335)>1900,Einstellungen!$C$10-YEAR(L335),\"---\")","v":"---"},"0000-0000-f-19000100",1,318,"","",1,318,"","","0000","0000","f","19000100",1900,"01","00"]
["","",null,null,null,null,null,null,null,null,null,null,null,null,null,null,"",{"$f":"IF(YEAR(L336)>1900,Einstellungen!$C$10-YEAR(L336),\"---\")","v":"---"},"0000-0000-f-19000100",1,319,"","",1,319,"","","0000","0000","f","19000100",1900,"01","00"]
["","",null,null,null,null,null,null,null,null,null,null,null,null,null,null,"",{"$f":"IF(YEAR(L337)>1900,Einstellungen!$C$10-YEAR(L337),\"---\")","v":"---"},"0000-0000-f-19000100",1,320,"","",1,320,"","","0000","0000","f","19000100",1900,"01","00"]
["","",null,null,null,null,null,null,null,null,null,null,null,null,null,null,{"$f":"IF(LEN(D338)>0,IF(P338=\"x\",\"\",\"x\"),\"\")","v":""},{"$f":"IF(YEAR(L338)>1900,Einstellungen!$C$10-YEAR(L338),\"---\")","v":"---"},"0000-0000-f-19000100",1,321,"","",{"$f":"IF(LEN(C338)>0, 0, T338)","v":1},321,"","","0000","0000","f","19000100",{"$f":"YEAR(L338)","v":1900},{"$f":"IF(MONTH(L338)<10,\"0\"&MONTH(L338),MONTH(L338))","v":"01"},{"$f":"IF(DAY(L338)<10,\"0\"&DAY(L338),DAY(L338))","v":"00"}]
["","",null,null,null,null,null,null,null,null,null,null,null,null,null,null,"",{"$f":"IF(YEAR(L339)>1900,Einstellungen!$C$10-YEAR(L339),\"---\")","v":"---"},{"$f":"AB339 & \"-\" & AC339 & \"-\" & AD339 & \"-\" & AE339","v":"0000-0000-f-19000100"},{"$f":"IF(R339<=$AE$12,1,0)","v":1},{"$f":"IF(T339=1,U338+1,U338)","v":322},{"$f":"IF((M339+N339)>0,IF(T339=1,U339,\"-\"),\"\")","v":""},{"$f":"Z339 & AA339","v":""},1,{"$f":"Y338+X339","v":322},{"$f":"IF(X339=1,IF(Y339<=$Z$12,\"Q\",\"\"),\"\")","v":""},{"$f":"IF(X339=1, IF(Y339>$Z$12, IF(Y339<=($Z$12+$AA$12),\"R\",\"\"),\"\"), \"\")","v":""},{"$f":"IF(M339<1,\"0000\", IF(M339<10,\"000\"&M339, IF(M339<100,\"00\"&M339, IF(M339<1000,\"0\"&M339,\"\"& M339))))","v":"0000"},{"$f":"IF(N339<1,\"0000\", IF(N339<10,\"000\"&N339, IF(N339<100,\"00\"&N339, IF(N339<1000,\"0\"&N339,\"\"& N339))))","v":"0000"},{"$f":"IF(O339=\"a\",\"a\",\"f\")","v":"f"},{"$f":"AF339&AG339&AH339","v":"19000100"},1900,"01","00"]
["","",null,null,null,null,null,null,null,null,null,null,null,null,null,null,"",{"$f":"IF(YEAR(L340)>1900,Einstellungen!$C$10-YEAR(L340),\"---\")","v":"---"},"0000-0000-f-19000100",1,323,"","",1,323,"","","0000","0000","f","19000100",1900,"01","00"]
["","",null,null,null,null,null,null,null,null,null,null,null,null,null,null,"",{"$f":"IF(YEAR(L341)>1900,Einstellungen!$C$10-YEAR(L341),\"---\")","v":"---"},"0000-0000-f-19000100",1,324,"","",1,324,"","","0000","0000","f","19000100",1900,"01","00"]
["","",null,null,null,null,null,null,null,null,null,null,null,null,null,null,"",{"$f":"IF(YEAR(L342)>1900,Einstellungen!$C$10-YEAR(L342),\"---\")","v":"---"},"0000-0000-f-19000100",1,325,"","",1,325,"","","0000","0000","f","19000100",1900,"01","00"]
["","",null,null,null,null,null,null,null,null,null,null,null,null,null,null,"",{"$f":"IF(YEAR(L343)>1900,Einstellungen!$C$10-YEAR(L343),\"---\")","v":"---"},"0000-0000-f-19000100",1,326,"","",1,326,"","","0000","0000","f","19000100",1900,"01","00"]
["","",null,null,null,null,null,null,null,null,null,null,null,null,null,null,"",{"$f":"IF(YEAR(L344)>1900,Einstellungen!$C$10-YEAR(L344),\"---\")","v":"---"},"0000-0000-f-19000100",1,327,"","",1,327,"","","0000","0000","f","19000100",1900,"01","00"]
["","",null,null,null,null,null,null,null,null,null,null,null,null,null,null,"",{"$f":"IF(YEAR(L345)>1900,Einstellungen!$C$10-YEAR(L345),\"---\")","v":"---"},"0000-0000-f-19000100",1,328,"","",1,328,"","","0000","0000","f","19000100",1900,"01","00"]
["","",null,null,null,null,null,null,null,null,null,null,null,null,null,null,"",{"$f":"IF(YEAR(L346)>1900,Einstellungen!$C$10-YEAR(L346),\"---\")","v":"---"},"0000-0000-f-19000100",1,329,"","",1,329,"","","0000","0000","f","19000100",1900,"01","00"]
["","",null,null,null,null,null,null,null,null,null,null,null,null,null,null,"",{"$f":"IF(YEAR(L347)>1900,Einstellungen!$C$10-YEAR(L347),\"---\")","v":"---"},"0000-0000-f-19000100",1,330,"","",1,330,"","","0000","0000","f","19000100",1900,"01","00"]
["","",null,null,null,null,null,null,null,null,null,null,null,null,null,null,"",{"$f":"IF(YEAR(L348)>1900,Einstellungen!$C$10-YEAR(L348),\"---\")","v":"---"},"0000-0000-f-19000100",1,331,"","",1,331,"","","0000","0000","f","19000100",1900,"01","00"]
["","",null,null,null,null,null,null,null,null,null,null,null,null,null,null,"",{"$f":"IF(YEAR(L349)>1900,Einstellungen!$C$10-YEAR(L349),\"---\")","v":"---"},"0000-0000-f-19000100",1,332,"","",1,332,"","","0000","0000","f","19000100",1900,"01","00"]
["","",null,null,null,null,null,null,null,null,null,null,null,null,null,null,"",{"$f":"IF(YEAR(L350)>1900,Einstellungen!$C$10-YEAR(L350),\"---\")","v":"---"},"0000-0000-f-19000100",1,333,"","",1,333,"","","0000","0000","f","19000100",1900,"01","00"]
["","",null,null,null,null,null,null,null,null,null,null,null,null,null,null,"",{"$f":"IF(YEAR(L351)>1900,Einstellungen!$C$10-YEAR(L351),\"---\")","v":"---"},"0000-0000-f-19000100",1,334,"","",1,334,"","","0000","0000","f","19000100",1900,"01","00"]
["","",null,null,null,null,null,null,null,null,null,null,null,null,null,null,"",{"$f":"IF(YEAR(L352)>1900,Einstellungen!$C$10-YEAR(L352),\"---\")","v":"---"},"0000-0000-f-19000100",1,335,"","",1,335,"","","0000","0000","f","19000100",1900,"01","00"]
["","",null,null,null,null,null,null,null,null,null,null,null,null,null,null,"",{"$f":"IF(YEAR(L353)>1900,Einstellungen!$C$10-YEAR(L353),\"---\")","v":"---"},"0000-0000-f-19000100",1,336,"","",1,336,"","","0000","0000","f","19000100",1900,"01","00"]
["","",null,null,null,null,null,null,null,null,null,null,null,null,null,null,"",{"$f":"IF(YEAR(L354)>1900,Einstellungen!$C$10-YEAR(L354),\"---\")","v":"---"},"0000-0000-f-19000100",1,337,"","",1,337,"","","0000","0000","f","19000100",1900,"01","00"]
["","",null,null,null,null,null,null,null,null,null,null,null,null,null,null,"",{"$f":"IF(YEAR(L355)>1900,Einstellungen!$C$10-YEAR(L355),\"---\")","v":"---"},"0000-0000-f-19000100",1,338,"","",1,338,"","","0000","0000","f","19000100",1900,"01","00"]
["","",null,null,null,null,null,null,null,null,null,null,null,null,null,null,"",{"$f":"IF(YEAR(L356)>1900,Einstellungen!$C$10-YEAR(L356),\"---\")","v":"---"},"0000-0000-f-19000100",1,339,"","",1,339,"","","0000","0000","f","19000100",1900,"01","00"]
["","",null,null,null,null,null,null,null,null,null,null,null,null,null,null,"",{"$f":"IF(YEAR(L357)>1900,Einstellungen!$C$10-YEAR(L357),\"---\")","v":"---"},"0000-0000-f-19000100",1,340,"","",1,340,"","","0000","0000","f","19000100",1900,"01","00"]
["","",null,null,null,null,null,null,null,null,null,null,null,null,null,null,"",{"$f":"IF(YEAR(L358)>1900,Einstellungen!$C$10-YEAR(L358),\"---\")","v":"---"},"0000-0000-f-19000100",1,341,"","",1,341,"","","0000","0000","f","19000100",1900,"01","00"]
["","",null,null,null,null,null,null,null,null,null,null,null,null,null,null,"",{"$f":"IF(YEAR(L359)>1900,Einstellungen!$C$10-YEAR(L359),\"---\")","v":"---"},"0000-0000-f-19000100",1,342,"","",1,342,"","","0000","0000","f","19000100",1900,"01","00"]
["","",null,null,null,null,null,null,null,null,null,null,null,null,null,null,"",{"$f":"IF(YEAR(L360)>1900,Einstellungen!$C$10-YEAR(L360),\"---\")","v":"---"},"0000-0000-f-19000100",1,343,"","",1,343,"","","0000","0000","f","19000100",1900,"01","00"]
["","",null,null,null,null,null,null,null,null,null,null,null,null,null,null,"",{"$f":"IF(YEAR(L361)>1900,Einstellungen!$C$10-YEAR(L361),\"---\")","v":"---"},"0000-0000-f-19000100",1,344,"","",1,344,"","","0000","0000","f","19000100",1900,"01","00"]
["","",null,null,null,null,null,null,null,null,null,null,null,null,null,null,"",{"$f":"IF(YEAR(L362)>1900,Einstellungen!$C$10-YEAR(L362),\"---\")","v":"---"},"0000-0000-f-19000100",1,345,"","",1,345,"","","0000","0000","f","19000100",1900,"01","00"]
["","",null,null,null,null,null,null,null,null,null,null,null,null,null,null,"",{"$f":"IF(YEAR(L363)>1900,Einstellungen!$C$10-YEAR(L363),\"---\")","v":"---"},"0000-0000-f-19000100",1,346,"","",1,346,"","","0000","0000","f","19000100",1900,"01","00"]
["","",null,null,null,null,null,null,null,null,null,null,null,null,null,null,"",{"$f":"IF(YEAR(L364)>1900,Einstellungen!$C$10-YEAR(L364),\"---\")","v":"---"},"0000-0000-f-19000100",1,347,"","",1,347,"","","0000","0000","f","19000100",1900,"01","00"]
["","",null,null,null,null,null,null,null,null,null,null,null,null,null,null,"",{"$f":"IF(YEAR(L365)>1900,Einstellungen!$C$10-YEAR(L365),\"---\")","v":"---"},"0000-0000-f-19000100",1,348,"","",1,348,"","","0000","0000","f","19000100",1900,"01","00"]
["","",null,null,null,null,null,null,null,null,null,null,null,null,null,null,"",{"$f":"IF(YEAR(L366)>1900,Einstellungen!$C$10-YEAR(L366),\"---\")","v":"---"},"0000-0000-f-19000100",1,349,"","",1,349,"","","0000","0000","f","19000100",1900,"01","00"]
["","",null,null,null,null,null,null,null,null,null,null,null,null,null,null,"",{"$f":"IF(YEAR(L367)>1900,Einstellungen!$C$10-YEAR(L367),\"---\")","v":"---"},"0000-0000-f-19000100",1,350,"","",1,350,"","","0000","0000","f","19000100",1900,"01","00"]
["","",null,null,null,null,null,null,null,null,null,null,null,null,null,null,"",{"$f":"IF(YEAR(L368)>1900,Einstellungen!$C$10-YEAR(L368),\"---\")","v":"---"},"0000-0000-f-19000100",1,351,"","",1,351,"","","0000","0000","f","19000100",1900,"01","00"]
["","",null,null,null,null,null,null,null,null,null,null,null,null,null,null,"",{"$f":"IF(YEAR(L369)>1900,Einstellungen!$C$10-YEAR(L369),\"---\")","v":"---"},"0000-0000-f-19000100",1,352,"","",1,352,"","","0000","0000","f","19000100",1900,"01","00"]
["","",null,null,null,null,null,null,null,null,null,null,null,null,null,null,"",{"$f":"IF(YEAR(L370)>1900,Einstellungen!$C$10-YEAR(L370),\"---\")","v":"---"},"0000-0000-f-19000100",1,353,"","",1,353,"","","0000","0000","f","19000100",1900,"01","00"]
["","",null,null,null,null,null,null,null,null,null,null,null,null,null,null,"",{"$f":"IF(YEAR(L371)>1900,Einstellungen!$C$10-YEAR(L371),\"---\")","v":"---"},"0000-0000-f-19000100",1,354,"","",1,354,"","","0000","0000","f","19000100",1900,"01","00"]
["","",null,null,null,null,null,null,null,null,null,null,null,null,null,null,"",{"$f":"IF(YEAR(L372)>1900,Einstellungen!$C$10-YEAR(L372),\"---\")","v":"---"},"0000-0000-f-19000100",1,355,"","",1,355,"","","0000","0000","f","19000100",1900,"01","00"]
["","",null,null,null,null,null,null,null,null,null,null,null,null,null,null,"",{"$f":"IF(YEAR(L373)>1900,Einstellungen!$C$10-YEAR(L373),\"---\")","v":"---"},"0000-0000-f-19000100",1,356,"","",1,356,"","","0000","0000","f","19000100",1900,"01","00"]
["","",null,null,null,null,null,null,null,null,null,null,null,null,null,null,"",{"$f":"IF(YEAR(L374)>1900,Einstellungen!$C$10-YEAR(L374),\"---\")","v":"---"},"0000-0000-f-19000100",1,357,"","",1,357,"","","0000","0000","f","19000100",1900,"01","00"]
["","",null,null,null,null,null,null,null,null,null,null,null,null,null,null,"",{"$f":"IF(YEAR(L375)>1900,Einstellungen!$C$10-YEAR(L375),\"---\")","v":"---"},"0000-0000-f-19000100",1,358,"","",1,358,"","","0000","0000","f","19000100",1900,"01","00"]
["","",null,null,null,null,null,null,null,null,null,null,null,null,null,null,"",{"$f":"IF(YEAR(L376)>1900,Einstellungen!$C$10-YEAR(L376),\"---\")","v":"---"},"0000-0000-f-19000100",1,359,"","",1,359,"","","0000","0000","f","19000100",1900,"01","00"]
["","",null,null,null,null,null,null,null,null,null,null,null,null,null,null,"",{"$f":"IF(YEAR(L377)>1900,Einstellungen!$C$10-YEAR(L377),\"---\")","v":"---"},"0000-0000-f-19000100",1,360,"","",1,360,"","","0000","0000","f","19000100",1900,"01","00"]
["","",null,null,null,null,null,null,null,null,null,null,null,null,null,null,"",{"$f":"IF(YEAR(L378)>1900,Einstellungen!$C$10-YEAR(L378),\"---\")","v":"---"},"0000-0000-f-19000100",1,361,"","",1,361,"","","0000","0000","f","19000100",1900,"01","00"]
["","",null,null,null,null,null,null,null,null,null,null,null,null,null,null,"",{"$f":"IF(YEAR(L379)>1900,Einstellungen!$C$10-YEAR(L379),\"---\")","v":"---"},"0000-0000-f-19000100",1,362,"","",1,362,"","","0000","0000","f","19000100",1900,"01","00"]
["","",null,null,null,null,null,null,null,null,null,null,null,null,null,null,"",{"$f":"IF(YEAR(L380)>1900,Einstellungen!$C$10-YEAR(L380),\"---\")","v":"---"},"0000-0000-f-19000100",1,363,"","",1,363,"","","0000","0000","f","19000100",1900,"01","00"]
["","",null,null,null,null,null,null,null,null,null,null,null,null,null,null,"",{"$f":"IF(YEAR(L381)>1900,Einstellungen!$C$10-YEAR(L381),\"---\")","v":"---"},"0000-0000-f-19000100",1,364,"","",1,364,"","","0000","0000","f","19000100",1900,"01","00"]
["","",null,null,null,null,null,null,null,null,null,null,null,null,null,null,"",{"$f":"IF(YEAR(L382)>1900,Einstellungen!$C$10-YEAR(L382),\"---\")","v":"---"},"0000-0000-f-19000100",1,365,"","",1,365,"","","0000","0000","f","19000100",1900,"01","00"]
["","",null,null,null,null,null,null,null,null,null,null,null,null,null,null,"",{"$f":"IF(YEAR(L383)>1900,Einstellungen!$C$10-YEAR(L383),\"---\")","v":"---"},"0000-0000-f-19000100",1,366,"","",1,366,"","","0000","0000","f","19000100",1900,"01","00"]
["","",null,null,null,null,null,null,null,null,null,null,null,null,null,null,"",{"$f":"IF(YEAR(L384)>1900,Einstellungen!$C$10-YEAR(L384),\"---\")","v":"---"},"0000-0000-f-19000100",1,367,"","",1,367,"","","0000","0000","f","19000100",1900,"01","00"]
["","",null,null,null,null,null,null,null,null,null,null,null,null,null,null,"",{"$f":"IF(YEAR(L385)>1900,Einstellungen!$C$10-YEAR(L385),\"---\")","v":"---"},"0000-0000-f-19000100",1,368,"","",1,368,"","","0000","0000","f","19000100",1900,"01","00"]
["","",null,null,null,null,null,null,null,null,null,null,null,null,null,null,"",{"$f":"IF(YEAR(L386)>1900,Einstellungen!$C$10-YEAR(L386),\"---\")","v":"---"},"0000-0000-f-19000100",1,369,"","",1,369,"","","0000","0000","f","19000100",1900,"01","00"]
["","",null,null,null,null,null,null,null,null,null,null,null,null,null,null,"",{"$f":"IF(YEAR(L387)>1900,Einstellungen!$C$10-YEAR(L387),\"---\")","v":"---"},"0000-0000-f-19000100",1,370,"","",1,370,"","","0000","0000","f","19000100",1900,"01","00"]
["","",null,null,null,null,null,null,null,null,null,null,null,null,null,null,"",{"$f":"IF(YEAR(L388)>1900,Einstellungen!$C$10-YEAR(L388),\"---\")","v":"---"},"0000-0000-f-19000100",1,371,"","",1,371,"","","0000","0000","f","19000100",1900,"01","00"]
["","",null,null,null,null,null,null,null,null,null,null,null,null,null,null,"",{"$f":"IF(YEAR(L389)>1900,Einstellungen!$C$10-YEAR(L389),\"---\")","v":"---"},"0000-0000-f-19000100",1,372,"","",1,372,"","","0000","0000","f","19000100",1900,"01","00"]
["","",null,null,null,null,null,null,null,null,null,null,null,null,null,null,"",{"$f":"IF(YEAR(L390)>1900,Einstellungen!$C$10-YEAR(L390),\"---\")","v":"---"},"0000-0000-f-19000100",1,373,"","",1,373,"","","0000","0000","f","19000100",1900,"01","00"]
["","",null,null,null,null,null,null,null,null,null,null,null,null,null,null,"",{"$f":"IF(YEAR(L391)>1900,Einstellungen!$C$10-YEAR(L391),\"---\")","v":"---"},"0000-0000-f-19000100",1,374,"","",1,374,"","","0000","0000","f","19000100",1900,"01","00"]
["","",null,null,null,null,null,null,null,null,null,null,null,null,null,null,"",{"$f":"IF(YEAR(L392)>1900,Einstellungen!$C$10-YEAR(L392),\"---\")","v":"---"},"0000-0000-f-19000100",1,375,"","",1,375,"","","0000","0000","f","19000100",1900,"01","00"]
["","",null,null,null,null,null,null,null,null,null,null,null,null,null,null,"",{"$f":"IF(YEAR(L393)>1900,Einstellungen!$C$10-YEAR(L393),\"---\")","v":"---"},"0000-0000-f-19000100",1,376,"","",1,376,"","","0000","0000","f","19000100",1900,"01","00"]
["","",null,null,null,null,null,null,null,null,null,null,null,null,null,null,"",{"$f":"IF(YEAR(L394)>1900,Einstellungen!$C$10-YEAR(L394),\"---\")","v":"---"},"0000-0000-f-19000100",1,377,"","",1,377,"","","0000","0000","f","19000100",1900,"01","00"]
["","",null,null,null,null,null,null,null,null,null,null,null,null,null,null,"",{"$f":"IF(YEAR(L395)>1900,Einstellungen!$C$10-YEAR(L395),\"---\")","v":"---"},"0000-0000-f-19000100",1,378,"","",1,378,"","","0000","0000","f","19000100",1900,"01","00"]
["","",null,null,null,null,null,null,null,null,null,null,null,null,null,null,"",{"$f":"IF(YEAR(L396)>1900,Einstellungen!$C$10-YEAR(L396),\"---\")","v":"---"},"0000-0000-f-19000100",1,379,"","",1,379,"","","0000","0000","f","19000100",1900,"01","00"]
["","",null,null,null,null,null,null,null,null,null,null,null,null,null,null,"",{"$f":"IF(YEAR(L397)>1900,Einstellungen!$C$10-YEAR(L397),\"---\")","v":"---"},"0000-0000-f-19000100",1,380,"","",1,380,"","","0000","0000","f","19000100",1900,"01","00"]
["","",null,null,null,null,null,null,null,null,null,null,null,null,null,null,"",{"$f":"IF(YEAR(L398)>1900,Einstellungen!$C$10-YEAR(L398),\"---\")","v":"---"},"0000-0000-f-19000100",1,381,"","",1,381,"","","0000","0000","f","19000100",1900,"01","00"]
["","",null,null,null,null,null,null,null,null,null,null,null,null,null,null,"",{"$f":"IF(YEAR(L399)>1900,Einstellungen!$C$10-YEAR(L399),\"---\")","v":"---"},"0000-0000-f-19000100",1,382,"","",1,382,"","","0000","0000","f","19000100",1900,"01","00"]
["","",null,null,null,null,null,null,null,null,null,null,null,null,null,null,"",{"$f":"IF(YEAR(L400)>1900,Einstellungen!$C$10-YEAR(L400),\"---\")","v":"---"},"0000-0000-f-19000100",1,383,"","",1,383,"","","0000","0000","f","19000100",1900,"01","00"]
["","",null,null,null,null,null,null,null,null,null,null,null,null,null,null,"",{"$f":"IF(YEAR(L401)>1900,Einstellungen!$C$10-YEAR(L401),\"---\")","v":"---"},"0000-0000-f-19000100",1,384,"","",1,384,"","","0000","0000","f","19000100",1900,"01","00"]
["","",null,null,null,null,null,null,null,null,null,null,null,null,null,null,{"$f":"IF(LEN(D402)>0,IF(P402=\"x\",\"\",\"x\"),\"\")","v":""},{"$f":"IF(YEAR(L402)>1900,Einstellungen!$C$10-YEAR(L402),\"---\")","v":"---"},"0000-0000-f-19000100",1,385,"","",{"$f":"IF(LEN(C402)>0, 0, T402)","v":1},385,"","","0000","0000","f","19000100",{"$f":"YEAR(L402)","v":1900},{"$f":"IF(MONTH(L402)<10,\"0\"&MONTH(L402),MONTH(L402))","v":"01"},{"$f":"IF(DAY(L402)<10,\"0\"&DAY(L402),DAY(L402))","v":"00"}]
["","",null,null,null,null,null,null,null,null,null,null,null,null,null,null,"",{"$f":"IF(YEAR(L403)>1900,Einstellungen!$C$10-YEAR(L403),\"---\")","v":"---"},{"$f":"AB403 & \"-\" & AC403 & \"-\" & AD403 & \"-\" & AE403","v":"0000-0000-f-19000100"},{"$f":"IF(R403<=$AE$12,1,0)","v":1},{"$f":"IF(T403=1,U402+1,U402)","v":386},{"$f":"IF((M403+N403)>0,IF(T403=1,U403,\"-\"),\"\")","v":""},{"$f":"Z403 & AA403","v":""},1,{"$f":"Y402+X403","v":386},{"$f":"IF(X403=1,IF(Y403<=$Z$12,\"Q\",\"\"),\"\")","v":""},{"$f":"IF(X403=1, IF(Y403>$Z$12, IF(Y403<=($Z$12+$AA$12),\"R\",\"\"),\"\"), \"\")","v":""},{"$f":"IF(M403<1,\"0000\", IF(M403<10,\"000\"&M403, IF(M403<100,\"00\"&M403, IF(M403<1000,\"0\"&M403,\"\"& M403))))","v":"0000"},{"$f":"IF(N403<1,\"0000\", IF(N403<10,\"000\"&N403, IF(N403<100,\"00\"&N403, IF(N403<1000,\"0\"&N403,\"\"& N403))))","v":"0000"},{"$f":"IF(O403=\"a\",\"a\",\"f\")","v":"f"},{"$f":"AF403&AG403&AH403","v":"19000100"},1900,"01","00"]
["","",null,null,null,null,null,null,null,null,null,null,null,null,null,null,"",{"$f":"IF(YEAR(L404)>1900,Einstellungen!$C$10-YEAR(L404),\"---\")","v":"---"},"0000-0000-f-19000100",1,387,"","",1,387,"","","0000","0000","f","19000100",1900,"01","00"]
["","",null,null,null,null,null,null,null,null,null,null,null,null,null,null,"",{"$f":"IF(YEAR(L405)>1900,Einstellungen!$C$10-YEAR(L405),\"---\")","v":"---"},"0000-0000-f-19000100",1,388,"","",1,388,"","","0000","0000","f","19000100",1900,"01","00"]
["","",null,null,null,null,null,null,null,null,null,null,null,null,null,null,"",{"$f":"IF(YEAR(L406)>1900,Einstellungen!$C$10-YEAR(L406),\"---\")","v":"---"},"0000-0000-f-19000100",1,389,"","",1,389,"","","0000","0000","f","19000100",1900,"01","00"]
["","",null,null,null,null,null,null,null,null,null,null,null,null,null,null,"",{"$f":"IF(YEAR(L407)>1900,Einstellungen!$C$10-YEAR(L407),\"---\")","v":"---"},"0000-0000-f-19000100",1,390,"","",1,390,"","","0000","0000","f","19000100",1900,"01","00"]
["","",null,null,null,null,null,null,null,null,null,null,null,null,null,null,"",{"$f":"IF(YEAR(L408)>1900,Einstellungen!$C$10-YEAR(L408),\"---\")","v":"---"},"0000-0000-f-19000100",1,391,"","",1,391,"","","0000","0000","f","19000100",1900,"01","00"]
["","",null,null,null,null,null,null,null,null,null,null,null,null,null,null,"",{"$f":"IF(YEAR(L409)>1900,Einstellungen!$C$10-YEAR(L409),\"---\")","v":"---"},"0000-0000-f-19000100",1,392,"","",1,392,"","","0000","0000","f","19000100",1900,"01","00"]
["","",null,null,null,null,null,null,null,null,null,null,null,null,null,null,"",{"$f":"IF(YEAR(L410)>1900,Einstellungen!$C$10-YEAR(L410),\"---\")","v":"---"},"0000-0000-f-19000100",1,393,"","",1,393,"","","0000","0000","f","19000100",1900,"01","00"]
["","",null,null,null,null,null,null,null,null,null,null,null,null,null,null,"",{"$f":"IF(YEAR(L411)>1900,Einstellungen!$C$10-YEAR(L411),\"---\")","v":"---"},"0000-0000-f-19000100",1,394,"","",1,394,"","","0000","0000","f","19000100",1900,"01","00"]
["","",null,null,null,null,null,null,null,null,null,null,null,null,null,null,"",{"$f":"IF(YEAR(L412)>1900,Einstellungen!$C$10-YEAR(L412),\"---\")","v":"---"},"0000-0000-f-19000100",1,395,"","",1,395,"","","0000","0000","f","19000100",1900,"01","00"]
["","",null,null,null,null,null,null,null,null,null,null,null,null,null,null,"",{"$f":"IF(YEAR(L413)>1900,Einstellungen!$C$10-YEAR(L413),\"---\")","v":"---"},"0000-0000-f-19000100",1,396,"","",1,396,"","","0000","0000","f","19000100",1900,"01","00"]
["","",null,null,null,null,null,null,null,null,null,null,null,null,null,null,"",{"$f":"IF(YEAR(L414)>1900,Einstellungen!$C$10-YEAR(L414),\"---\")","v":"---"},"0000-0000-f-19000100",1,397,"","",1,397,"","","0000","0000","f","19000100",1900,"01","00"]
["","",null,null,null,null,null,null,null,null,null,null,null,null,null,null,"",{"$f":"IF(YEAR(L415)>1900,Einstellungen!$C$10-YEAR(L415),\"---\")","v":"---"},"0000-0000-f-19000100",1,398,"","",1,398,"","","0000","0000","f","19000100",1900,"01","00"]
["","",null,null,null,null,null,null,null,null,null,null,null,null,null,null,"",{"$f":"IF(YEAR(L416)>1900,Einstellungen!$C$10-YEAR(L416),\"---\")","v":"---"},"0000-0000-f-19000100",1,399,"","",1,399,"","","0000","0000","f","19000100",1900,"01","00"]
["","",null,null,null,null,null,null,null,null,null,null,null,null,null,null,"",{"$f":"IF(YEAR(L417)>1900,Einstellungen!$C$10-YEAR(L417),\"---\")","v":"---"},"0000-0000-f-19000100",1,400,"","",1,400,"","","0000","0000","f","19000100",1900,"01","00"]
["","",null,null,null,null,null,null,null,null,null,null,null,null,null,null,"",{"$f":"IF(YEAR(L418)>1900,Einstellungen!$C$10-YEAR(L418),\"---\")","v":"---"},"0000-0000-f-19000100",1,401,"","",1,401,"","","0000","0000","f","19000100",1900,"01","00"]
["","",null,null,null,null,null,null,null,null,null,null,null,null,null,null,"",{"$f":"IF(YEAR(L419)>1900,Einstellungen!$C$10-YEAR(L419),\"---\")","v":"---"},"0000-0000-f-19000100",1,402,"","",1,402,"","","0000","0000","f","19000100",1900,"01","00"]
["","",null,null,null,null,null,null,null,null,null,null,null,null,null,null,"",{"$f":"IF(YEAR(L420)>1900,Einstellungen!$C$10-YEAR(L420),\"---\")","v":"---"},"0000-0000-f-19000100",1,403,"","",1,403,"","","0000","0000","f","19000100",1900,"01","00"]
["","",null,null,null,null,null,null,null,null,null,null,null,null,null,null,"",{"$f":"IF(YEAR(L421)>1900,Einstellungen!$C$10-YEAR(L421),\"---\")","v":"---"},"0000-0000-f-19000100",1,404,"","",1,404,"","","0000","0000","f","19000100",1900,"01","00"]
["","",null,null,null,null,null,null,null,null,null,null,null,null,null,null,"",{"$f":"IF(YEAR(L422)>1900,Einstellungen!$C$10-YEAR(L422),\"---\")","v":"---"},"0000-0000-f-19000100",1,405,"","",1,405,"","","0000","0000","f","19000100",1900,"01","00"]
["","",null,null,null,null,null,null,null,null,null,null,null,null,null,null,"",{"$f":"IF(YEAR(L423)>1900,Einstellungen!$C$10-YEAR(L423),\"---\")","v":"---"},"0000-0000-f-19000100",1,406,"","",1,406,"","","0000","0000","f","19000100",1900,"01","00"]
["","",null,null,null,null,null,null,null,null,null,null,null,null,null,null,"",{"$f":"IF(YEAR(L424)>1900,Einstellungen!$C$10-YEAR(L424),\"---\")","v":"---"},"0000-0000-f-19000100",1,407,"","",1,407,"","","0000","0000","f","19000100",1900,"01","00"]
["","",null,null,null,null,null,null,null,null,null,null,null,null,null,null,"",{"$f":"IF(YEAR(L425)>1900,Einstellungen!$C$10-YEAR(L425),\"---\")","v":"---"},"0000-0000-f-19000100",1,408,"","",1,408,"","","0000","0000","f","19000100",1900,"01","00"]
["","",null,null,null,null,null,null,null,null,null,null,null,null,null,null,"",{"$f":"IF(YEAR(L426)>1900,Einstellungen!$C$10-YEAR(L426),\"---\")","v":"---"},"0000-0000-f-19000100",1,409,"","",1,409,"","","0000","0000","f","19000100",1900,"01","00"]
["","",null,null,null,null,null,null,null,null,null,null,null,null,null,null,"",{"$f":"IF(YEAR(L427)>1900,Einstellungen!$C$10-YEAR(L427),\"---\")","v":"---"},"0000-0000-f-19000100",1,410,"","",1,410,"","","0000","0000","f","19000100",1900,"01","00"]
["","",null,null,null,null,null,null,null,null,null,null,null,null,null,null,"",{"$f":"IF(YEAR(L428)>1900,Einstellungen!$C$10-YEAR(L428),\"---\")","v":"---"},"0000-0000-f-19000100",1,411,"","",1,411,"","","0000","0000","f","19000100",1900,"01","00"]
["","",null,null,null,null,null,null,null,null,null,null,null,null,null,null,"",{"$f":"IF(YEAR(L429)>1900,Einstellungen!$C$10-YEAR(L429),\"---\")","v":"---"},"0000-0000-f-19000100",1,412,"","",1,412,"","","0000","0000","f","19000100",1900,"01","00"]
["","",null,null,null,null,null,null,null,null,null,null,null,null,null,null,"",{"$f":"IF(YEAR(L430)>1900,Einstellungen!$C$10-YEAR(L430),\"---\")","v":"---"},"0000-0000-f-19000100",1,413,"","",1,413,"","","0000","0000","f","19000100",1900,"01","00"]
["","",null,null,null,null,null,null,null,null,null,null,null,null,null,null,"",{"$f":"IF(YEAR(L431)>1900,Einstellungen!$C$10-YEAR(L431),\"---\")","v":"---"},"0000-0000-f-19000100",1,414,"","",1,414,"","","0000","0000","f","19000100",1900,"01","00"]
["","",null,null,null,null,null,null,null,null,null,null,null,null,null,null,"",{"$f":"IF(YEAR(L432)>1900,Einstellungen!$C$10-YEAR(L432),\"---\")","v":"---"},"0000-0000-f-19000100",1,415,"","",1,415,"","","0000","0000","f","19000100",1900,"01","00"]
["","",null,null,null,null,null,null,null,null,null,null,null,null,null,null,"",{"$f":"IF(YEAR(L433)>1900,Einstellungen!$C$10-YEAR(L433),\"---\")","v":"---"},"0000-0000-f-19000100",1,416,"","",1,416,"","","0000","0000","f","19000100",1900,"01","00"]
["","",null,null,null,null,null,null,null,null,null,null,null,null,null,null,"",{"$f":"IF(YEAR(L434)>1900,Einstellungen!$C$10-YEAR(L434),\"---\")","v":"---"},"0000-0000-f-19000100",1,417,"","",1,417,"","","0000","0000","f","19000100",1900,"01","00"]
["","",null,null,null,null,null,null,null,null,null,null,null,null,null,null,"",{"$f":"IF(YEAR(L435)>1900,Einstellungen!$C$10-YEAR(L435),\"---\")","v":"---"},"0000-0000-f-19000100",1,418,"","",1,418,"","","0000","0000","f","19000100",1900,"01","00"]
["","",null,null,null,null,null,null,null,null,null,null,null,null,null,null,"",{"$f":"IF(YEAR(L436)>1900,Einstellungen!$C$10-YEAR(L436),\"---\")","v":"---"},"0000-0000-f-19000100",1,419,"","",1,419,"","","0000","0000","f","19000100",1900,"01","00"]
["","",null,null,null,null,null,null,null,null,null,null,null,null,null,null,"",{"$f":"IF(YEAR(L437)>1900,Einstellungen!$C$10-YEAR(L437),\"---\")","v":"---"},"0000-0000-f-19000100",1,420,"","",1,420,"","","0000","0000","f","19000100",1900,"01","00"]
["","",null,null,null,null,null,null,null,null,null,null,null,null,null,null,"",{"$f":"IF(YEAR(L438)>1900,Einstellungen!$C$10-YEAR(L438),\"---\")","v":"---"},"0000-0000-f-19000100",1,421,"","",1,421,"","","0000","0000","f","19000100",1900,"01","00"]
["","",null,null,null,null,null,null,null,null,null,null,null,null,null,null,"",{"$f":"IF(YEAR(L439)>1900,Einstellungen!$C$10-YEAR(L439),\"---\")","v":"---"},"0000-0000-f-19000100",1,422,"","",1,422,"","","0000","0000","f","19000100",1900,"01","00"]
["","",null,null,null,null,null,null,null,null,null,null,null,null,null,null,"",{"$f":"IF(YEAR(L440)>1900,Einstellungen!$C$10-YEAR(L440),\"---\")","v":"---"},"0000-0000-f-19000100",1,423,"","",1,423,"","","0000","0000","f","19000100",1900,"01","00"]
["","",null,null,null,null,null,null,null,null,null,null,null,null,null,null,"",{"$f":"IF(YEAR(L441)>1900,Einstellungen!$C$10-YEAR(L441),\"---\")","v":"---"},"0000-0000-f-19000100",1,424,"","",1,424,"","","0000","0000","f","19000100",1900,"01","00"]
["","",null,null,null,null,null,null,null,null,null,null,null,null,null,null,"",{"$f":"IF(YEAR(L442)>1900,Einstellungen!$C$10-YEAR(L442),\"---\")","v":"---"},"0000-0000-f-19000100",1,425,"","",1,425,"","","0000","0000","f","19000100",1900,"01","00"]
["","",null,null,null,null,null,null,null,null,null,null,null,null,null,null,"",{"$f":"IF(YEAR(L443)>1900,Einstellungen!$C$10-YEAR(L443),\"---\")","v":"---"},"0000-0000-f-19000100",1,426,"","",1,426,"","","0000","0000","f","19000100",1900,"01","00"]
["","",null,null,null,null,null,null,null,null,null,null,null,null,null,null,"",{"$f":"IF(YEAR(L444)>1900,Einstellungen!$C$10-YEAR(L444),\"---\")","v":"---"},"0000-0000-f-19000100",1,427,"","",1,427,"","","0000","0000","f","19000100",1900,"01","00"]
["","",null,null,null,null,null,null,null,null,null,null,null,null,null,null,"",{"$f":"IF(YEAR(L445)>1900,Einstellungen!$C$10-YEAR(L445),\"---\")","v":"---"},"0000-0000-f-19000100",1,428,"","",1,428,"","","0000","0000","f","19000100",1900,"01","00"]
["","",null,null,null,null,null,null,null,null,null,null,null,null,null,null,"",{"$f":"IF(YEAR(L446)>1900,Einstellungen!$C$10-YEAR(L446),\"---\")","v":"---"},"0000-0000-f-19000100",1,429,"","",1,429,"","","0000","0000","f","19000100",1900,"01","00"]
["","",null,null,null,null,null,null,null,null,null,null,null,null,null,null,"",{"$f":"IF(YEAR(L447)>1900,Einstellungen!$C$10-YEAR(L447),\"---\")","v":"---"},"0000-0000-f-19000100",1,430,"","",1,430,"","","0000","0000","f","19000100",1900,"01","00"]
["","",null,null,null,null,null,null,null,null,null,null,null,null,null,null,"",{"$f":"IF(YEAR(L448)>1900,Einstellungen!$C$10-YEAR(L448),\"---\")","v":"---"},"0000-0000-f-19000100",1,431,"","",1,431,"","","0000","0000","f","19000100",1900,"01","00"]
["","",null,null,null,null,null,null,null,null,null,null,null,null,null,null,"",{"$f":"IF(YEAR(L449)>1900,Einstellungen!$C$10-YEAR(L449),\"---\")","v":"---"},"0000-0000-f-19000100",1,432,"","",1,432,"","","0000","0000","f","19000100",1900,"01","00"]
["","",null,null,null,null,null,null,null,null,null,null,null,null,null,null,"",{"$f":"IF(YEAR(L450)>1900,Einstellungen!$C$10-YEAR(L450),\"---\")","v":"---"},"0000-0000-f-19000100",1,433,"","",1,433,"","","0000","0000","f","19000100",1900,"01","00"]
["","",null,null,null,null,null,null,null,null,null,null,null,null,null,null,"",{"$f":"IF(YEAR(L451)>1900,Einstellungen!$C$10-YEAR(L451),\"---\")","v":"---"},"0000-0000-f-19000100",1,434,"","",1,434,"","","0000","0000","f","19000100",1900,"01","00"]
["","",null,null,null,null,null,null,null,null,null,null,null,null,null,null,"",{"$f":"IF(YEAR(L452)>1900,Einstellungen!$C$10-YEAR(L452),\"---\")","v":"---"},"0000-0000-f-19000100",1,435,"","",1,435,"","","0000","0000","f","19000100",1900,"01","00"]
["","",null,null,null,null,null,null,null,null,null,null,null,null,null,null,"",{"$f":"IF(YEAR(L453)>1900,Einstellungen!$C$10-YEAR(L453),\"---\")","v":"---"},"0000-0000-f-19000100",1,436,"","",1,436,"","","0000","0000","f","19000100",1900,"01","00"]
["","",null,null,null,null,null,null,null,null,null,null,null,null,null,null,"",{"$f":"IF(YEAR(L454)>1900,Einstellungen!$C$10-YEAR(L454),\"---\")","v":"---"},"0000-0000-f-19000100",1,437,"","",1,437,"","","0000","0000","f","19000100",1900,"01","00"]
["","",null,null,null,null,null,null,null,null,null,null,null,null,null,null,"",{"$f":"IF(YEAR(L455)>1900,Einstellungen!$C$10-YEAR(L455),\"---\")","v":"---"},"0000-0000-f-19000100",1,438,"","",1,438,"","","0000","0000","f","19000100",1900,"01","00"]
["","",null,null,null,null,null,null,null,null,null,null,null,null,null,null,"",{"$f":"IF(YEAR(L456)>1900,Einstellungen!$C$10-YEAR(L456),\"---\")","v":"---"},"0000-0000-f-19000100",1,439,"","",1,439,"","","0000","0000","f","19000100",1900,"01","00"]
["","",null,null,null,null,null,null,null,null,null,null,null,null,null,null,"",{"$f":"IF(YEAR(L457)>1900,Einstellungen!$C$10-YEAR(L457),\"---\")","v":"---"},"0000-0000-f-19000100",1,440,"","",1,440,"","","0000","0000","f","19000100",1900,"01","00"]
["","",null,null,null,null,null,null,null,null,null,null,null,null,null,null,"",{"$f":"IF(YEAR(L458)>1900,Einstellungen!$C$10-YEAR(L458),\"---\")","v":"---"},"0000-0000-f-19000100",1,441,"","",1,441,"","","0000","0000","f","19000100",1900,"01","00"]
["","",null,null,null,null,null,null,null,null,null,null,null,null,null,null,"",{"$f":"IF(YEAR(L459)>1900,Einstellungen!$C$10-YEAR(L459),\"---\")","v":"---"},"0000-0000-f-19000100",1,442,"","",1,442,"","","0000","0000","f","19000100",1900,"01","00"]
["","",null,null,null,null,null,null,null,null,null,null,null,null,null,null,"",{"$f":"IF(YEAR(L460)>1900,Einstellungen!$C$10-YEAR(L460),\"---\")","v":"---"},"0000-0000-f-19000100",1,443,"","",1,443,"","","0000","0000","f","19000100",1900,"01","00"]
["","",null,null,null,null,null,null,null,null,null,null,null,null,null,null,"",{"$f":"IF(YEAR(L461)>1900,Einstellungen!$C$10-YEAR(L461),\"---\")","v":"---"},"0000-0000-f-19000100",1,444,"","",1,444,"","","0000","0000","f","19000100",1900,"01","00"]
["","",null,null,null,null,null,null,null,null,null,null,null,null,null,null,"",{"$f":"IF(YEAR(L462)>1900,Einstellungen!$C$10-YEAR(L462),\"---\")","v":"---"},"0000-0000-f-19000100",1,445,"","",1,445,"","","0000","0000","f","19000100",1900,"01","00"]
["","",null,null,null,null,null,null,null,null,null,null,null,null,null,null,"",{"$f":"IF(YEAR(L463)>1900,Einstellungen!$C$10-YEAR(L463),\"---\")","v":"---"},"0000-0000-f-19000100",1,446,"","",1,446,"","","0000","0000","f","19000100",1900,"01","00"]
["","",null,null,null,null,null,null,null,null,null,null,null,null,null,null,"",{"$f":"IF(YEAR(L464)>1900,Einstellungen!$C$10-YEAR(L464),\"---\")","v":"---"},"0000-0000-f-19000100",1,447,"","",1,447,"","","0000","0000","f","19000100",1900,"01","00"]
["","",null,null,null,null,null,null,null,null,null,null,null,null,null,null,"",{"$f":"IF(YEAR(L465)>1900,Einstellungen!$C$10-YEAR(L465),\"---\")","v":"---"},"0000-0000-f-19000100",1,448,"","",1,448,"","","0000","0000","f","19000100",1900,"01","00"]
["","",null,null,null,null,null,null,null,null,null,null,null,null,null,null,{"$f":"IF(LEN(D466)>0,IF(P466=\"x\",\"\",\"x\"),\"\")","v":""},{"$f":"IF(YEAR(L466)>1900,Einstellungen!$C$10-YEAR(L466),\"---\")","v":"---"},"0000-0000-f-19000100",1,449,"","",{"$f":"IF(LEN(C466)>0, 0, T466)","v":1},449,"","","0000","0000","f","19000100",{"$f":"YEAR(L466)","v":1900},{"$f":"IF(MONTH(L466)<10,\"0\"&MONTH(L466),MONTH(L466))","v":"01"},{"$f":"IF(DAY(L466)<10,\"0\"&DAY(L466),DAY(L466))","v":"00"}]
["","",null,null,null,null,null,null,null,null,null,null,null,null,null,null,"",{"$f":"IF(YEAR(L467)>1900,Einstellungen!$C$10-YEAR(L467),\"---\")","v":"---"},{"$f":"AB467 & \"-\" & AC467 & \"-\" & AD467 & \"-\" & AE467","v":"0000-0000-f-19000100"},{"$f":"IF(R467<=$AE$12,1,0)","v":1},{"$f":"IF(T467=1,U466+1,U466)","v":450},{"$f":"IF((M467+N467)>0,IF(T467=1,U467,\"-\"),\"\")","v":""},{"$f":"Z467 & AA467","v":""},1,{"$f":"Y466+X467","v":450},{"$f":"IF(X467=1,IF(Y467<=$Z$12,\"Q\",\"\"),\"\")","v":""},{"$f":"IF(X467=1, IF(Y467>$Z$12, IF(Y467<=($Z$12+$AA$12),\"R\",\"\"),\"\"), \"\")","v":""},{"$f":"IF(M467<1,\"0000\", IF(M467<10,\"000\"&M467, IF(M467<100,\"00\"&M467, IF(M467<1000,\"0\"&M467,\"\"& M467))))","v":"0000"},{"$f":"IF(N467<1,\"0000\", IF(N467<10,\"000\"&N467, IF(N467<100,\"00\"&N467, IF(N467<1000,\"0\"&N467,\"\"& N467))))","v":"0000"},{"$f":"IF(O467=\"a\",\"a\",\"f\")","v":"f"},{"$f":"AF467&AG467&AH467","v":"19000100"},1900,"01","00"]
["","",null,null,null,null,null,null,null,null,null,null,null,null,null,null,"",{"$f":"IF(YEAR(L468)>1900,Einstellungen!$C$10-YEAR(L468),\"---\")","v":"---"},"0000-0000-f-19000100",1,451,"","",1,451,"","","0000","0000","f","19000100",1900,"01","00"]
["","",null,null,null,null,null,null,null,null,null,null,null,null,null,null,"",{"$f":"IF(YEAR(L469)>1900,Einstellungen!$C$10-YEAR(L469),\"---\")","v":"---"},"0000-0000-f-19000100",1,452,"","",1,452,"","","0000","0000","f","19000100",1900,"01","00"]
["","",null,null,null,null,null,null,null,null,null,null,null,null,null,null,"",{"$f":"IF(YEAR(L470)>1900,Einstellungen!$C$10-YEAR(L470),\"---\")","v":"---"},"0000-0000-f-19000100",1,453,"","",1,453,"","","0000","0000","f","19000100",1900,"01","00"]
["","",null,null,null,null,null,null,null,null,null,null,null,null,null,null,"",{"$f":"IF(YEAR(L471)>1900,Einstellungen!$C$10-YEAR(L471),\"---\")","v":"---"},"0000-0000-f-19000100",1,454,"","",1,454,"","","0000","0000","f","19000100",1900,"01","00"]
["","",null,null,null,null,null,null,null,null,null,null,null,null,null,null,"",{"$f":"IF(YEAR(L472)>1900,Einstellungen!$C$10-YEAR(L472),\"---\")","v":"---"},"0000-0000-f-19000100",1,455,"","",1,455,"","","0000","0000","f","19000100",1900,"01","00"]
["","",null,null,null,null,null,null,null,null,null,null,null,null,null,null,"",{"$f":"IF(YEAR(L473)>1900,Einstellungen!$C$10-YEAR(L473),\"---\")","v":"---"},"0000-0000-f-19000100",1,456,"","",1,456,"","","0000","0000","f","19000100",1900,"01","00"]
["","",null,null,null,null,null,null,null,null,null,null,null,null,null,null,"",{"$f":"IF(YEAR(L474)>1900,Einstellungen!$C$10-YEAR(L474),\"---\")","v":"---"},"0000-0000-f-19000100",1,457,"","",1,457,"","","0000","0000","f","19000100",1900,"01","00"]
["","",null,null,null,null,null,null,null,null,null,null,null,null,null,null,"",{"$f":"IF(YEAR(L475)>1900,Einstellungen!$C$10-YEAR(L475),\"---\")","v":"---"},"0000-0000-f-19000100",1,458,"","",1,458,"","","0000","0000","f","19000100",1900,"01","00"]
["","",null,null,null,null,null,null,null,null,null,null,null,null,null,null,"",{"$f":"IF(YEAR(L476)>1900,Einstellungen!$C$10-YEAR(L476),\"---\")","v":"---"},"0000-0000-f-19000100",1,459,"","",1,459,"","","0000","0000","f","19000100",1900,"01","00"]
["","",null,null,null,null,null,null,null,null,null,null,null,null,null,null,"",{"$f":"IF(YEAR(L477)>1900,Einstellungen!$C$10-YEAR(L477),\"---\")","v":"---"},"0000-0000-f-19000100",1,460,"","",1,460,"","","0000","0000","f","19000100",1900,"01","00"]
["","",null,null,null,null,null,null,null,null,null,null,null,null,null,null,"",{"$f":"IF(YEAR(L478)>1900,Einstellungen!$C$10-YEAR(L478),\"---\")","v":"---"},"0000-0000-f-19000100",1,461,"","",1,461,"","","0000","0000","f","19000100",1900,"01","00"]
["","",null,null,null,null,null,null,null,null,null,null,null,null,null,null,"",{"$f":"IF(YEAR(L479)>1900,Einstellungen!$C$10-YEAR(L479),\"---\")","v":"---"},"0000-0000-f-19000100",1,462,"","",1,462,"","","0000","0000","f","19000100",1900,"01","00"]
["","",null,null,null,null,null,null,null,null,null,null,null,null,null,null,"",{"$f":"IF(YEAR(L480)>1900,Einstellungen!$C$10-YEAR(L480),\"---\")","v":"---"},"0000-0000-f-19000100",1,463,"","",1,463,"","","0000","0000","f","19000100",1900,"01","00"]
["","",null,null,null,null,null,null,null,null,null,null,null,null,null,null,"",{"$f":"IF(YEAR(L481)>1900,Einstellungen!$C$10-YEAR(L481),\"---\")","v":"---"},"0000-0000-f-19000100",1,464,"","",1,464,"","","0000","0000","f","19000100",1900,"01","00"]
["","",null,null,null,null,null,null,null,null,null,null,null,null,null,null,"",{"$f":"IF(YEAR(L482)>1900,Einstellungen!$C$10-YEAR(L482),\"---\")","v":"---"},"0000-0000-f-19000100",1,465,"","",1,465,"","","0000","0000","f","19000100",1900,"01","00"]
["","",null,null,null,null,null,null,null,null,null,null,null,null,null,null,"",{"$f":"IF(YEAR(L483)>1900,Einstellungen!$C$10-YEAR(L483),\"---\")","v":"---"},"0000-0000-f-19000100",1,466,"","",1,466,"","","0000","0000","f","19000100",1900,"01","00"]
["","",null,null,null,null,null,null,null,null,null,null,null,null,null,null,"",{"$f":"IF(YEAR(L484)>1900,Einstellungen!$C$10-YEAR(L484),\"---\")","v":"---"},"0000-0000-f-19000100",1,467,"","",1,467,"","","0000","0000","f","19000100",1900,"01","00"]
["","",null,null,null,null,null,null,null,null,null,null,null,null,null,null,"",{"$f":"IF(YEAR(L485)>1900,Einstellungen!$C$10-YEAR(L485),\"---\")","v":"---"},"0000-0000-f-19000100",1,468,"","",1,468,"","","0000","0000","f","19000100",1900,"01","00"]
["","",null,null,null,null,null,null,null,null,null,null,null,null,null,null,"",{"$f":"IF(YEAR(L486)>1900,Einstellungen!$C$10-YEAR(L486),\"---\")","v":"---"},"0000-0000-f-19000100",1,469,"","",1,469,"","","0000","0000","f","19000100",1900,"01","00"]
["","",null,null,null,null,null,null,null,null,null,null,null,null,null,null,"",{"$f":"IF(YEAR(L487)>1900,Einstellungen!$C$10-YEAR(L487),\"---\")","v":"---"},"0000-0000-f-19000100",1,470,"","",1,470,"","","0000","0000","f","19000100",1900,"01","00"]
["","",null,null,null,null,null,null,null,null,null,null,null,null,null,null,"",{"$f":"IF(YEAR(L488)>1900,Einstellungen!$C$10-YEAR(L488),\"---\")","v":"---"},"0000-0000-f-19000100",1,471,"","",1,471,"","","0000","0000","f","19000100",1900,"01","00"]
["","",null,null,null,null,null,null,null,null,null,null,null,null,null,null,"",{"$f":"IF(YEAR(L489)>1900,Einstellungen!$C$10-YEAR(L489),\"---\")","v":"---"},"0000-0000-f-19000100",1,472,"","",1,472,"","","0000","0000","f","19000100",1900,"01","00"]
["","",null,null,null,null,null,null,null,null,null,null,null,null,null,null,"",{"$f":"IF(YEAR(L490)>1900,Einstellungen!$C$10-YEAR(L490),\"---\")","v":"---"},"0000-0000-f-19000100",1,473,"","",1,473,"","","0000","0000","f","19000100",1900,"01","00"]
["","",null,null,null,null,null,null,null,null,null,null,null,null,null,null,"",{"$f":"IF(YEAR(L491)>1900,Einstellungen!$C$10-YEAR(L491),\"---\")","v":"---"},"0000-0000-f-19000100",1,474,"","",1,474,"","","0000","0000","f","19000100",1900,"01","00"]
["","",null,null,null,null,null,null,null,null,null,null,null,null,null,null,"",{"$f":"IF(YEAR(L492)>1900,Einstellungen!$C$10-YEAR(L492),\"---\")","v":"---"},"0000-0000-f-19000100",1,475,"","",1,475,"","","0000","0000","f","19000100",1900,"01","00"]
["","",null,null,null,null,null,null,null,null,null,null,null,null,null,null,"",{"$f":"IF(YEAR(L493)>1900,Einstellungen!$C$10-YEAR(L493),\"---\")","v":"---"},"0000-0000-f-19000100",1,476,"","",1,476,"","","0000","0000","f","19000100",1900,"01","00"]
["","",null,null,null,null,null,null,null,null,null,null,null,null,null,null,"",{"$f":"IF(YEAR(L494)>1900,Einstellungen!$C$10-YEAR(L494),\"---\")","v":"---"},"0000-0000-f-19000100",1,477,"","",1,477,"","","0000","0000","f","19000100",1900,"01","00"]
["","",null,null,null,null,null,null,null,null,null,null,null,null,null,null,"",{"$f":"IF(YEAR(L495)>1900,Einstellungen!$C$10-YEAR(L495),\"---\")","v":"---"},"0000-0000-f-19000100",1,478,"","",1,478,"","","0000","0000","f","19000100",1900,"01","00"]
["","",null,null,null,null,null,null,null,null,null,null,null,null,null,null,"",{"$f":"IF(YEAR(L496)>1900,Einstellungen!$C$10-YEAR(L496),\"---\")","v":"---"},"0000-0000-f-19000100",1,479,"","",1,479,"","","0000","0000","f","19000100",1900,"01","00"]
["","",null,null,null,null,null,null,null,null,null,null,null,null,null,null,"",{"$f":"IF(YEAR(L497)>1900,Einstellungen!$C$10-YEAR(L497),\"---\")","v":"---"},"0000-0000-f-19000100",1,480,"","",1,480,"","","0000","0000","f","19000100",1900,"01","00"]
["","",null,null,null,null,null,null,null,null,null,null,null,null,null,null,"",{"$f":"IF(YEAR(L498)>1900,Einstellungen!$C$10-YEAR(L498),\"---\")","v":"---"},"0000-0000-f-19000100",1,481,"","",1,481,"","","0000","0000","f","19000100",1900,"01","00"]
["","",null,null,null,null,null,null,null,null,null,null,null,null,null,null,"",{"$f":"IF(YEAR(L499)>1900,Einstellungen!$C$10-YEAR(L499),\"---\")","v":"---"},"0000-0000-f-19000100",1,482,"","",1,482,"","","0000","0000","f","19000100",1900,"01","00"]
["","",null,null,null,null,null,null,null,null,null,null,null,null,null,null,"",{"$f":"IF(YEAR(L500)>1900,Einstellungen!$C$10-YEAR(L500),\"---\")","v":"---"},"0000-0000-f-19000100",1,483,"","",1,483,"","","0000","0000","f","19000100",1900,"01","00"]
["","",null,null,null,null,null,null,null,null,null,null,null,null,null,null,"",{"$f":"IF(YEAR(L501)>1900,Einstellungen!$C$10-YEAR(L501),\"---\")","v":"---"},"0000-0000-f-19000100",1,484,"","",1,484,"","","0000","0000","f","19000100",1900,"01","00"]
["","",null,null,null,null,null,null,null,null,null,null,null,null,null,null,"",{"$f":"IF(YEAR(L502)>1900,Einstellungen!$C$10-YEAR(L502),\"---\")","v":"---"},"0000-0000-f-19000100",1,485,"","",1,485,"","","0000","0000","f","19000100",1900,"01","00"]
["","",null,null,null,null,null,null,null,null,null,null,null,null,null,null,"",{"$f":"IF(YEAR(L503)>1900,Einstellungen!$C$10-YEAR(L503),\"---\")","v":"---"},"0000-0000-f-19000100",1,486,"","",1,486,"","","0000","0000","f","19000100",1900,"01","00"]
["","",null,null,null,null,null,null,null,null,null,null,null,null,null,null,"",{"$f":"IF(YEAR(L504)>1900,Einstellungen!$C$10-YEAR(L504),\"---\")","v":"---"},"0000-0000-f-19000100",1,487,"","",1,487,"","","0000","0000","f","19000100",1900,"01","00"]
["","",null,null,null,null,null,null,null,null,null,null,null,null,null,null,"",{"$f":"IF(YEAR(L505)>1900,Einstellungen!$C$10-YEAR(L505),\"---\")","v":"---"},"0000-0000-f-19000100",1,488,"","",1,488,"","","0000","0000","f","19000100",1900,"01","00"]
["","",null,null,null,null,null,null,null,null,null,null,null,null,null,null,"",{"$f":"IF(YEAR(L506)>1900,Einstellungen!$C$10-YEAR(L506),\"---\")","v":"---"},"0000-0000-f-19000100",1,489,"","",1,489,"","","0000","0000","f","19000100",1900,"01","00"]
["","",null,null,null,null,null,null,null,null,null,null,null,null,null,null,"",{"$f":"IF(YEAR(L507)>1900,Einstellungen!$C$10-YEAR(L507),\"---\")","v":"---"},"0000-0000-f-19000100",1,490,"","",1,490,"","","0000","0000","f","19000100",1900,"01","00"]
["","",null,null,null,null,null,null,null,null,null,null,null,null,null,null,"",{"$f":"IF(YEAR(L508)>1900,Einstellungen!$C$10-YEAR(L508),\"---\")","v":"---"},"0000-0000-f-19000100",1,491,"","",1,491,"","","0000","0000","f","19000100",1900,"01","00"]
["","",null,null,null,null,null,null,null,null,null,null,null,null,null,null,"",{"$f":"IF(YEAR(L509)>1900,Einstellungen!$C$10-YEAR(L509),\"---\")","v":"---"},"0000-0000-f-19000100",1,492,"","",1,492,"","","0000","0000","f","19000100",1900,"01","00"]
["","",null,null,null,null,null,null,null,null,null,null,null,null,null,null,"",{"$f":"IF(YEAR(L510)>1900,Einstellungen!$C$10-YEAR(L510),\"---\")","v":"---"},"0000-0000-f-19000100",1,493,"","",1,493,"","","0000","0000","f","19000100",1900,"01","00"]
["","",null,null,null,null,null,null,null,null,null,null,null,null,null,null,"",{"$f":"IF(YEAR(L511)>1900,Einstellungen!$C$10-YEAR(L511),\"---\")","v":"---"},"0000-0000-f-19000100",1,494,"","",1,494,"","","0000","0000","f","19000100",1900,"01","00"]
["","",null,null,null,null,null,null,null,null,null,null,null,null,null,null,"",{"$f":"IF(YEAR(L512)>1900,Einstellungen!$C$10-YEAR(L512),\"---\")","v":"---"},"0000-0000-f-19000100",1,495,"","",1,495,"","","0000","0000","f","19000100",1900,"01","00"]
["","",null,null,null,null,null,null,null,null,null,null,null,null,null,null,"",{"$f":"IF(YEAR(L513)>1900,Einstellungen!$C$10-YEAR(L513),\"---\")","v":"---"},"0000-0000-f-19000100",1,496,"","",1,496,"","","0000","0000","f","19000100",1900,"01","00"]
["","",null,null,null,null,null,null,null,null,null,null,null,null,null,null,"",{"$f":"IF(YEAR(L514)>1900,Einstellungen!$C$10-YEAR(L514),\"---\")","v":"---"},"0000-0000-f-19000100",1,497,"","",1,497,"","","0000","0000","f","19000100",1900,"01","00"]
["","",null,null,null,null,null,null,null,null,null,null,null,null,null,null,"",{"$f":"IF(YEAR(L515)>1900,Einstellungen!$C$10-YEAR(L515),\"---\")","v":"---"},"0000-0000-f-19000100",1,498,"","",1,498,"","","0000","0000","f","19000100",1900,"01","00"]
["","",null,null,null,null,null,null,null,null,null,null,null,null,null,null,"",{"$f":"IF(YEAR(L516)>1900,Einstellungen!$C$10-YEAR(L516),\"---\")","v":"---"},"0000-0000-f-19000100",1,499,"","",1,499,"","","0000","0000","f","19000100",1900,"01","00"]
["","",null,null,null,null,null,null,null,null,null,null,null,null,null,null,"",{"$f":"IF(YEAR(L517)>1900,Einstellungen!$C$10-YEAR(L517),\"---\")","v":"---"},"0000-0000-f-19000100",1,500,"","",1,500,"","","0000","0000","f","19000100",1900,"01","00"]
["","",null,null,null,null,null,null,null,null,null,null,null,null,null,null,"",{"$f":"IF(YEAR(L518)>1900,Einstellungen!$C$10-YEAR(L518),\"---\")","v":"---"},"0000-0000-f-19000100",1,501,"","",1,501,"","","0000","0000","f","19000100",1900,"01","00"]
["","",null,null,null,null,null,null,null,null,null,null,null,null,null,null,"",{"$f":"IF(YEAR(L519)>1900,Einstellungen!$C$10-YEAR(L519),\"---\")","v":"---"},"0000-0000-f-19000100",1,502,"","",1,502,"","","0000","0000","f","19000100",1900,"01","00"]
["","",null,null,null,null,null,null,null,null,null,null,null,null,null,null,"",{"$f":"IF(YEAR(L520)>1900,Einstellungen!$C$10-YEAR(L520),\"---\")","v":"---"},"0000-0000-f-19000100",1,503,"","",1,503,"","","0000","0000","f","19000100",1900,"01","00"]
["","",null,null,null,null,null,null,null,null,null,null,null,null,null,null,"",{"$f":"IF(YEAR(L521)>1900,Einstellungen!$C$10-YEAR(L521),\"---\")","v":"---"},"0000-0000-f-19000100",1,504,"","",1,504,"","","0000","0000","f","19000100",1900,"01","00"]
["","",null,null,null,null,null,null,null,null,null,null,null,null,null,null,"",{"$f":"IF(YEAR(L522)>1900,Einstellungen!$C$10-YEAR(L522),\"---\")","v":"---"},"0000-0000-f-19000100",1,505,"","",1,505,"","","0000","0000","f","19000100",1900,"01","00"]
["","",null,null,null,null,null,null,null,null,null,null,null,null,null,null,"",{"$f":"IF(YEAR(L523)>1900,Einstellungen!$C$10-YEAR(L523),\"---\")","v":"---"},"0000-0000-f-19000100",1,506,"","",1,506,"","","0000","0000","f","19000100",1900,"01","00"]
["","",null,null,null,null,null,null,null,null,null,null,null,null,null,null,"",{"$f":"IF(YEAR(L524)>1900,Einstellungen!$C$10-YEAR(L524),\"---\")","v":"---"},"0000-0000-f-19000100",1,507,"","",1,507,"","","0000","0000","f","19000100",1900,"01","00"]
["","",null,null,null,null,null,null,null,null,null,null,null,null,null,null,"",{"$f":"IF(YEAR(L525)>1900,Einstellungen!$C$10-YEAR(L525),\"---\")","v":"---"},"0000-0000-f-19000100",1,508,"","",1,508,"","","0000","0000","f","19000100",1900,"01","00"]
["","",null,null,null,null,null,null,null,null,null,null,null,null,null,null,"",{"$f":"IF(YEAR(L526)>1900,Einstellungen!$C$10-YEAR(L526),\"---\")","v":"---"},"0000-0000-f-19000100",1,509,"","",1,509,"","","0000","0000","f","19000100",1900,"01","00"]
["","",null,null,null,null,null,null,null,null,null,null,null,null,null,null,"",{"$f":"IF(YEAR(L527)>1900,Einstellungen!$C$10-YEAR(L527),\"---\")","v":"---"},"0000-0000-f-19000100",1,510,"","",1,510,"","","0000","0000","f","19000100",1900,"01","00"]
["","",null,null,null,null,null,null,null,null,null,null,null,null,null,null,"",{"$f":"IF(YEAR(L528)>1900,Einstellungen!$C$10-YEAR(L528),\"---\")","v":"---"},"0000-0000-f-19000100",1,511,"","",1,511,"","","0000","0000","f","19000100",1900,"01","00"]
["","",null,null,null,null,null,null,null,null,null,null,null,null,null,null,"",{"$f":"IF(YEAR(L529)>1900,Einstellungen!$C$10-YEAR(L529),\"---\")","v":"---"},"0000-0000-f-19000100",1,512,"","",1,512,"","","0000","0000","f","19000100",1900,"01","00"]
["","",null,null,null,null,null,null,null,null,null,null,null,null,null,null,{"$f":"IF(LEN(D530)>0,IF(P530=\"x\",\"\",\"x\"),\"\")","v":""},{"$f":"IF(YEAR(L530)>1900,Einstellungen!$C$10-YEAR(L530),\"---\")","v":"---"},"0000-0000-f-19000100",1,513,"","",{"$f":"IF(LEN(C530)>0, 0, T530)","v":1},513,"","","0000","0000","f","19000100",{"$f":"YEAR(L530)","v":1900},{"$f":"IF(MONTH(L530)<10,\"0\"&MONTH(L530),MONTH(L530))","v":"01"},{"$f":"IF(DAY(L530)<10,\"0\"&DAY(L530),DAY(L530))","v":"00"}]
["","",null,null,null,null,null,null,null,null,null,null,null,null,null,null,"",{"$f":"IF(YEAR(L531)>1900,Einstellungen!$C$10-YEAR(L531),\"---\")","v":"---"},{"$f":"AB531 & \"-\" & AC531 & \"-\" & AD531 & \"-\" & AE531","v":"0000-0000-f-19000100"},{"$f":"IF(R531<=$AE$12,1,0)","v":1},{"$f":"IF(T531=1,U530+1,U530)","v":514},{"$f":"IF((M531+N531)>0,IF(T531=1,U531,\"-\"),\"\")","v":""},{"$f":"Z531 & AA531","v":""},1,{"$f":"Y530+X531","v":514},{"$f":"IF(X531=1,IF(Y531<=$Z$12,\"Q\",\"\"),\"\")","v":""},{"$f":"IF(X531=1, IF(Y531>$Z$12, IF(Y531<=($Z$12+$AA$12),\"R\",\"\"),\"\"), \"\")","v":""},{"$f":"IF(M531<1,\"0000\", IF(M531<10,\"000\"&M531, IF(M531<100,\"00\"&M531, IF(M531<1000,\"0\"&M531,\"\"& M531))))","v":"0000"},{"$f":"IF(N531<1,\"0000\", IF(N531<10,\"000\"&N531, IF(N531<100,\"00\"&N531, IF(N531<1000,\"0\"&N531,\"\"& N531))))","v":"0000"},{"$f":"IF(O531=\"a\",\"a\",\"f\")","v":"f"},{"$f":"AF531&AG531&AH531","v":"19000100"},1900,"01","00"]
["","",null,null,null,null,null,null,null,null,null,null,null,null,null,null,"",{"$f":"IF(YEAR(L532)>1900,Einstellungen!$C$10-YEAR(L532),\"---\")","v":"---"},"0000-0000-f-19000100",1,515,"","",1,515,"","","0000","0000","f","19000100",1900,"01","00"]
["","",null,null,null,null,null,null,null,null,null,null,null,null,null,null,"",{"$f":"IF(YEAR(L533)>1900,Einstellungen!$C$10-YEAR(L533),\"---\")","v":"---"},"0000-0000-f-19000100",1,516,"","",1,516,"","","0000","0000","f","19000100",1900,"01","00"]
["","",null,null,null,null,null,null,null,null,null,null,null,null,null,null,"",{"$f":"IF(YEAR(L534)>1900,Einstellungen!$C$10-YEAR(L534),\"---\")","v":"---"},"0000-0000-f-19000100",1,517,"","",1,517,"","","0000","0000","f","19000100",1900,"01","00"]
["","",null,null,null,null,null,null,null,null,null,null,null,null,null,null,"",{"$f":"IF(YEAR(L535)>1900,Einstellungen!$C$10-YEAR(L535),\"---\")","v":"---"},"0000-0000-f-19000100",1,518,"","",1,518,"","","0000","0000","f","19000100",1900,"01","00"]
["","",null,null,null,null,null,null,null,null,null,null,null,null,null,null,"",{"$f":"IF(YEAR(L536)>1900,Einstellungen!$C$10-YEAR(L536),\"---\")","v":"---"},"0000-0000-f-19000100",1,519,"","",1,519,"","","0000","0000","f","19000100",1900,"01","00"]
["","",null,null,null,null,null,null,null,null,null,null,null,null,null,null,"",{"$f":"IF(YEAR(L537)>1900,Einstellungen!$C$10-YEAR(L537),\"---\")","v":"---"},"0000-0000-f-19000100",1,520,"","",1,520,"","","0000","0000","f","19000100",1900,"01","00"]
["","",null,null,null,null,null,null,null,null,null,null,null,null,null,null,"",{"$f":"IF(YEAR(L538)>1900,Einstellungen!$C$10-YEAR(L538),\"---\")","v":"---"},"0000-0000-f-19000100",1,521,"","",1,521,"","","0000","0000","f","19000100",1900,"01","00"]
["","",null,null,null,null,null,null,null,null,null,null,null,null,null,null,"",{"$f":"IF(YEAR(L539)>1900,Einstellungen!$C$10-YEAR(L539),\"---\")","v":"---"},"0000-0000-f-19000100",1,522,"","",1,522,"","","0000","0000","f","19000100",1900,"01","00"]
["","",null,null,null,null,null,null,null,null,null,null,null,null,null,null,"",{"$f":"IF(YEAR(L540)>1900,Einstellungen!$C$10-YEAR(L540),\"---\")","v":"---"},"0000-0000-f-19000100",1,523,"","",1,523,"","","0000","0000","f","19000100",1900,"01","00"]
["","",null,null,null,null,null,null,null,null,null,null,null,null,null,null,"",{"$f":"IF(YEAR(L541)>1900,Einstellungen!$C$10-YEAR(L541),\"---\")","v":"---"},"0000-0000-f-19000100",1,524,"","",1,524,"","","0000","0000","f","19000100",1900,"01","00"]
["","",null,null,null,null,null,null,null,null,null,null,null,null,null,null,"",{"$f":"IF(YEAR(L542)>1900,Einstellungen!$C$10-YEAR(L542),\"---\")","v":"---"},"0000-0000-f-19000100",1,525,"","",1,525,"","","0000","0000","f","19000100",1900,"01","00"]
["","",null,null,null,null,null,null,null,null,null,null,null,null,null,null,"",{"$f":"IF(YEAR(L543)>1900,Einstellungen!$C$10-YEAR(L543),\"---\")","v":"---"},"0000-0000-f-19000100",1,526,"","",1,526,"","","0000","0000","f","19000100",1900,"01","00"]
["","",null,null,null,null,null,null,null,null,null,null,null,null,null,null,"",{"$f":"IF(YEAR(L544)>1900,Einstellungen!$C$10-YEAR(L544),\"---\")","v":"---"},"0000-0000-f-19000100",1,527,"","",1,527,"","","0000","0000","f","19000100",1900,"01","00"]
["","",null,null,null,null,null,null,null,null,null,null,null,null,null,null,"",{"$f":"IF(YEAR(L545)>1900,Einstellungen!$C$10-YEAR(L545),\"---\")","v":"---"},"0000-0000-f-19000100",1,528,"","",1,528,"","","0000","0000","f","19000100",1900,"01","00"]
["","",null,null,null,null,null,null,null,null,null,null,null,null,null,null,"",{"$f":"IF(YEAR(L546)>1900,Einstellungen!$C$10-YEAR(L546),\"---\")","v":"---"},"0000-0000-f-19000100",1,529,"","",1,529,"","","0000","0000","f","19000100",1900,"01","00"]
["","",null,null,null,null,null,null,null,null,null,null,null,null,null,null,"",{"$f":"IF(YEAR(L547)>1900,Einstellungen!$C$10-YEAR(L547),\"---\")","v":"---"},"0000-0000-f-19000100",1,530,"","",1,530,"","","0000","0000","f","19000100",1900,"01","00"]
["","",null,null,null,null,null,null,null,null,null,null,null,null,null,null,"",{"$f":"IF(YEAR(L548)>1900,Einstellungen!$C$10-YEAR(L548),\"---\")","v":"---"},"0000-0000-f-19000100",1,531,"","",1,531,"","","0000","0000","f","19000100",1900,"01","00"]
["","",null,null,null,null,null,null,null,null,null,null,null,null,null,null,"",{"$f":"IF(YEAR(L549)>1900,Einstellungen!$C$10-YEAR(L549),\"---\")","v":"---"},"0000-0000-f-19000100",1,532,"","",1,532,"","","0000","0000","f","19000100",1900,"01","00"]
["","",null,null,null,null,null,null,null,null,null,null,null,null,null,null,"",{"$f":"IF(YEAR(L550)>1900,Einstellungen!$C$10-YEAR(L550),\"---\")","v":"---"},"0000-0000-f-19000100",1,533,"","",1,533,"","","0000","0000","f","19000100",1900,"01","00"]
["","",null,null,null,null,null,null,null,null,null,null,null,null,null,null,"",{"$f":"IF(YEAR(L551)>1900,Einstellungen!$C$10-YEAR(L551),\"---\")","v":"---"},"0000-0000-f-19000100",1,534,"","",1,534,"","","0000","0000","f","19000100",1900,"01","00"]
["","",null,null,null,null,null,null,null,null,null,null,null,null,null,null,"",{"$f":"IF(YEAR(L552)>1900,Einstellungen!$C$10-YEAR(L552),\"---\")","v":"---"},"0000-0000-f-19000100",1,535,"","",1,535,"","","0000","0000","f","19000100",1900,"01","00"]
["","",null,null,null,null,null,null,null,null,null,null,null,null,null,null,"",{"$f":"IF(YEAR(L553)>1900,Einstellungen!$C$10-YEAR(L553),\"---\")","v":"---"},"0000-0000-f-19000100",1,536,"","",1,536,"","","0000","0000","f","19000100",1900,"01","00"]
["","",null,null,null,null,null,null,null,null,null,null,null,null,null,null,"",{"$f":"IF(YEAR(L554)>1900,Einstellungen!$C$10-YEAR(L554),\"---\")","v":"---"},"0000-0000-f-19000100",1,537,"","",1,537,"","","0000","0000","f","19000100",1900,"01","00"]
["","",null,null,null,null,null,null,null,null,null,null,null,null,null,null,"",{"$f":"IF(YEAR(L555)>1900,Einstellungen!$C$10-YEAR(L555),\"---\")","v":"---"},"0000-0000-f-19000100",1,538,"","",1,538,"","","0000","0000","f","19000100",1900,"01","00"]
["","",null,null,null,null,null,null,null,null,null,null,null,null,null,null,"",{"$f":"IF(YEAR(L556)>1900,Einstellungen!$C$10-YEAR(L556),\"---\")","v":"---"},"0000-0000-f-19000100",1,539,"","",1,539,"","","0000","0000","f","19000100",1900,"01","00"]
["","",null,null,null,null,null,null,null,null,null,null,null,null,null,null,"",{"$f":"IF(YEAR(L557)>1900,Einstellungen!$C$10-YEAR(L557),\"---\")","v":"---"},"0000-0000-f-19000100",1,540,"","",1,540,"","","0000","0000","f","19000100",1900,"01","00"]
["","",null,null,null,null,null,null,null,null,null,null,null,null,null,null,"",{"$f":"IF(YEAR(L558)>1900,Einstellungen!$C$10-YEAR(L558),\"---\")","v":"---"},"0000-0000-f-19000100",1,541,"","",1,541,"","","0000","0000","f","19000100",1900,"01","00"]
["","",null,null,null,null,null,null,null,null,null,null,null,null,null,null,"",{"$f":"IF(YEAR(L559)>1900,Einstellungen!$C$10-YEAR(L559),\"---\")","v":"---"},"0000-0000-f-19000100",1,542,"","",1,542,"","","0000","0000","f","19000100",1900,"01","00"]
["","",null,null,null,null,null,null,null,null,null,null,null,null,null,null,"",{"$f":"IF(YEAR(L560)>1900,Einstellungen!$C$10-YEAR(L560),\"---\")","v":"---"},"0000-0000-f-19000100",1,543,"","",1,543,"","","0000","0000","f","19000100",1900,"01","00"]
["","",null,null,null,null,null,null,null,null,null,null,null,null,null,null,"",{"$f":"IF(YEAR(L561)>1900,Einstellungen!$C$10-YEAR(L561),\"---\")","v":"---"},"0000-0000-f-19000100",1,544,"","",1,544,"","","0000","0000","f","19000100",1900,"01","00"]
["","",null,null,null,null,null,null,null,null,null,null,null,null,null,null,"",{"$f":"IF(YEAR(L562)>1900,Einstellungen!$C$10-YEAR(L562),\"---\")","v":"---"},"0000-0000-f-19000100",1,545,"","",1,545,"","","0000","0000","f","19000100",1900,"01","00"]
["","",null,null,null,null,null,null,null,null,null,null,null,null,null,null,"",{"$f":"IF(YEAR(L563)>1900,Einstellungen!$C$10-YEAR(L563),\"---\")","v":"---"},"0000-0000-f-19000100",1,546,"","",1,546,"","","0000","0000","f","19000100",1900,"01","00"]
["","",null,null,null,null,null,null,null,null,null,null,null,null,null,null,"",{"$f":"IF(YEAR(L564)>1900,Einstellungen!$C$10-YEAR(L564),\"---\")","v":"---"},"0000-0000-f-19000100",1,547,"","",1,547,"","","0000","0000","f","19000100",1900,"01","00"]
["","",null,null,null,null,null,null,null,null,null,null,null,null,null,null,"",{"$f":"IF(YEAR(L565)>1900,Einstellungen!$C$10-YEAR(L565),\"---\")","v":"---"},"0000-0000-f-19000100",1,548,"","",1,548,"","","0000","0000","f","19000100",1900,"01","00"]
["","",null,null,null,null,null,null,null,null,null,null,null,null,null,null,"",{"$f":"IF(YEAR(L566)>1900,Einstellungen!$C$10-YEAR(L566),\"---\")","v":"---"},"0000-0000-f-19000100",1,549,"","",1,549,"","","0000","0000","f","19000100",1900,"01","00"]
["","",null,null,null,null,null,null,null,null,null,null,null,null,null,null,"",{"$f":"IF(YEAR(L567)>1900,Einstellungen!$C$10-YEAR(L567),\"---\")","v":"---"},"0000-0000-f-19000100",1,550,"","",1,550,"","","0000","0000","f","19000100",1900,"01","00"]
["","",null,null,null,null,null,null,null,null,null,null,null,null,null,null,"",{"$f":"IF(YEAR(L568)>1900,Einstellungen!$C$10-YEAR(L568),\"---\")","v":"---"},"0000-0000-f-19000100",1,551,"","",1,551,"","","0000","0000","f","19000100",1900,"01","00"]
["","",null,null,null,null,null,null,null,null,null,null,null,null,null,null,"",{"$f":"IF(YEAR(L569)>1900,Einstellungen!$C$10-YEAR(L569),\"---\")","v":"---"},"0000-0000-f-19000100",1,552,"","",1,552,"","","0000","0000","f","19000100",1900,"01","00"]
["","",null,null,null,null,null,null,null,null,null,null,null,null,null,null,"",{"$f":"IF(YEAR(L570)>1900,Einstellungen!$C$10-YEAR(L570),\"---\")","v":"---"},"0000-0000-f-19000100",1,553,"","",1,553,"","","0000","0000","f","19000100",1900,"01","00"]
["","",null,null,null,null,null,null,null,null,null,null,null,null,null,null,"",{"$f":"IF(YEAR(L571)>1900,Einstellungen!$C$10-YEAR(L571),\"---\")","v":"---"},"0000-0000-f-19000100",1,554,"","",1,554,"","","0000","0000","f","19000100",1900,"01","00"]
["","",null,null,null,null,null,null,null,null,null,null,null,null,null,null,"",{"$f":"IF(YEAR(L572)>1900,Einstellungen!$C$10-YEAR(L572),\"---\")","v":"---"},"0000-0000-f-19000100",1,555,"","",1,555,"","","0000","0000","f","19000100",1900,"01","00"]
["","",null,null,null,null,null,null,null,null,null,null,null,null,null,null,"",{"$f":"IF(YEAR(L573)>1900,Einstellungen!$C$10-YEAR(L573),\"---\")","v":"---"},"0000-0000-f-19000100",1,556,"","",1,556,"","","0000","0000","f","19000100",1900,"01","00"]
["","",null,null,null,null,null,null,null,null,null,null,null,null,null,null,"",{"$f":"IF(YEAR(L574)>1900,Einstellungen!$C$10-YEAR(L574),\"---\")","v":"---"},"0000-0000-f-19000100",1,557,"","",1,557,"","","0000","0000","f","19000100",1900,"01","00"]
["","",null,null,null,null,null,null,null,null,null,null,null,null,null,null,"",{"$f":"IF(YEAR(L575)>1900,Einstellungen!$C$10-YEAR(L575),\"---\")","v":"---"},"0000-0000-f-19000100",1,558,"","",1,558,"","","0000","0000","f","19000100",1900,"01","00"]
["","",null,null,null,null,null,null,null,null,null,null,null,null,null,null,"",{"$f":"IF(YEAR(L576)>1900,Einstellungen!$C$10-YEAR(L576),\"---\")","v":"---"},"0000-0000-f-19000100",1,559,"","",1,559,"","","0000","0000","f","19000100",1900,"01","00"]
["","",null,null,null,null,null,null,null,null,null,null,null,null,null,null,"",{"$f":"IF(YEAR(L577)>1900,Einstellungen!$C$10-YEAR(L577),\"---\")","v":"---"},"0000-0000-f-19000100",1,560,"","",1,560,"","","0000","0000","f","19000100",1900,"01","00"]
["","",null,null,null,null,null,null,null,null,null,null,null,null,null,null,"",{"$f":"IF(YEAR(L578)>1900,Einstellungen!$C$10-YEAR(L578),\"---\")","v":"---"},"0000-0000-f-19000100",1,561,"","",1,561,"","","0000","0000","f","19000100",1900,"01","00"]
["","",null,null,null,null,null,null,null,null,null,null,null,null,null,null,"",{"$f":"IF(YEAR(L579)>1900,Einstellungen!$C$10-YEAR(L579),\"---\")","v":"---"},"0000-0000-f-19000100",1,562,"","",1,562,"","","0000","0000","f","19000100",1900,"01","00"]
["","",null,null,null,null,null,null,null,null,null,null,null,null,null,null,"",{"$f":"IF(YEAR(L580)>1900,Einstellungen!$C$10-YEAR(L580),\"---\")","v":"---"},"0000-0000-f-19000100",1,563,"","",1,563,"","","0000","0000","f","19000100",1900,"01","00"]
["","",null,null,null,null,null,null,null,null,null,null,null,null,null,null,"",{"$f":"IF(YEAR(L581)>1900,Einstellungen!$C$10-YEAR(L581),\"---\")","v":"---"},"0000-0000-f-19000100",1,564,"","",1,564,"","","0000","0000","f","19000100",1900,"01","00"]
["","",null,null,null,null,null,null,null,null,null,null,null,null,null,null,"",{"$f":"IF(YEAR(L582)>1900,Einstellungen!$C$10-YEAR(L582),\"---\")","v":"---"},"0000-0000-f-19000100",1,565,"","",1,565,"","","0000","0000","f","19000100",1900,"01","00"]
["","",null,null,null,null,null,null,null,null,null,null,null,null,null,null,"",{"$f":"IF(YEAR(L583)>1900,Einstellungen!$C$10-YEAR(L583),\"---\")","v":"---"},"0000-0000-f-19000100",1,566,"","",1,566,"","","0000","0000","f","19000100",1900,"01","00"]
["","",null,null,null,null,null,null,null,null,null,null,null,null,null,null,"",{"$f":"IF(YEAR(L584)>1900,Einstellungen!$C$10-YEAR(L584),\"---\")","v":"---"},"0000-0000-f-19000100",1,567,"","",1,567,"","","0000","0000","f","19000100",1900,"01","00"]
["","",null,null,null,null,null,null,null,null,null,null,null,null,null,null,"",{"$f":"IF(YEAR(L585)>1900,Einstellungen!$C$10-YEAR(L585),\"---\")","v":"---"},"0000-0000-f-19000100",1,568,"","",1,568,"","","0000","0000","f","19000100",1900,"01","00"]
["","",null,null,null,null,null,null,null,null,null,null,null,null,null,null,"",{"$f":"IF(YEAR(L586)>1900,Einstellungen!$C$10-YEAR(L586),\"---\")","v":"---"},"0000-0000-f-19000100",1,569,"","",1,569,"","","0000","0000","f","19000100",1900,"01","00"]
["","",null,null,null,null,null,null,null,null,null,null,null,null,null,null,"",{"$f":"IF(YEAR(L587)>1900,Einstellungen!$C$10-YEAR(L587),\"---\")","v":"---"},"0000-0000-f-19000100",1,570,"","",1,570,"","","0000","0000","f","19000100",1900,"01","00"]
["","",null,null,null,null,null,null,null,null,null,null,null,null,null,null,"",{"$f":"IF(YEAR(L588)>1900,Einstellungen!$C$10-YEAR(L588),\"---\")","v":"---"},"0000-0000-f-19000100",1,571,"","",1,571,"","","0000","0000","f","19000100",1900,"01","00"]
["","",null,null,null,null,null,null,null,null,null,null,null,null,null,null,"",{"$f":"IF(YEAR(L589)>1900,Einstellungen!$C$10-YEAR(L589),\"---\")","v":"---"},"0000-0000-f-19000100",1,572,"","",1,572,"","","0000","0000","f","19000100",1900,"01","00"]
["","",null,null,null,null,null,null,null,null,null,null,null,null,null,null,"",{"$f":"IF(YEAR(L590)>1900,Einstellungen!$C$10-YEAR(L590),\"---\")","v":"---"},"0000-0000-f-19000100",1,573,"","",1,573,"","","0000","0000","f","19000100",1900,"01","00"]
["","",null,null,null,null,null,null,null,null,null,null,null,null,null,null,"",{"$f":"IF(YEAR(L591)>1900,Einstellungen!$C$10-YEAR(L591),\"---\")","v":"---"},"0000-0000-f-19000100",1,574,"","",1,574,"","","0000","0000","f","19000100",1900,"01","00"]
["","",null,null,null,null,null,null,null,null,null,null,null,null,null,null,"",{"$f":"IF(YEAR(L592)>1900,Einstellungen!$C$10-YEAR(L592),\"---\")","v":"---"},"0000-0000-f-19000100",1,575,"","",1,575,"","","0000","0000","f","19000100",1900,"01","00"]
["","",null,null,null,null,null,null,null,null,null,null,null,null,null,null,"",{"$f":"IF(YEAR(L593)>1900,Einstellungen!$C$10-YEAR(L593),\"---\")","v":"---"},"0000-0000-f-19000100",1,576,"","",1,576,"","","0000","0000","f","19000100",1900,"01","00"]
["","",null,null,null,null,null,null,null,null,null,null,null,null,null,null,{"$f":"IF(LEN(D594)>0,IF(P594=\"x\",\"\",\"x\"),\"\")","v":""},{"$f":"IF(YEAR(L594)>1900,Einstellungen!$C$10-YEAR(L594),\"---\")","v":"---"},"0000-0000-f-19000100",1,577,"","",{"$f":"IF(LEN(C594)>0, 0, T594)","v":1},577,"","","0000","0000","f","19000100",{"$f":"YEAR(L594)","v":1900},{"$f":"IF(MONTH(L594)<10,\"0\"&MONTH(L594),MONTH(L594))","v":"01"},{"$f":"IF(DAY(L594)<10,\"0\"&DAY(L594),DAY(L594))","v":"00"}]
["","",null,null,null,null,null,null,null,null,null,null,null,null,null,null,"",{"$f":"IF(YEAR(L595)>1900,Einstellungen!$C$10-YEAR(L595),\"---\")","v":"---"},{"$f":"AB595 & \"-\" & AC595 & \"-\" & AD595 & \"-\" & AE595","v":"0000-0000-f-19000100"},{"$f":"IF(R595<=$AE$12,1,0)","v":1},{"$f":"IF(T595=1,U594+1,U594)","v":578},{"$f":"IF((M595+N595)>0,IF(T595=1,U595,\"-\"),\"\")","v":""},{"$f":"Z595 & AA595","v":""},1,{"$f":"Y594+X595","v":578},{"$f":"IF(X595=1,IF(Y595<=$Z$12,\"Q\",\"\"),\"\")","v":""},{"$f":"IF(X595=1, IF(Y595>$Z$12, IF(Y595<=($Z$12+$AA$12),\"R\",\"\"),\"\"), \"\")","v":""},{"$f":"IF(M595<1,\"0000\", IF(M595<10,\"000\"&M595, IF(M595<100,\"00\"&M595, IF(M595<1000,\"0\"&M595,\"\"& M595))))","v":"0000"},{"$f":"IF(N595<1,\"0000\", IF(N595<10,\"000\"&N595, IF(N595<100,\"00\"&N595, IF(N595<1000,\"0\"&N595,\"\"& N595))))","v":"0000"},{"$f":"IF(O595=\"a\",\"a\",\"f\")","v":"f"},{"$f":"AF595&AG595&AH595","v":"19000100"},1900,"01","00"]
["","",null,null,null,null,null,null,null,null,null,null,null,null,null,null,"",{"$f":"IF(YEAR(L596)>1900,Einstellungen!$C$10-YEAR(L596),\"---\")","v":"---"},"0000-0000-f-19000100",1,579,"","",1,579,"","","0000","0000","f","19000100",1900,"01","00"]
["","",null,null,null,null,null,null,null,null,null,null,null,null,null,null,"",{"$f":"IF(YEAR(L597)>1900,Einstellungen!$C$10-YEAR(L597),\"---\")","v":"---"},"0000-0000-f-19000100",1,580,"","",1,580,"","","0000","0000","f","19000100",1900,"01","00"]
["","",null,null,null,null,null,null,null,null,null,null,null,null,null,null,"",{"$f":"IF(YEAR(L598)>1900,Einstellungen!$C$10-YEAR(L598),\"---\")","v":"---"},"0000-0000-f-19000100",1,581,"","",1,581,"","","0000","0000","f","19000100",1900,"01","00"]
["","",null,null,null,null,null,null,null,null,null,null,null,null,null,null,"",{"$f":"IF(YEAR(L599)>1900,Einstellungen!$C$10-YEAR(L599),\"---\")","v":"---"},"0000-0000-f-19000100",1,582,"","",1,582,"","","0000","0000","f","19000100",1900,"01","00"]
["","",null,null,null,null,null,null,null,null,null,null,null,null,null,null,"",{"$f":"IF(YEAR(L600)>1900,Einstellungen!$C$10-YEAR(L600),\"---\")","v":"---"},"0000-0000-f-19000100",1,583,"","",1,583,"","","0000","0000","f","19000100",1900,"01","00"]
["","",null,null,null,null,null,null,null,null,null,null,null,null,null,null,"",{"$f":"IF(YEAR(L601)>1900,Einstellungen!$C$10-YEAR(L601),\"---\")","v":"---"},"0000-0000-f-19000100",1,584,"","",1,584,"","","0000","0000","f","19000100",1900,"01","00"]
["","",null,null,null,null,null,null,null,null,null,null,null,null,null,null,"",{"$f":"IF(YEAR(L602)>1900,Einstellungen!$C$10-YEAR(L602),\"---\")","v":"---"},"0000-0000-f-19000100",1,585,"","",1,585,"","","0000","0000","f","19000100",1900,"01","00"]
["","",null,null,null,null,null,null,null,null,null,null,null,null,null,null,"",{"$f":"IF(YEAR(L603)>1900,Einstellungen!$C$10-YEAR(L603),\"---\")","v":"---"},"0000-0000-f-19000100",1,586,"","",1,586,"","","0000","0000","f","19000100",1900,"01","00"]
["","",null,null,null,null,null,null,null,null,null,null,null,null,null,null,"",{"$f":"IF(YEAR(L604)>1900,Einstellungen!$C$10-YEAR(L604),\"---\")","v":"---"},"0000-0000-f-19000100",1,587,"","",1,587,"","","0000","0000","f","19000100",1900,"01","00"]
["","",null,null,null,null,null,null,null,null,null,null,null,null,null,null,"",{"$f":"IF(YEAR(L605)>1900,Einstellungen!$C$10-YEAR(L605),\"---\")","v":"---"},"0000-0000-f-19000100",1,588,"","",1,588,"","","0000","0000","f","19000100",1900,"01","00"]
["","",null,null,null,null,null,null,null,null,null,null,null,null,null,null,"",{"$f":"IF(YEAR(L606)>1900,Einstellungen!$C$10-YEAR(L606),\"---\")","v":"---"},"0000-0000-f-19000100",1,589,"","",1,589,"","","0000","0000","f","19000100",1900,"01","00"]
["","",null,null,null,null,null,null,null,null,null,null,null,null,null,null,"",{"$f":"IF(YEAR(L607)>1900,Einstellungen!$C$10-YEAR(L607),\"---\")","v":"---"},"0000-0000-f-19000100",1,590,"","",1,590,"","","0000","0000","f","19000100",1900,"01","00"]
["","",null,null,null,null,null,null,null,null,null,null,null,null,null,null,"",{"$f":"IF(YEAR(L608)>1900,Einstellungen!$C$10-YEAR(L608),\"---\")","v":"---"},"0000-0000-f-19000100",1,591,"","",1,591,"","","0000","0000","f","19000100",1900,"01","00"]
["","",null,null,null,null,null,null,null,null,null,null,null,null,null,null,"",{"$f":"IF(YEAR(L609)>1900,Einstellungen!$C$10-YEAR(L609),\"---\")","v":"---"},"0000-0000-f-19000100",1,592,"","",1,592,"","","0000","0000","f","19000100",1900,"01","00"]
["","",null,null,null,null,null,null,null,null,null,null,null,null,null,null,"",{"$f":"IF(YEAR(L610)>1900,Einstellungen!$C$10-YEAR(L610),\"---\")","v":"---"},"0000-0000-f-19000100",1,593,"","",1,593,"","","0000","0000","f","19000100",1900,"01","00"]
["","",null,null,null,null,null,null,null,null,null,null,null,null,null,null,"",{"$f":"IF(YEAR(L611)>1900,Einstellungen!$C$10-YEAR(L611),\"---\")","v":"---"},"0000-0000-f-19000100",1,594,"","",1,594,"","","0000","0000","f","19000100",1900,"01","00"]
["","",null,null,null,null,null,null,null,null,null,null,null,null,null,null,"",{"$f":"IF(YEAR(L612)>1900,Einstellungen!$C$10-YEAR(L612),\"---\")","v":"---"},"0000-0000-f-19000100",1,595,"","",1,595,"","","0000","0000","f","19000100",1900,"01","00"]
["","",null,null,null,null,null,null,null,null,null,null,null,null,null,null,"",{"$f":"IF(YEAR(L613)>1900,Einstellungen!$C$10-YEAR(L613),\"---\")","v":"---"},"0000-0000-f-19000100",1,596,"","",1,596,"","","0000","0000","f","19000100",1900,"01","00"]
["","",null,null,null,null,null,null,null,null,null,null,null,null,null,null,"",{"$f":"IF(YEAR(L614)>1900,Einstellungen!$C$10-YEAR(L614),\"---\")","v":"---"},"0000-0000-f-19000100",1,597,"","",1,597,"","","0000","0000","f","19000100",1900,"01","00"]
["","",null,null,null,null,null,null,null,null,null,null,null,null,null,null,"",{"$f":"IF(YEAR(L615)>1900,Einstellungen!$C$10-YEAR(L615),\"---\")","v":"---"},"0000-0000-f-19000100",1,598,"","",1,598,"","","0000","0000","f","19000100",1900,"01","00"]
["","",null,null,null,null,null,null,null,null,null,null,null,null,null,null,"",{"$f":"IF(YEAR(L616)>1900,Einstellungen!$C$10-YEAR(L616),\"---\")","v":"---"},"0000-0000-f-19000100",1,599,"","",1,599,"","","0000","0000","f","19000100",1900,"01","00"]
["","",null,null,null,null,null,null,null,null,null,null,null,null,null,null,"",{"$f":"IF(YEAR(L617)>1900,Einstellungen!$C$10-YEAR(L617),\"---\")","v":"---"},"0000-0000-f-19000100",1,600,"","",1,600,"","","0000","0000","f","19000100",1900,"01","00"]
["","",null,null,null,null,null,null,null,null,null,null,null,null,null,null,"",{"$f":"IF(YEAR(L618)>1900,Einstellungen!$C$10-YEAR(L618),\"---\")","v":"---"},"0000-0000-f-19000100",1,601,"","",1,601,"","","0000","0000","f","19000100",1900,"01","00"]
["","",null,null,null,null,null,null,null,null,null,null,null,null,null,null,"",{"$f":"IF(YEAR(L619)>1900,Einstellungen!$C$10-YEAR(L619),\"---\")","v":"---"},"0000-0000-f-19000100",1,602,"","",1,602,"","","0000","0000","f","19000100",1900,"01","00"]
["","",null,null,null,null,null,null,null,null,null,null,null,null,null,null,"",{"$f":"IF(YEAR(L620)>1900,Einstellungen!$C$10-YEAR(L620),\"---\")","v":"---"},"0000-0000-f-19000100",1,603,"","",1,603,"","","0000","0000","f","19000100",1900,"01","00"]
["","",null,null,null,null,null,null,null,null,null,null,null,null,null,null,"",{"$f":"IF(YEAR(L621)>1900,Einstellungen!$C$10-YEAR(L621),\"---\")","v":"---"},"0000-0000-f-19000100",1,604,"","",1,604,"","","0000","0000","f","19000100",1900,"01","00"]
["","",null,null,null,null,null,null,null,null,null,null,null,null,null,null,"",{"$f":"IF(YEAR(L622)>1900,Einstellungen!$C$10-YEAR(L622),\"---\")","v":"---"},"0000-0000-f-19000100",1,605,"","",1,605,"","","0000","0000","f","19000100",1900,"01","00"]
["","",null,null,null,null,null,null,null,null,null,null,null,null,null,null,"",{"$f":"IF(YEAR(L623)>1900,Einstellungen!$C$10-YEAR(L623),\"---\")","v":"---"},"0000-0000-f-19000100",1,606,"","",1,606,"","","0000","0000","f","19000100",1900,"01","00"]
["","",null,null,null,null,null,null,null,null,null,null,null,null,null,null,"",{"$f":"IF(YEAR(L624)>1900,Einstellungen!$C$10-YEAR(L624),\"---\")","v":"---"},"0000-0000-f-19000100",1,607,"","",1,607,"","","0000","0000","f","19000100",1900,"01","00"]
["","",null,null,null,null,null,null,null,null,null,null,null,null,null,null,"",{"$f":"IF(YEAR(L625)>1900,Einstellungen!$C$10-YEAR(L625),\"---\")","v":"---"},"0000-0000-f-19000100",1,608,"","",1,608,"","","0000","0000","f","19000100",1900,"01","00"]
["","",null,null,null,null,null,null,null,null,null,null,null,null,null,null,"",{"$f":"IF(YEAR(L626)>1900,Einstellungen!$C$10-YEAR(L626),\"---\")","v":"---"},"0000-0000-f-19000100",1,609,"","",1,609,"","","0000","0000","f","19000100",1900,"01","00"]
["","",null,null,null,null,null,null,null,null,null,null,null,null,null,null,"",{"$f":"IF(YEAR(L627)>1900,Einstellungen!$C$10-YEAR(L627),\"---\")","v":"---"},"0000-0000-f-19000100",1,610,"","",1,610,"","","0000","0000","f","19000100",1900,"01","00"]
["","",null,null,null,null,null,null,null,null,null,null,null,null,null,null,"",{"$f":"IF(YEAR(L628)>1900,Einstellungen!$C$10-YEAR(L628),\"---\")","v":"---"},"0000-0000-f-19000100",1,611,"","",1,611,"","","0000","0000","f","19000100",1900,"01","00"]
["","",null,null,null,null,null,null,null,null,null,null,null,null,null,null,"",{"$f":"IF(YEAR(L629)>1900,Einstellungen!$C$10-YEAR(L629),\"---\")","v":"---"},"0000-0000-f-19000100",1,612,"","",1,612,"","","0000","0000","f","19000100",1900,"01","00"]
["","",null,null,null,null,null,null,null,null,null,null,null,null,null,null,"",{"$f":"IF(YEAR(L630)>1900,Einstellungen!$C$10-YEAR(L630),\"---\")","v":"---"},"0000-0000-f-19000100",1,613,"","",1,613,"","","0000","0000","f","19000100",1900,"01","00"]
["","",null,null,null,null,null,null,null,null,null,null,null,null,null,null,"",{"$f":"IF(YEAR(L631)>1900,Einstellungen!$C$10-YEAR(L631),\"---\")","v":"---"},"0000-0000-f-19000100",1,614,"","",1,614,"","","0000","0000","f","19000100",1900,"01","00"]
["","",null,null,null,null,null,null,null,null,null,null,null,null,null,null,"",{"$f":"IF(YEAR(L632)>1900,Einstellungen!$C$10-YEAR(L632),\"---\")","v":"---"},"0000-0000-f-19000100",1,615,"","",1,615,"","","0000","0000","f","19000100",1900,"01","00"]
["","",null,null,null,null,null,null,null,null,null,null,null,null,null,null,"",{"$f":"IF(YEAR(L633)>1900,Einstellungen!$C$10-YEAR(L633),\"---\")","v":"---"},"0000-0000-f-19000100",1,616,"","",1,616,"","","0000","0000","f","19000100",1900,"01","00"]
["","",null,null,null,null,null,null,null,null,null,null,null,null,null,null,"",{"$f":"IF(YEAR(L634)>1900,Einstellungen!$C$10-YEAR(L634),\"---\")","v":"---"},"0000-0000-f-19000100",1,617,"","",1,617,"","","0000","0000","f","19000100",1900,"01","00"]
["","",null,null,null,null,null,null,null,null,null,null,null,null,null,null,"",{"$f":"IF(YEAR(L635)>1900,Einstellungen!$C$10-YEAR(L635),\"---\")","v":"---"},"0000-0000-f-19000100",1,618,"","",1,618,"","","0000","0000","f","19000100",1900,"01","00"]
["","",null,null,null,null,null,null,null,null,null,null,null,null,null,null,"",{"$f":"IF(YEAR(L636)>1900,Einstellungen!$C$10-YEAR(L636),\"---\")","v":"---"},"0000-0000-f-19000100",1,619,"","",1,619,"","","0000","0000","f","19000100",1900,"01","00"]
["","",null,null,null,null,null,null,null,null,null,null,null,null,null,null,"",{"$f":"IF(YEAR(L637)>1900,Einstellungen!$C$10-YEAR(L637),\"---\")","v":"---"},"0000-0000-f-19000100",1,620,"","",1,620,"","","0000","0000","f","19000100",1900,"01","00"]
["","",null,null,null,null,null,null,null,null,null,null,null,null,null,null,"",{"$f":"IF(YEAR(L638)>1900,Einstellungen!$C$10-YEAR(L638),\"---\")","v":"---"},"0000-0000-f-19000100",1,621,"","",1,621,"","","0000","0000","f","19000100",1900,"01","00"]
["","",null,null,null,null,null,null,null,null,null,null,null,null,null,null,"",{"$f":"IF(YEAR(L639)>1900,Einstellungen!$C$10-YEAR(L639),\"---\")","v":"---"},"0000-0000-f-19000100",1,622,"","",1,622,"","","0000","0000","f","19000100",1900,"01","00"]
["","",null,null,null,null,null,null,null,null,null,null,null,null,null,null,"",{"$f":"IF(YEAR(L640)>1900,Einstellungen!$C$10-YEAR(L640),\"---\")","v":"---"},"0000-0000-f-19000100",1,623,"","",1,623,"","","0000","0000","f","19000100",1900,"01","00"]
["","",null,null,null,null,null,null,null,null,null,null,null,null,null,null,"",{"$f":"IF(YEAR(L641)>1900,Einstellungen!$C$10-YEAR(L641),\"---\")","v":"---"},"0000-0000-f-19000100",1,624,"","",1,624,"","","0000","0000","f","19000100",1900,"01","00"]
["","",null,null,null,null,null,null,null,null,null,null,null,null,null,null,"",{"$f":"IF(YEAR(L642)>1900,Einstellungen!$C$10-YEAR(L642),\"---\")","v":"---"},"0000-0000-f-19000100",1,625,"","",1,625,"","","0000","0000","f","19000100",1900,"01","00"]
["","",null,null,null,null,null,null,null,null,null,null,null,null,null,null,"",{"$f":"IF(YEAR(L643)>1900,Einstellungen!$C$10-YEAR(L643),\"---\")","v":"---"},"0000-0000-f-19000100",1,626,"","",1,626,"","","0000","0000","f","19000100",1900,"01","00"]
["","",null,null,null,null,null,null,null,null,null,null,null,null,null,null,"",{"$f":"IF(YEAR(L644)>1900,Einstellungen!$C$10-YEAR(L644),\"---\")","v":"---"},"0000-0000-f-19000100",1,627,"","",1,627,"","","0000","0000","f","19000100",1900,"01","00"]
["","",null,null,null,null,null,null,null,null,null,null,null,null,null,null,"",{"$f":"IF(YEAR(L645)>1900,Einstellungen!$C$10-YEAR(L645),\"---\")","v":"---"},"0000-0000-f-19000100",1,628,"","",1,628,"","","0000","0000","f","19000100",1900,"01","00"]
["","",null,null,null,null,null,null,null,null,null,null,null,null,null,null,"",{"$f":"IF(YEAR(L646)>1900,Einstellungen!$C$10-YEAR(L646),\"---\")","v":"---"},"0000-0000-f-19000100",1,629,"","",1,629,"","","0000","0000","f","19000100",1900,"01","00"]
["","",null,null,null,null,null,null,null,null,null,null,null,null,null,null,"",{"$f":"IF(YEAR(L647)>1900,Einstellungen!$C$10-YEAR(L647),\"---\")","v":"---"},"0000-0000-f-19000100",1,630,"","",1,630,"","","0000","0000","f","19000100",1900,"01","00"]
["","",null,null,null,null,null,null,null,null,null,null,null,null,null,null,"",{"$f":"IF(YEAR(L648)>1900,Einstellungen!$C$10-YEAR(L648),\"---\")","v":"---"},"0000-0000-f-19000100",1,631,"","",1,631,"","","0000","0000","f","19000100",1900,"01","00"]
["","",null,null,null,null,null,null,null,null,null,null,null,null,null,null,"",{"$f":"IF(YEAR(L649)>1900,Einstellungen!$C$10-YEAR(L649),\"---\")","v":"---"},"0000-0000-f-19000100",1,632,"","",1,632,"","","0000","0000","f","19000100",1900,"01","00"]
["","",null,null,null,null,null,null,null,null,null,null,null,null,null,null,"",{"$f":"IF(YEAR(L650)>1900,Einstellungen!$C$10-YEAR(L650),\"---\")","v":"---"},"0000-0000-f-19000100",1,633,"","",1,633,"","","0000","0000","f","19000100",1900,"01","00"]
["","",null,null,null,null,null,null,null,null,null,null,null,null,null,null,"",{"$f":"IF(YEAR(L651)>1900,Einstellungen!$C$10-YEAR(L651),\"---\")","v":"---"},"0000-0000-f-19000100",1,634,"","",1,634,"","","0000","0000","f","19000100",1900,"01","00"]
["","",null,null,null,null,null,null,null,null,null,null,null,null,null,null,"",{"$f":"IF(YEAR(L652)>1900,Einstellungen!$C$10-YEAR(L652),\"---\")","v":"---"},"0000-0000-f-19000100",1,635,"","",1,635,"","","0000","0000","f","19000100",1900,"01","00"]
["","",null,null,null,null,null,null,null,null,null,null,null,null,null,null,"",{"$f":"IF(YEAR(L653)>1900,Einstellungen!$C$10-YEAR(L653),\"---\")","v":"---"},"0000-0000-f-19000100",1,636,"","",1,636,"","","0000","0000","f","19000100",1900,"01","00"]
["","",null,null,null,null,null,null,null,null,null,null,null,null,null,null,"",{"$f":"IF(YEAR(L654)>1900,Einstellungen!$C$10-YEAR(L654),\"---\")","v":"---"},"0000-0000-f-19000100",1,637,"","",1,637,"","","0000","0000","f","19000100",1900,"01","00"]
["","",null,null,null,null,null,null,null,null,null,null,null,null,null,null,"",{"$f":"IF(YEAR(L655)>1900,Einstellungen!$C$10-YEAR(L655),\"---\")","v":"---"},"0000-0000-f-19000100",1,638,"","",1,638,"","","0000","0000","f","19000100",1900,"01","00"]
["","",null,null,null,null,null,null,null,null,null,null,null,null,null,null,"",{"$f":"IF(YEAR(L656)>1900,Einstellungen!$C$10-YEAR(L656),\"---\")","v":"---"},"0000-0000-f-19000100",1,639,"","",1,639,"","","0000","0000","f","19000100",1900,"01","00"]
["","",null,null,null,null,null,null,null,null,null,null,null,null,null,null,"",{"$f":"IF(YEAR(L657)>1900,Einstellungen!$C$10-YEAR(L657),\"---\")","v":"---"},"0000-0000-f-19000100",1,640,"","",1,640,"","","0000","0000","f","19000100",1900,"01","00"]
["","",null,null,null,null,null,null,null,null,null,null,null,null,null,null,{"$f":"IF(LEN(D658)>0,IF(P658=\"x\",\"\",\"x\"),\"\")","v":""},{"$f":"IF(YEAR(L658)>1900,Einstellungen!$C$10-YEAR(L658),\"---\")","v":"---"},"0000-0000-f-19000100",1,641,"","",{"$f":"IF(LEN(C658)>0, 0, T658)","v":1},641,"","","0000","0000","f","19000100",1900,"01","00"]
["","",null,null,null,null,null,null,null,null,null,null,null,null,null,null,"",{"$f":"IF(YEAR(L659)>1900,Einstellungen!$C$10-YEAR(L659),\"---\")","v":"---"},{"$f":"AB659 & \"-\" & AC659 & \"-\" & AD659 & \"-\" & AE659","v":"0000-0000-f-19000100"},{"$f":"IF(R659<=$AE$12,1,0)","v":1},{"$f":"IF(T659=1,U658+1,U658)","v":642},{"$f":"IF((M659+N659)>0,IF(T659=1,U659,\"-\"),\"\")","v":""},{"$f":"Z659 & AA659","v":""},1,{"$f":"Y658+X659","v":642},{"$f":"IF(X659=1,IF(Y659<=$Z$12,\"Q\",\"\"),\"\")","v":""},{"$f":"IF(X659=1, IF(Y659>$Z$12, IF(Y659<=($Z$12+$AA$12),\"R\",\"\"),\"\"), \"\")","v":""},{"$f":"IF(M659<1,\"0000\", IF(M659<10,\"000\"&M659, IF(M659<100,\"00\"&M659, IF(M659<1000,\"0\"&M659,\"\"& M659))))","v":"0000"},{"$f":"IF(N659<1,\"0000\", IF(N659<10,\"000\"&N659, IF(N659<100,\"00\"&N659, IF(N659<1000,\"0\"&N659,\"\"& N659))))","v":"0000"},{"$f":"IF(O659=\"a\",\"a\",\"f\")","v":"f"},{"$f":"AF659&AG659&AH659","v":"19000100"},{"$f":"YEAR(L659)","v":1900},{"$f":"IF(MONTH(L659)<10,\"0\"&MONTH(L659),MONTH(L659))","v":"01"},{"$f":"IF(DAY(L659)<10,\"0\"&DAY(L659),DAY(L659))","v":"00"}]
["","",null,null,null,null,null,null,null,null,null,null,null,null,null,null,"",{"$f":"IF(YEAR(L660)>1900,Einstellungen!$C$10-YEAR(L660),\"---\")","v":"---"},"0000-0000-f-19000100",1,643,"","",1,643,"","","0000","0000","f","19000100",1900,"01","00"]
["","",null,null,null,null,null,null,null,null,null,null,null,null,null,null,"",{"$f":"IF(YEAR(L661)>1900,Einstellungen!$C$10-YEAR(L661),\"---\")","v":"---"},"0000-0000-f-19000100",1,644,"","",1,644,"","","0000","0000","f","19000100",1900,"01","00"]
["","",null,null,null,null,null,null,null,null,null,null,null,null,null,null,"",{"$f":"IF(YEAR(L662)>1900,Einstellungen!$C$10-YEAR(L662),\"---\")","v":"---"},"0000-0000-f-19000100",1,645,"","",1,645,"","","0000","0000","f","19000100",1900,"01","00"]
["","",null,null,null,null,null,null,null,null,null,null,null,null,null,null,"",{"$f":"IF(YEAR(L663)>1900,Einstellungen!$C$10-YEAR(L663),\"---\")","v":"---"},"0000-0000-f-19000100",1,646,"","",1,646,"","","0000","0000","f","19000100",1900,"01","00"]
["","",null,null,null,null,null,null,null,null,null,null,null,null,null,null,"",{"$f":"IF(YEAR(L664)>1900,Einstellungen!$C$10-YEAR(L664),\"---\")","v":"---"},"0000-0000-f-19000100",1,647,"","",1,647,"","","0000","0000","f","19000100",1900,"01","00"]
["","",null,null,null,null,null,null,null,null,null,null,null,null,null,null,"",{"$f":"IF(YEAR(L665)>1900,Einstellungen!$C$10-YEAR(L665),\"---\")","v":"---"},"0000-0000-f-19000100",1,648,"","",1,648,"","","0000","0000","f","19000100",1900,"01","00"]
["","",null,null,null,null,null,null,null,null,null,null,null,null,null,null,"",{"$f":"IF(YEAR(L666)>1900,Einstellungen!$C$10-YEAR(L666),\"---\")","v":"---"},"0000-0000-f-19000100",1,649,"","",1,649,"","","0000","0000","f","19000100",1900,"01","00"]
["","",null,null,null,null,null,null,null,null,null,null,null,null,null,null,"",{"$f":"IF(YEAR(L667)>1900,Einstellungen!$C$10-YEAR(L667),\"---\")","v":"---"},"0000-0000-f-19000100",1,650,"","",1,650,"","","0000","0000","f","19000100",1900,"01","00"]
["","",null,null,null,null,null,null,null,null,null,null,null,null,null,null,"",{"$f":"IF(YEAR(L668)>1900,Einstellungen!$C$10-YEAR(L668),\"---\")","v":"---"},"0000-0000-f-19000100",1,651,"","",1,651,"","","0000","0000","f","19000100",1900,"01","00"]
["","",null,null,null,null,null,null,null,null,null,null,null,null,null,null,"",{"$f":"IF(YEAR(L669)>1900,Einstellungen!$C$10-YEAR(L669),\"---\")","v":"---"},"0000-0000-f-19000100",1,652,"","",1,652,"","","0000","0000","f","19000100",1900,"01","00"]
["","",null,null,null,null,null,null,null,null,null,null,null,null,null,null,"",{"$f":"IF(YEAR(L670)>1900,Einstellungen!$C$10-YEAR(L670),\"---\")","v":"---"},"0000-0000-f-19000100",1,653,"","",1,653,"","","0000","0000","f","19000100",1900,"01","00"]
["","",null,null,null,null,null,null,null,null,null,null,null,null,null,null,"",{"$f":"IF(YEAR(L671)>1900,Einstellungen!$C$10-YEAR(L671),\"---\")","v":"---"},"0000-0000-f-19000100",1,654,"","",1,654,"","","0000","0000","f","19000100",1900,"01","00"]
["","",null,null,null,null,null,null,null,null,null,null,null,null,null,null,"",{"$f":"IF(YEAR(L672)>1900,Einstellungen!$C$10-YEAR(L672),\"---\")","v":"---"},"0000-0000-f-19000100",1,655,"","",1,655,"","","0000","0000","f","19000100",1900,"01","00"]
["","",null,null,null,null,null,null,null,null,null,null,null,null,null,null,"",{"$f":"IF(YEAR(L673)>1900,Einstellungen!$C$10-YEAR(L673),\"---\")","v":"---"},"0000-0000-f-19000100",1,656,"","",1,656,"","","0000","0000","f","19000100",1900,"01","00"]
["","",null,null,null,null,null,null,null,null,null,null,null,null,null,null,"",{"$f":"IF(YEAR(L674)>1900,Einstellungen!$C$10-YEAR(L674),\"---\")","v":"---"},"0000-0000-f-19000100",1,657,"","",1,657,"","","0000","0000","f","19000100",1900,"01","00"]
["","",null,null,null,null,null,null,null,null,null,null,null,null,null,null,"",{"$f":"IF(YEAR(L675)>1900,Einstellungen!$C$10-YEAR(L675),\"---\")","v":"---"},"0000-0000-f-19000100",1,658,"","",1,658,"","","0000","0000","f","19000100",1900,"01","00"]
["","",null,null,null,null,null,null,null,null,null,null,null,null,null,null,"",{"$f":"IF(YEAR(L676)>1900,Einstellungen!$C$10-YEAR(L676),\"---\")","v":"---"},"0000-0000-f-19000100",1,659,"","",1,659,"","","0000","0000","f","19000100",1900,"01","00"]
["","",null,null,null,null,null,null,null,null,null,null,null,null,null,null,"",{"$f":"IF(YEAR(L677)>1900,Einstellungen!$C$10-YEAR(L677),\"---\")","v":"---"},"0000-0000-f-19000100",1,660,"","",1,660,"","","0000","0000","f","19000100",1900,"01","00"]
["","",null,null,null,null,null,null,null,null,null,null,null,null,null,null,"",{"$f":"IF(YEAR(L678)>1900,Einstellungen!$C$10-YEAR(L678),\"---\")","v":"---"},"0000-0000-f-19000100",1,661,"","",1,661,"","","0000","0000","f","19000100",1900,"01","00"]
["","",null,null,null,null,null,null,null,null,null,null,null,null,null,null,"",{"$f":"IF(YEAR(L679)>1900,Einstellungen!$C$10-YEAR(L679),\"---\")","v":"---"},"0000-0000-f-19000100",1,662,"","",1,662,"","","0000","0000","f","19000100",1900,"01","00"]
["","",null,null,null,null,null,null,null,null,null,null,null,null,null,null,"",{"$f":"IF(YEAR(L680)>1900,Einstellungen!$C$10-YEAR(L680),\"---\")","v":"---"},"0000-0000-f-19000100",1,663,"","",1,663,"","","0000","0000","f","19000100",1900,"01","00"]
["","",null,null,null,null,null,null,null,null,null,null,null,null,null,null,"",{"$f":"IF(YEAR(L681)>1900,Einstellungen!$C$10-YEAR(L681),\"---\")","v":"---"},"0000-0000-f-19000100",1,664,"","",1,664,"","","0000","0000","f","19000100",1900,"01","00"]
["","",null,null,null,null,null,null,null,null,null,null,null,null,null,null,"",{"$f":"IF(YEAR(L682)>1900,Einstellungen!$C$10-YEAR(L682),\"---\")","v":"---"},"0000-0000-f-19000100",1,665,"","",1,665,"","","0000","0000","f","19000100",1900,"01","00"]
["","",null,null,null,null,null,null,null,null,null,null,null,null,null,null,"",{"$f":"IF(YEAR(L683)>1900,Einstellungen!$C$10-YEAR(L683),\"---\")","v":"---"},"0000-0000-f-19000100",1,666,"","",1,666,"","","0000","0000","f","19000100",1900,"01","00"]
["","",null,null,null,null,null,null,null,null,null,null,null,null,null,null,"",{"$f":"IF(YEAR(L684)>1900,Einstellungen!$C$10-YEAR(L684),\"---\")","v":"---"},"0000-0000-f-19000100",1,667,"","",1,667,"","","0000","0000","f","19000100",1900,"01","00"]
["","",null,null,null,null,null,null,null,null,null,null,null,null,null,null,"",{"$f":"IF(YEAR(L685)>1900,Einstellungen!$C$10-YEAR(L685),\"---\")","v":"---"},"0000-0000-f-19000100",1,668,"","",1,668,"","","0000","0000","f","19000100",1900,"01","00"]
["","",null,null,null,null,null,null,null,null,null,null,null,null,null,null,"",{"$f":"IF(YEAR(L686)>1900,Einstellungen!$C$10-YEAR(L686),\"---\")","v":"---"},"0000-0000-f-19000100",1,669,"","",1,669,"","","0000","0000","f","19000100",1900,"01","00"]
["","",null,null,null,null,null,null,null,null,null,null,null,null,null,null,"",{"$f":"IF(YEAR(L687)>1900,Einstellungen!$C$10-YEAR(L687),\"---\")","v":"---"},"0000-0000-f-19000100",1,670,"","",1,670,"","","0000","0000","f","19000100",1900,"01","00"]
["","",null,null,null,null,null,null,null,null,null,null,null,null,null,null,"",{"$f":"IF(YEAR(L688)>1900,Einstellungen!$C$10-YEAR(L688),\"---\")","v":"---"},"0000-0000-f-19000100",1,671,"","",1,671,"","","0000","0000","f","19000100",1900,"01","00"]
["","",null,null,null,null,null,null,null,null,null,null,null,null,null,null,"",{"$f":"IF(YEAR(L689)>1900,Einstellungen!$C$10-YEAR(L689),\"---\")","v":"---"},"0000-0000-f-19000100",1,672,"","",1,672,"","","0000","0000","f","19000100",1900,"01","00"]
["","",null,null,null,null,null,null,null,null,null,null,null,null,null,null,"",{"$f":"IF(YEAR(L690)>1900,Einstellungen!$C$10-YEAR(L690),\"---\")","v":"---"},"0000-0000-f-19000100",1,673,"","",1,673,"","","0000","0000","f","19000100",1900,"01","00"]
["","",null,null,null,null,null,null,null,null,null,null,null,null,null,null,"",{"$f":"IF(YEAR(L691)>1900,Einstellungen!$C$10-YEAR(L691),\"---\")","v":"---"},"0000-0000-f-19000100",1,674,"","",1,674,"","","0000","0000","f","19000100",1900,"01","00"]
["","",null,null,null,null,null,null,null,null,null,null,null,null,null,null,"",{"$f":"IF(YEAR(L692)>1900,Einstellungen!$C$10-YEAR(L692),\"---\")","v":"---"},"0000-0000-f-19000100",1,675,"","",1,675,"","","0000","0000","f","19000100",1900,"01","00"]
["","",null,null,null,null,null,null,null,null,null,null,null,null,null,null,"",{"$f":"IF(YEAR(L693)>1900,Einstellungen!$C$10-YEAR(L693),\"---\")","v":"---"},"0000-0000-f-19000100",1,676,"","",1,676,"","","0000","0000","f","19000100",1900,"01","00"]
["","",null,null,null,null,null,null,null,null,null,null,null,null,null,null,"",{"$f":"IF(YEAR(L694)>1900,Einstellungen!$C$10-YEAR(L694),\"---\")","v":"---"},"0000-0000-f-19000100",1,677,"","",1,677,"","","0000","0000","f","19000100",1900,"01","00"]
["","",null,null,null,null,null,null,null,null,null,null,null,null,null,null,"",{"$f":"IF(YEAR(L695)>1900,Einstellungen!$C$10-YEAR(L695),\"---\")","v":"---"},"0000-0000-f-19000100",1,678,"","",1,678,"","","0000","0000","f","19000100",1900,"01","00"]
["","",null,null,null,null,null,null,null,null,null,null,null,null,null,null,"",{"$f":"IF(YEAR(L696)>1900,Einstellungen!$C$10-YEAR(L696),\"---\")","v":"---"},"0000-0000-f-19000100",1,679,"","",1,679,"","","0000","0000","f","19000100",1900,"01","00"]
["","",null,null,null,null,null,null,null,null,null,null,null,null,null,null,"",{"$f":"IF(YEAR(L697)>1900,Einstellungen!$C$10-YEAR(L697),\"---\")","v":"---"},"0000-0000-f-19000100",1,680,"","",1,680,"","","0000","0000","f","19000100",1900,"01","00"]
["","",null,null,null,null,null,null,null,null,null,null,null,null,null,null,"",{"$f":"IF(YEAR(L698)>1900,Einstellungen!$C$10-YEAR(L698),\"---\")","v":"---"},"0000-0000-f-19000100",1,681,"","",1,681,"","","0000","0000","f","19000100",1900,"01","00"]
["","",null,null,null,null,null,null,null,null,null,null,null,null,null,null,"",{"$f":"IF(YEAR(L699)>1900,Einstellungen!$C$10-YEAR(L699),\"---\")","v":"---"},"0000-0000-f-19000100",1,682,"","",1,682,"","","0000","0000","f","19000100",1900,"01","00"]
["","",null,null,null,null,null,null,null,null,null,null,null,null,null,null,"",{"$f":"IF(YEAR(L700)>1900,Einstellungen!$C$10-YEAR(L700),\"---\")","v":"---"},"0000-0000-f-19000100",1,683,"","",1,683,"","","0000","0000","f","19000100",1900,"01","00"]
["","",null,null,null,null,null,null,null,null,null,null,null,null,null,null,"",{"$f":"IF(YEAR(L701)>1900,Einstellungen!$C$10-YEAR(L701),\"---\")","v":"---"},"0000-0000-f-19000100",1,684,"","",1,684,"","","0000","0000","f","19000100",1900,"01","00"]
["","",null,null,null,null,null,null,null,null,null,null,null,null,null,null,"",{"$f":"IF(YEAR(L702)>1900,Einstellungen!$C$10-YEAR(L702),\"---\")","v":"---"},"0000-0000-f-19000100",1,685,"","",1,685,"","","0000","0000","f","19000100",1900,"01","00"]
["","",null,null,null,null,null,null,null,null,null,null,null,null,null,null,"",{"$f":"IF(YEAR(L703)>1900,Einstellungen!$C$10-YEAR(L703),\"---\")","v":"---"},"0000-0000-f-19000100",1,686,"","",1,686,"","","0000","0000","f","19000100",1900,"01","00"]
["","",null,null,null,null,null,null,null,null,null,null,null,null,null,null,"",{"$f":"IF(YEAR(L704)>1900,Einstellungen!$C$10-YEAR(L704),\"---\")","v":"---"},"0000-0000-f-19000100",1,687,"","",1,687,"","","0000","0000","f","19000100",1900,"01","00"]
["","",null,null,null,null,null,null,null,null,null,null,null,null,null,null,"",{"$f":"IF(YEAR(L705)>1900,Einstellungen!$C$10-YEAR(L705),\"---\")","v":"---"},"0000-0000-f-19000100",1,688,"","",1,688,"","","0000","0000","f","19000100",1900,"01","00"]
["","",null,null,null,null,null,null,null,null,null,null,null,null,null,null,"",{"$f":"IF(YEAR(L706)>1900,Einstellungen!$C$10-YEAR(L706),\"---\")","v":"---"},"0000-0000-f-19000100",1,689,"","",1,689,"","","0000","0000","f","19000100",1900,"01","00"]
["","",null,null,null,null,null,null,null,null,null,null,null,null,null,null,"",{"$f":"IF(YEAR(L707)>1900,Einstellungen!$C$10-YEAR(L707),\"---\")","v":"---"},"0000-0000-f-19000100",1,690,"","",1,690,"","","0000","0000","f","19000100",1900,"01","00"]
["","",null,null,null,null,null,null,null,null,null,null,null,null,null,null,"",{"$f":"IF(YEAR(L708)>1900,Einstellungen!$C$10-YEAR(L708),\"---\")","v":"---"},"0000-0000-f-19000100",1,691,"","",1,691,"","","0000","0000","f","19000100",1900,"01","00"]
["","",null,null,null,null,null,null,null,null,null,null,null,null,null,null,"",{"$f":"IF(YEAR(L709)>1900,Einstellungen!$C$10-YEAR(L709),\"---\")","v":"---"},"0000-0000-f-19000100",1,692,"","",1,692,"","","0000","0000","f","19000100",1900,"01","00"]
["","",null,null,null,null,null,null,null,null,null,null,null,null,null,null,"",{"$f":"IF(YEAR(L710)>1900,Einstellungen!$C$10-YEAR(L710),\"---\")","v":"---"},"0000-0000-f-19000100",1,693,"","",1,693,"","","0000","0000","f","19000100",1900,"01","00"]
["","",null,null,null,null,null,null,null,null,null,null,null,null,null,null,"",{"$f":"IF(YEAR(L711)>1900,Einstellungen!$C$10-YEAR(L711),\"---\")","v":"---"},"0000-0000-f-19000100",1,694,"","",1,694,"","","0000","0000","f","19000100",1900,"01","00"]
["","",null,null,null,null,null,null,null,null,null,null,null,null,null,null,"",{"$f":"IF(YEAR(L712)>1900,Einstellungen!$C$10-YEAR(L712),\"---\")","v":"---"},"0000-0000-f-19000100",1,695,"","",1,695,"","","0000","0000","f","19000100",1900,"01","00"]
["","",null,null,null,null,null,null,null,null,null,null,null,null,null,null,"",{"$f":"IF(YEAR(L713)>1900,Einstellungen!$C$10-YEAR(L713),\"---\")","v":"---"},"0000-0000-f-19000100",1,696,"","",1,696,"","","0000","0000","f","19000100",1900,"01","00"]
["","",null,null,null,null,null,null,null,null,null,null,null,null,null,null,"",{"$f":"IF(YEAR(L714)>1900,Einstellungen!$C$10-YEAR(L714),\"---\")","v":"---"},"0000-0000-f-19000100",1,697,"","",1,697,"","","0000","0000","f","19000100",1900,"01","00"]
["","",null,null,null,null,null,null,null,null,null,null,null,null,null,null,"",{"$f":"IF(YEAR(L715)>1900,Einstellungen!$C$10-YEAR(L715),\"---\")","v":"---"},"0000-0000-f-19000100",1,698,"","",1,698,"","","0000","0000","f","19000100",1900,"01","00"]
["","",null,null,null,null,null,null,null,null,null,null,null,null,null,null,"",{"$f":"IF(YEAR(L716)>1900,Einstellungen!$C$10-YEAR(L716),\"---\")","v":"---"},"0000-0000-f-19000100",1,699,"","",1,699,"","","0000","0000","f","19000100",1900,"01","00"]
["","",null,null,null,null,null,null,null,null,null,null,null,null,null,null,"",{"$f":"IF(YEAR(L717)>1900,Einstellungen!$C$10-YEAR(L717),\"---\")","v":"---"},"0000-0000-f-19000100",1,700,"","",1,700,"","","0000","0000","f","19000100",1900,"01","00"]

{"sheet":"Rangliste_02","index":3,"n_rows":717,"n_cols":35,"rows_kept":717,"cut":false,"hidden":false,"merged":[[7,0,7,4],[9,15,9,16],[10,15,10,16],[11,15,11,16],[1,0,1,4],[3,11,3,12],[3,13,3,16],[6,0,6,3],[6,10,6,16],[1,10,1,16]]}
[null,null,null,null,null,null,null,null,null,null,null,null,null,null,null,null,null,">>",null,null,null,null,null,null,null,null,null,null,null,null,null,null,null,null,"<<"]
["Zürcher Schiesssportverband\nZHSV   -   www.ZHSV.ch",null,null,null,null,null,null,null,null,null,"Zürcher Kantonaler Armbrustschützenverband\nZKAV   -   www.ZKAV.ch"]
[{"$f":"Einstellungen!$A$2","v":"44. Goldiger Züri-Träffer 2023"},null,null,null,null,null,null,null,null,null,null,null,null,null,null,null,{"$f":"Einstellungen!$I$2","v":"Qualifikation"}]
[{"$f":"Einstellungen!$I$4","v":"Version V8/25.12.2022"},null,null,null,null,null,null,null,null,null,null,"Rangliste per:",null,{"$f":"Einstellungen!$E$19","v":"00:00:00"},null,null,null,null,null,"Erste Rangzeile:",null,18]
[]
["Disziplin:",null,null,null,"Alter:",null,null,"Jahrgänge:",null,null,"Organisator:",null,null,null,null,null,null,null,null,"Letzte Rangzeile:",null,{"$f":"V4+P10-1","v":17}]
[{"$f":"Einstellungen!$E$16","v":"keine"},null,null,null,{"$f":"Einstellungen!$E$17","v":"---"},null,null,{"$f":"IF(Einstellungen!$C$35<>Einstellungen!$C$36,Einstellungen!$C$35 & \" - \" & Einstellungen!$C$36, Einstellungen!$C$35)","v":"---"},null,null,{"$f":"Einstellungen!$G$10","v":0},null,null,null,null,null,null,null,null,"Print-Select:",null,{"$f":"\"A2:Q\"&V6","v":"A2:Q17"}]
[{"$f":"Einstellungen!$E$32","v":0}]
[]
["Final:","Q",null,"= qualifiziert",null,null,null,null,null,null,null,null,"Teilnehmer:",null,null,{"$f":"SUM(P11:P12)","v":0},null,null,null,"Hilfsfeld",null,null,null,null,null,"Anz. Q","Anz. R",null,null,"Alter","Alter"]
[null,"R",null,"= Reserve",null,null,null,null,null,null,null,null,"- Mädchen:",null,null,{"$f":"COUNTIF(P18:P717,\"x\")","v":0},null,null,null,null,null,null,null,null,null,null,null,null,null,"von","bis"]
[null,null,"K","= Kadermitglied (keine Finalteilnahme)",null,null,null,null,null,null,null,null,"- Jungen:",null,null,{"$f":"COUNTIF(Q18:Q717,\"x\")","v":0},null,null,null,{"$f":"\"---\"","v":"---"},null,null,null,null,null,{"$f":"Einstellungen!$E$24","v":0},{"$f":"Einstellungen!$E$26","v":0},null,null,{"$f":"Einstellungen!$E$33","v":"---"},{"$f":"Einstellungen!$E$34","v":"---"}]
[null,null,"A","= abgemeldet (keine Finalteilnahme)"]
[]
["Rang","Final",{"$f":"Einstellungen!$E$42","v":0},"Name","Vorname","Adresse","PLZ","Wohnort","Telefon","eMail","Verein","Geburts-\nDatum\n(tt.mm.jjjj)",{"$f":"Einstellungen!$E$37","v":""},{"$f":"Einstellungen!$E$38","v":""},{"$f":"Einstellungen!$E$39","v":""},{"$f":"Einstellungen!$E$40","v":""},{"$f":"Einstellungen!$E$41","v":0},"Alter","Total","Rang_Ber","Rang_Set","Rang_OK","Final","mögliche Final\nTeilnahme","Anzahl\nmöglicher Final\nTeilnahmen","Q_OK","R_OK","Treffer","Punkte","Stellung","Alter","Geb.-Jahr","Geb.-Monat","Geb.-Tag"]
[]
[null,null,null,null,null,null,null,null,null,null,null,null,null,null,null,null,null,null,null,null,0,null,null,null,0]
["","",null,null,null,null,null,null,null,null,null,null,null,null,null,null,{"$f":"IF(LEN(D18)>0,IF(P18=\"x\",\"\",\"x\"),\"\")","v":""},{"$f":"IF(YEAR(L18)>1900,Einstellungen!$C$10-YEAR(L18),\"---\")","v":"---"},{"$f":"AB18 & \"-\" & AC18 & \"-\" & AD18 & \"-\" & AE18","v":"0000-0000-f-19000100"},{"$f":"IF(R18<=$AE$12,1,0)","v":1},{"$f":"IF(T18=1,U17+1,U17)","v":1},{"$f":"IF((M18+N18)>0,IF(T18=1,U18,\"-\"),\"\")","v":""},{"$f":"Z18 & AA18","v":""},{"$f":"IF(LEN(C18)>0, 0, T18)","v":1},{"$f":"Y17+X18","v":1},{"$f":"IF(X18=1,IF(Y18<=$Z$12,\"Q\",\"\"),\"\")","v":""},{"$f":"IF(X18=1, IF(Y18>$Z$12, IF(Y18<=($Z$12+$AA$12),\"R\",\"\"),\"\"), \"\")","v":""},{"$f":"IF(M18<1,\"0000\", IF(M18<10,\"000\"&M18, IF(M18<100,\"00\"&M18, IF(M18<1000,\"0\"&M18,\"\"& M18))))","v":"0000"},{"$f":"IF(N18<1,\"0000\", IF(N18<10,\"000\"&N18, IF(N18<100,\"00\"&N18, IF(N18<1000,\"0\"&N18,\"\"& N18))))","v":"0000"},{"$f":"IF(O18=\"a\",\"a\",\"f\")","v":"f"},{"$f":"AF18&AG18&AH18","v":"19000100"},{"$f":"YEAR(L18)","v":1900},{"$f":"IF(MONTH(L18)<10,\"0\"&MONTH(L18),MONTH(L18))","v":"01"},{"$f":"IF(DAY(L18)<10,\"0\"&DAY(L18),DAY(L18))","v":"00"}]
["","",null,null,null,null,null,null,null,null,null,null,null,null,null,null,"",{"$f":"IF(YEAR(L19)>1900,Einstellungen!$C$10-YEAR(L19),\"---\")","v":"---"},{"$f":"AB19 & \"-\" & AC19 & \"-\" & AD19 & \"-\" & AE19","v":"0000-0000-f-19000100"},{"$f":"IF(R19<=$AE$12,1,0)","v":1},{"$f":"IF(T19=1,U18+1,U18)","v":2},{"$f":"IF((M19+N19)>0,IF(T19=1,U19,\"-\"),\"\")","v":""},{"$f":"Z19 & AA19","v":""},{"$f":"IF(LEN(C19)>0, 0, T19)","v":1},{"$f":"Y18+X19","v":2},{"$f":"IF(X19=1,IF(Y19<=$Z$12,\"Q\",\"\"),\"\")","v":""},{"$f":"IF(X19=1, IF(Y19>$Z$12, IF(Y19<=($Z$12+$AA$12),\"R\",\"\"),\"\"), \"\")","v":""},{"$f":"IF(M19<1,\"0000\", IF(M19<10,\"000\"&M19, IF(M19<100,\"00\"&M19, IF(M19<1000,\"0\"&M19,\"\"& M19))))","v":"0000"},"0000",{"$f":"IF(O19=\"a\",\"a\",\"f\")","v":"f"},{"$f":"AF19&AG19&AH19","v":"19000100"},{"$f":"YEAR(L19)","v":1900},{"$f":"IF(MONTH(L19)<10,\"0\"&MONTH(L19),MONTH(L19))","v":"01"},{"$f":"IF(DAY(L19)<10,\"0\"&DAY(L19),DAY(L19))","v":"00"}]
["","",null,null,null,null,null,null,null,null,null,null,null,null,null,null,"",{"$f":"IF(YEAR(L20)>1900,Einstellungen!$C$10-YEAR(L20),\"---\")","v":"---"},"0000-0000-f-19000100",1,3,"","",1,3,"","","0000","0000","f","19000100",1900,"01","00"]
["","",null,null,null,null,null,null,null,null,null,null,null,null,null,null,"",{"$f":"IF(YEAR(L21)>1900,Einstellungen!$C$10-YEAR(L21),\"---\")","v":"---"},"0000-0000-f-19000100",1,4,"","",1,4,"","","0000","0000","f","19000100",1900,"01","00"]
["","",null,null,null,null,null,null,null,null,null,null,null,null,null,null,"",{"$f":"IF(YEAR(L22)>1900,Einstellungen!$C$10-YEAR(L22),\"---\")","v":"---"},"0000-0000-f-19000100",1,5,"","",1,5,"","","0000","0000","f","19000100",1900,"01","00"]
["","",null,null,null,null,null,null,null,null,null,null,null,null,null,null,"",{"$f":"IF(YEAR(L23)>1900,Einstellungen!$C$10-YEAR(L23),\"---\")","v":"---"},"0000-0000-f-19000100",1,6,"","",1,6,"","","0000","0000","f","19000100",1900,"01","00"]
["","",null,null,null,null,null,null,null,null,null,null,null,null,null,null,"",{"$f":"IF(YEAR(L24)>1900,Einstellungen!$C$10-YEAR(L24),\"---\")","v":"---"},"0000-0000-f-19000100",1,7,"","",1,7,"","","0000","0000","f","19000100",1900,"01","00"]
["","",null,null,null,null,null,null,null,null,null,null,null,null,null,null,"",{"$f":"IF(YEAR(L25)>1900,Einstellungen!$C$10-YEAR(L25),\"---\")","v":"---"},"0000-0000-f-19000100",1,8,"","",1,8,"","","0000","0000","f","19000100",1900,"01","00"]
["","",null,null,null,null,null,null,null,null,null,null,null,null,null,null,"",{"$f":"IF(YEAR(L26)>1900,Einstellungen!$C$10-YEAR(L26),\"---\")","v":"---"},"0000-0000-f-19000100",1,9,"","",1,9,"","","0000","0000","f","19000100",1900,"01","00"]
["","",null,null,null,null,null,null,null,null,null,null,null,null,null,null,"",{"$f":"IF(YEAR(L27)>1900,Einstellungen!$C$10-YEAR(L27),\"---\")","v":"---"},"0000-0000-f-19000100",1,10,"","",1,10,"","","0000","0000","f","19000100",1900,"01","00"]
["","",null,null,null,null,null,null,null,null,null,null,null,null,null,null,"",{"$f":"IF(YEAR(L28)>1900,Einstellungen!$C$10-YEAR(L28),\"---\")","v":"---"},"0000-0000-f-19000100",1,11,"","",1,11,"","","0000","0000","f","19000100",1900,"01","00"]
["","",null,null,null,null,null,null,null,null,null,null,null,null,null,null,"",{"$f":"IF(YEAR(L29)>1900,Einstellungen!$C$10-YEAR(L29),\"---\")","v":"---"},"0000-0000-f-19000100",1,12,"","",1,12,"","","0000","0000","f","19000100",1900,"01","00"]
["","",null,null,null,null,null,null,null,null,null,null,null,null,null,null,"",{"$f":"IF(YEAR(L30)>1900,Einstellungen!$C$10-YEAR(L30),\"---\")","v":"---"},"0000-0000-f-19000100",1,13,"","",1,13,"","","0000","0000","f","19000100",1900,"01","00"]
["","",null,null,null,null,null,null,null,null,null,null,null,null,null,null,"",{"$f":"IF(YEAR(L31)>1900,Einstellungen!$C$10-YEAR(L31),\"---\")","v":"---"},"0000-0000-f-19000100",1,14,"","",1,14,"","","0000","0000","f","19000100",1900,"01","00"]
["","",null,null,null,null,null,null,null,null,null,null,null,null,null,null,"",{"$f":"IF(YEAR(L32)>1900,Einstellungen!$C$10-YEAR(L32),\"---\")","v":"---"},"0000-0000-f-19000100",1,15,"","",1,15,"","","0000","0000","f","19000100",1900,"01","00"]
["","",null,null,null,null,null,null,null,null,null,null,null,null,null,null,"",{"$f":"IF(YEAR(L33)>1900,Einstellungen!$C$10-YEAR(L33),\"---\")","v":"---"},"0000-0000-f-19000100",1,16,"","",1,16,"","","0000","0000","f","19000100",1900,"01","00"]
["","",null,null,null,null,null,null,null,null,null,null,null,null,null,null,"",{"$f":"IF(YEAR(L34)>1900,Einstellungen!$C$10-YEAR(L34),\"---\")","v":"---"},"0000-0000-f-19000100",1,17,"","",1,17,"","","0000","0000","f","19000100",1900,"01","00"]
["","",null,null,null,null,null,null,null,null,null,null,null,null,null,null,"",{"$f":"IF(YEAR(L35)>1900,Einstellungen!$C$10-YEAR(L35),\"---\")","v":"---"},"0000-0000-f-19000100",1,18,"","",1,18,"","","0000","0000","f","19000100",1900,"01","00"]
["","",null,null,null,null,null,null,null,null,null,null,null,null,null,null,"",{"$f":"IF(YEAR(L36)>1900,Einstellungen!$C$10-YEAR(L36),\"---\")","v":"---"},"0000-0000-f-19000100",1,19,"","",1,19,"","","0000","0000","f","19000100",1900,"01","00"]
["","",null,null,null,null,null,null,null,null,null,null,null,null,null,null,"",{"$f":"IF(YEAR(L37)>1900,Einstellungen!$C$10-YEAR(L37),\"---\")","v":"---"},"0000-0000-f-19000100",1,20,"","",1,20,"","","0000","0000","f","19000100",1900,"01","00"]
["","",null,null,null,null,null,null,null,null,null,null,null,null,null,null,"",{"$f":"IF(YEAR(L38)>1900,Einstellungen!$C$10-YEAR(L38),\"---\")","v":"---"},"0000-0000-f-19000100",1,21,"","",1,21,"","","0000","0000","f","19000100",1900,"01","00"]
["","",null,null,null,null,null,null,null,null,null,null,null,null,null,null,"",{"$f":"IF(YEAR(L39)>1900,Einstellungen!$C$10-YEAR(L39),\"---\")","v":"---"},"0000-0000-f-19000100",1,22,"","",1,22,"","","0000","0000","f","19000100",1900,"01","00"]
["","",null,null,null,null,null,null,null,null,null,null,null,null,null,null,"",{"$f":"IF(YEAR(L40)>1900,Einstellungen!$C$10-YEAR(L40),\"---\")","v":"---"},"0000-0000-f-19000100",1,23,"","",1,23,"","","0000","0000","f","19000100",1900,"01","00"]
["","",null,null,null,null,null,null,null,null,null,null,null,null,null,null,"",{"$f":"IF(YEAR(L41)>1900,Einstellungen!$C$10-YEAR(L41),\"---\")","v":"---"},"0000-0000-f-19000100",1,24,"","",1,24,"","","0000","0000","f","19000100",1900,"01","00"]
["","",null,null,null,null,null,null,null,null,null,null,null,null,null,null,"",{"$f":"IF(YEAR(L42)>1900,Einstellungen!$C$10-YEAR(L42),\"---\")","v":"---"},"0000-0000-f-19000100",1,25,"","",1,25,"","","0000","0000","f","19000100",1900,"01","00"]
["","",null,null,null,null,null,null,null,null,null,null,null,null,null,null,"",{"$f":"IF(YEAR(L43)>1900,Einstellungen!$C$10-YEAR(L43),\"---\")","v":"---"},"0000-0000-f-19000100",1,26,"","",1,26,"","","0000","0000","f","19000100",1900,"01","00"]
["","",null,null,null,null,null,null,null,null,null,null,null,null,null,null,"",{"$f":"IF(YEAR(L44)>1900,Einstellungen!$C$10-YEAR(L44),\"---\")","v":"---"},"0000-0000-f-19000100",1,27,"","",1,27,"","","0000","0000","f","19000100",1900,"01","00"]
["","",null,null,null,null,null,null,null,null,null,null,null,null,null,null,"",{"$f":"IF(YEAR(L45)>1900,Einstellungen!$C$10-YEAR(L45),\"---\")","v":"---"},"0000-0000-f-19000100",1,28,"","",1,28,"","","0000","0000","f","19000100",1900,"01","00"]
["","",null,null,null,null,null,null,null,null,null,null,null,null,null,null,"",{"$f":"IF(YEAR(L46)>1900,Einstellungen!$C$10-YEAR(L46),\"---\")","v":"---"},"0000-0000-f-19000100",1,29,"","",1,29,"","","0000","0000","f","19000100",1900,"01","00"]
["","",null,null,null,null,null,null,null,null,null,null,null,null,null,null,"",{"$f":"IF(YEAR(L47)>1900,Einstellungen!$C$10-YEAR(L47),\"---\")","v":"---"},"0000-0000-f-19000100",1,30,"","",1,30,"","","0000","0000","f","19000100",1900,"01","00"]
["","",null,null,null,null,null,null,null,null,null,null,null,null,null,null,"",{"$f":"IF(YEAR(L48)>1900,Einstellungen!$C$10-YEAR(L48),\"---\")","v":"---"},"0000-0000-f-19000100",1,31,"","",1,31,"","","0000","0000","f","19000100",1900,"01","00"]
["","",null,null,null,null,null,null,null,null,null,null,null,null,null,null,"",{"$f":"IF(YEAR(L49)>1900,Einstellungen!$C$10-YEAR(L49),\"---\")","v":"---"},"0000-0000-f-19000100",1,32,"","",1,32,"","","0000","0000","f","19000100",1900,"01","00"]
["","",null,null,null,null,null,null,null,null,null,null,null,null,null,null,"",{"$f":"IF(YEAR(L50)>1900,Einstellungen!$C$10-YEAR(L50),\"---\")","v":"---"},"0000-0000-f-19000100",1,33,"","",1,33,"","","0000","0000","f","19000100",1900,"01","00"]
["","",null,null,null,null,null,null,null,null,null,null,null,null,null,null,"",{"$f":"IF(YEAR(L51)>1900,Einstellungen!$C$10-YEAR(L51),\"---\")","v":"---"},"0000-0000-f-19000100",1,34,"","",1,34,"","","0000","0000","f","19000100",1900,"01","00"]
["","",null,null,null,null,null,null,null,null,null,null,null,null,null,null,"",{"$f":"IF(YEAR(L52)>1900,Einstellungen!$C$10-YEAR(L52),\"---\")","v":"---"},"0000-0000-f-19000100",1,35,"","",1,35,"","","0000","0000","f","19000100",1900,"01","00"]
["","",null,null,null,null,null,null,null,null,null,null,null,null,null,null,"",{"$f":"IF(YEAR(L53)>1900,Einstellungen!$C$10-YEAR(L53),\"---\")","v":"---"},"0000-0000-f-19000100",1,36,"","",1,36,"","","0000","0000","f","19000100",1900,"01","00"]
["","",null,null,null,null,null,null,null,null,null,null,null,null,null,null,"",{"$f":"IF(YEAR(L54)>1900,Einstellungen!$C$10-YEAR(L54),\"---\")","v":"---"},"0000-0000-f-19000100",1,37,"","",1,37,"","","0000","0000","f","19000100",1900,"01","00"]
["","",null,null,null,null,null,null,null,null,null,null,null,null,null,null,"",{"$f":"IF(YEAR(L55)>1900,Einstellungen!$C$10-YEAR(L55),\"---\")","v":"---"},"0000-0000-f-19000100",1,38,"","",1,38,"","","0000","0000","f","19000100",1900,"01","00"]
["","",null,null,null,null,null,null,null,null,null,null,null,null,null,null,"",{"$f":"IF(YEAR(L56)>1900,Einstellungen!$C$10-YEAR(L56),\"---\")","v":"---"},"0000-0000-f-19000100",1,39,"","",1,39,"","","0000","0000","f","19000100",1900,"01","00"]
["","",null,null,null,null,null,null,null,null,null,null,null,null,null,null,"",{"$f":"IF(YEAR(L57)>1900,Einstellungen!$C$10-YEAR(L57),\"---\")","v":"---"},"0000-0000-f-19000100",1,40,"","",1,40,"","","0000","0000","f","19000100",1900,"01","00"]
["","",null,null,null,null,null,null,null,null,null,null,null,null,null,null,"",{"$f":"IF(YEAR(L58)>1900,Einstellungen!$C$10-YEAR(L58),\"---\")","v":"---"},"0000-0000-f-19000100",1,41,"","",1,41,"","","0000","0000","f","19000100",1900,"01","00"]
["","",null,null,null,null,null,null,null,null,null,null,null,null,null,null,"",{"$f":"IF(YEAR(L59)>1900,Einstellungen!$C$10-YEAR(L59),\"---\")","v":"---"},"0000-0000-f-19000100",1,42,"","",1,42,"","","0000","0000","f","19000100",1900,"01","00"]
["","",null,null,null,null,null,null,null,null,null,null,null,null,null,null,"",{"$f":"IF(YEAR(L60)>1900,Einstellungen!$C$10-YEAR(L60),\"---\")","v":"---"},"0000-0000-f-19000100",1,43,"","",1,43,"","","0000","0000","f","19000100",1900,"01","00"]
["","",null,null,null,null,null,null,null,null,null,null,null,null,null,null,"",{"$f":"IF(YEAR(L61)>1900,Einstellungen!$C$10-YEAR(L61),\"---\")","v":"---"},"0000-0000-f-19000100",1,44,"","",1,44,"","","0000","0000","f","19000100",1900,"01","00"]
["","",null,null,null,null,null,null,null,null,null,null,null,null,null,null,"",{"$f":"IF(YEAR(L62)>1900,Einstellungen!$C$10-YEAR(L62),\"---\")","v":"---"},"0000-0000-f-19000100",1,45,"","",1,45,"","","0000","0000","f","19000100",1900,"01","00"]
["","",null,null,null,null,null,null,null,null,null,null,null,null,null,null,"",{"$f":"IF(YEAR(L63)>1900,Einstellungen!$C$10-YEAR(L63),\"---\")","v":"---"},"0000-0000-f-19000100",1,46,"","",1,46,"","","0000","0000","f","19000100",1900,"01","00"]
["","",null,null,null,null,null,null,null,null,null,null,null,null,null,null,"",{"$f":"IF(YEAR(L64)>1900,Einstellungen!$C$10-YEAR(L64),\"---\")","v":"---"},"0000-0000-f-19000100",1,47,"","",1,47,"","","0000","0000","f","19000100",1900,"01","00"]
["","",null,null,null,null,null,null,null,null,null,null,null,null,null,null,"",{"$f":"IF(YEAR(L65)>1900,Einstellungen!$C$10-YEAR(L65),\"---\")","v":"---"},"0000-0000-f-19000100",1,48,"","",1,48,"","","0000","0000","f","19000100",1900,"01","00"]
["","",null,null,null,null,null,null,null,null,null,null,null,null,null,null,"",{"$f":"IF(YEAR(L66)>1900,Einstellungen!$C$10-YEAR(L66),\"---\")","v":"---"},"0000-0000-f-19000100",1,49,"","",1,49,"","","0000","0000","f","19000100",1900,"01","00"]
["","",null,null,null,null,null,null,null,null,null,null,null,null,null,null,"",{"$f":"IF(YEAR(L67)>1900,Einstellungen!$C$10-YEAR(L67),\"---\")","v":"---"},"0000-0000-f-19000100",1,50,"","",1,50,"","","0000","0000","f","19000100",1900,"01","00"]
["","",null,null,null,null,null,null,null,null,null,null,null,null,null,null,"",{"$f":"IF(YEAR(L68)>1900,Einstellungen!$C$10-YEAR(L68),\"---\")","v":"---"},"0000-0000-f-19000100",1,51,"","",1,51,"","","0000","0000","f","19000100",1900,"01","00"]
["","",null,null,null,null,null,null,null,null,null,null,null,null,null,null,"",{"$f":"IF(YEAR(L69)>1900,Einstellungen!$C$10-YEAR(L69),\"---\")","v":"---"},"0000-0000-f-19000100",1,52,"","",1,52,"","","0000","0000","f","19000100",1900,"01","00"]
["","",null,null,null,null,null,null,null,null,null,null,null,null,null,null,"",{"$f":"IF(YEAR(L70)>1900,Einstellungen!$C$10-YEAR(L70),\"---\")","v":"---"},"0000-0000-f-19000100",1,53,"","",1,53,"","","0000","0000","f","19000100",1900,"01","00"]
["","",null,null,null,null,null,null,null,null,null,null,null,null,null,null,"",{"$f":"IF(YEAR(L71)>1900,Einstellungen!$C$10-YEAR(L71),\"---\")","v":"---"},"0000-0000-f-19000100",1,54,"","",1,54,"","","0000","0000","f","19000100",1900,"01","00"]
["","",null,null,null,null,null,null,null,null,null,null,null,null,null,null,"",{"$f":"IF(YEAR(L72)>1900,Einstellungen!$C$10-YEAR(L72),\"---\")","v":"---"},"0000-0000-f-19000100",1,55,"","",1,55,"","","0000","0000","f","19000100",1900,"01","00"]
["","",null,null,null,null,null,null,null,null,null,null,null,null,null,null,"",{"$f":"IF(YEAR(L73)>1900,Einstellungen!$C$10-YEAR(L73),\"---\")","v":"---"},"0000-0000-f-19000100",1,56,"","",1,56,"","","0000","0000","f","19000100",1900,"01","00"]
["","",null,null,null,null,null,null,null,null,null,null,null,null,null,null,"",{"$f":"IF(YEAR(L74)>1900,Einstellungen!$C$10-YEAR(L74),\"---\")","v":"---"},"0000-0000-f-19000100",1,57,"","",1,57,"","","0000","0000","f","19000100",1900,"01","00"]
["","",null,null,null,null,null,null,null,null,null,null,null,null,null,null,"",{"$f":"IF(YEAR(L75)>1900,Einstellungen!$C$10-YEAR(L75),\"---\")","v":"---"},"0000-0000-f-19000100",1,58,"","",1,58,"","","0000","0000","f","19000100",1900,"01","00"]
["","",null,null,null,null,null,null,null,null,null,null,null,null,null,null,"",{"$f":"IF(YEAR(L76)>1900,Einstellungen!$C$10-YEAR(L76),\"---\")","v":"---"},"0000-0000-f-19000100",1,59,"","",1,59,"","","0000","0000","f","19000100",1900,"01","00"]
["","",null,null,null,null,null,null,null,null,null,null,null,null,null,null,"",{"$f":"IF(YEAR(L77)>1900,Einstellungen!$C$10-YEAR(L77),\"---\")","v":"---"},"0000-0000-f-19000100",1,60,"","",1,60,"","","0000","0000","f","19000100",1900,"01","00"]
["","",null,null,null,null,null,null,null,null,null,null,null,null,null,null,"",{"$f":"IF(YEAR(L78)>1900,Einstellungen!$C$10-YEAR(L78),\"---\")","v":"---"},"0000-0000-f-19000100",1,61,"","",1,61,"","","0000","0000","f","19000100",1900,"01","00"]
["","",null,null,null,null,null,null,null,null,null,null,null,null,null,null,"",{"$f":"IF(YEAR(L79)>1900,Einstellungen!$C$10-YEAR(L79),\"---\")","v":"---"},"0000-0000-f-19000100",1,62,"","",1,62,"","","0000","0000","f","19000100",1900,"01","00"]
["","",null,null,null,null,null,null,null,null,null,null,null,null,null,null,"",{"$f":"IF(YEAR(L80)>1900,Einstellungen!$C$10-YEAR(L80),\"---\")","v":"---"},"0000-0000-f-19000100",1,63,"","",1,63,"","","0000","0000","f","19000100",1900,"01","00"]
["","",null,null,null,null,null,null,null,null,null,null,null,null,null,null,"",{"$f":"IF(YEAR(L81)>1900,Einstellungen!$C$10-YEAR(L81),\"---\")","v":"---"},"0000-0000-f-19000100",1,64,"","",1,64,"","","0000","0000","f","19000100",1900,"01","00"]
["","",null,null,null,null,null,null,null,null,null,null,null,null,null,null,{"$f":"IF(LEN(D82)>0,IF(P82=\"x\",\"\",\"x\"),\"\")","v":""},{"$f":"IF(YEAR(L82)>1900,Einstellungen!$C$10-YEAR(L82),\"---\")","v":"---"},"0000-0000-f-19000100",1,65,"","",1,65,"","","0000","0000","f","19000100",1900,"01","00"]
["","",null,null,null,null,null,null,null,null,null,null,null,null,null,null,"",{"$f":"IF(YEAR(L83)>1900,Einstellungen!$C$10-YEAR(L83),\"---\")","v":"---"},{"$f":"AB83 & \"-\" & AC83 & \"-\" & AD83 & \"-\" & AE83","v":"0000-0000-f-19000100"},{"$f":"IF(R83<=$AE$12,1,0)","v":1},{"$f":"IF(T83=1,U82+1,U82)","v":66},{"$f":"IF((M83+N83)>0,IF(T83=1,U83,\"-\"),\"\")","v":""},{"$f":"Z83 & AA83","v":""},{"$f":"IF(LEN(C83)>0, 0, T83)","v":1},{"$f":"Y82+X83","v":66},{"$f":"IF(X83=1,IF(Y83<=$Z$12,\"Q\",\"\"),\"\")","v":""},{"$f":"IF(X83=1, IF(Y83>$Z$12, IF(Y83<=($Z$12+$AA$12),\"R\",\"\"),\"\"), \"\")","v":""},{"$f":"IF(M83<1,\"0000\", IF(M83<10,\"000\"&M83, IF(M83<100,\"00\"&M83, IF(M83<1000,\"0\"&M83,\"\"& M83))))","v":"0000"},"0000",{"$f":"IF(O83=\"a\",\"a\",\"f\")","v":"f"},{"$f":"AF83&AG83&AH83","v":"19000100"},{"$f":"YEAR(L83)","v":1900},{"$f":"IF(MONTH(L83)<10,\"0\"&MONTH(L83),MONTH(L83))","v":"01"},{"$f":"IF(DAY(L83)<10,\"0\"&DAY(L83),DAY(L83))","v":"00"}]
["","",null,null,null,null,null,null,null,null,null,null,null,null,null,null,"",{"$f":"IF(YEAR(L84)>1900,Einstellungen!$C$10-YEAR(L84),\"---\")","v":"---"},"0000-0000-f-19000100",1,67,"","",1,67,"","","0000","0000","f","19000100",1900,"01","00"]
["","",null,null,null,null,null,null,null,null,null,null,null,null,null,null,"",{"$f":"IF(YEAR(L85)>1900,Einstellungen!$C$10-YEAR(L85),\"---\")","v":"---"},"0000-0000-f-19000100",1,68,"","",1,68,"","","0000","0000","f","19000100",1900,"01","00"]
["","",null,null,null,null,null,null,null,null,null,null,null,null,null,null,"",{"$f":"IF(YEAR(L86)>1900,Einstellungen!$C$10-YEAR(L86),\"---\")","v":"---"},"0000-0000-f-19000100",1,69,"","",1,69,"","","0000","0000","f","19000100",1900,"01","00"]
["","",null,null,null,null,null,null,null,null,null,null,null,null,null,null,"",{"$f":"IF(YEAR(L87)>1900,Einstellungen!$C$10-YEAR(L87),\"---\")","v":"---"},"0000-0000-f-19000100",1,70,"","",1,70,"","","0000","0000","f","19000100",1900,"01","00"]
["","",null,null,null,null,null,null,null,null,null,null,null,null,null,null,"",{"$f":"IF(YEAR(L88)>1900,Einstellungen!$C$10-YEAR(L88),\"---\")","v":"---"},"0000-0000-f-19000100",1,71,"","",1,71,"","","0000","0000","f","19000100",1900,"01","00"]
["","",null,null,null,null,null,null,null,null,null,null,null,null,null,null,"",{"$f":"IF(YEAR(L89)>1900,Einstellungen!$C$10-YEAR(L89),\"---\")","v":"---"},"0000-0000-f-19000100",1,72,"","",1,72,"","","0000","0000","f","19000100",1900,"01","00"]
["","",null,null,null,null,null,null,null,null,null,null,null,null,null,null,"",{"$f":"IF(YEAR(L90)>1900,Einstellungen!$C$10-YEAR(L90),\"---\")","v":"---"},"0000-0000-f-19000100",1,73,"","",1,73,"","","0000","0000","f","19000100",1900,"01","00"]
["","",null,null,null,null,null,null,null,null,null,null,null,null,null,null,"",{"$f":"IF(YEAR(L91)>1900,Einstellungen!$C$10-YEAR(L91),\"---\")","v":"---"},"0000-0000-f-19000100",1,74,"","",1,74,"","","0000","0000","f","19000100",1900,"01","00"]
["","",null,null,null,null,null,null,null,null,null,null,null,null,null,null,"",{"$f":"IF(YEAR(L92)>1900,Einstellungen!$C$10-YEAR(L92),\"---\")","v":"---"},"0000-0000-f-19000100",1,75,"","",1,75,"","","0000","0000","f","19000100",1900,"01","00"]
["","",null,null,null,null,null,null,null,null,null,null,null,null,null,null,"",{"$f":"IF(YEAR(L93)>1900,Einstellungen!$C$10-YEAR(L93),\"---\")","v":"---"},"0000-0000-f-19000100",1,76,"","",1,76,"","","0000","0000","f","19000100",1900,"01","00"]
["","",null,null,null,null,null,null,null,null,null,null,null,null,null,null,"",{"$f":"IF(YEAR(L94)>1900,Einstellungen!$C$10-YEAR(L94),\"---\")","v":"---"},"0000-0000-f-19000100",1,77,"","",1,77,"","","0000","0000","f","19000100",1900,"01","00"]
["","",null,null,null,null,null,null,null,null,null,null,null,null,null,null,"",{"$f":"IF(YEAR(L95)>1900,Einstellungen!$C$10-YEAR(L95),\"---\")","v":"---"},"0000-0000-f-19000100",1,78,"","",1,78,"","","0000","0000","f","19000100",1900,"01","00"]
["","",null,null,null,null,null,null,null,null,null,null,null,null,null,null,"",{"$f":"IF(YEAR(L96)>1900,Einstellungen!$C$10-YEAR(L96),\"---\")","v":"---"},"0000-0000-f-19000100",1,79,"","",1,79,"","","0000","0000","f","19000100",1900,"01","00"]
["","",null,null,null,null,null,null,null,null,null,null,null,null,null,null,"",{"$f":"IF(YEAR(L97)>1900,Einstellungen!$C$10-YEAR(L97),\"---\")","v":"---"},"0000-0000-f-19000100",1,80,"","",1,80,"","","0000","0000","f","19000100",1900,"01","00"]
["","",null,null,null,null,null,null,null,null,null,null,null,null,null,null,"",{"$f":"IF(YEAR(L98)>1900,Einstellungen!$C$10-YEAR(L98),\"---\")","v":"---"},"0000-0000-f-19000100",1,81,"","",1,81,"","","0000","0000","f","19000100",1900,"01","00"]
["","",null,null,null,null,null,null,null,null,null,null,null,null,null,null,"",{"$f":"IF(YEAR(L99)>1900,Einstellungen!$C$10-YEAR(L99),\"---\")","v":"---"},"0000-0000-f-19000100",1,82,"","",1,82,"","","0000","0000","f","19000100",1900,"01","00"]
["","",null,null,null,null,null,null,null,null,null,null,null,null,null,null,"",{"$f":"IF(YEAR(L100)>1900,Einstellungen!$C$10-YEAR(L100),\"---\")","v":"---"},"0000-0000-f-19000100",1,83,"","",1,83,"","","0000","0000","f","19000100",1900,"01","00"]
["","",null,null,null,null,null,null,null,null,null,null,null,null,null,null,"",{"$f":"IF(YEAR(L101)>1900,Einstellungen!$C$10-YEAR(L101),\"---\")","v":"---"},"0000-0000-f-19000100",1,84,"","",1,84,"","","0000","0000","f","19000100",1900,"01","00"]
["","",null,null,null,null,null,null,null,null,null,null,null,null,null,null,"",{"$f":"IF(YEAR(L102)>1900,Einstellungen!$C$10-YEAR(L102),\"---\")","v":"---"},"0000-0000-f-19000100",1,85,"","",1,85,"","","0000","0000","f","19000100",1900,"01","00"]
["","",null,null,null,null,null,null,null,null,null,null,null,null,null,null,"",{"$f":"IF(YEAR(L103)>1900,Einstellungen!$C$10-YEAR(L103),\"---\")","v":"---"},"0000-0000-f-19000100",1,86,"","",1,86,"","","0000","0000","f","19000100",1900,"01","00"]
["","",null,null,null,null,null,null,null,null,null,null,null,null,null,null,"",{"$f":"IF(YEAR(L104)>1900,Einstellungen!$C$10-YEAR(L104),\"---\")","v":"---"},"0000-0000-f-19000100",1,87,"","",1,87,"","","0000","0000","f","19000100",1900,"01","00"]
["","",null,null,null,null,null,null,null,null,null,null,null,null,null,null,"",{"$f":"IF(YEAR(L105)>1900,Einstellungen!$C$10-YEAR(L105),\"---\")","v":"---"},"0000-0000-f-19000100",1,88,"","",1,88,"","","0000","0000","f","19000100",1900,"01","00"]
["","",null,null,null,null,null,null,null,null,null,null,null,null,null,null,"",{"$f":"IF(YEAR(L106)>1900,Einstellungen!$C$10-YEAR(L106),\"---\")","v":"---"},"0000-0000-f-19000100",1,89,"","",1,89,"","","0000","0000","f","19000100",1900,"01","00"]
["","",null,null,null,null,null,null,null,null,null,null,null,null,null,null,"",{"$f":"IF(YEAR(L107)>1900,Einstellungen!$C$10-YEAR(L107),\"---\")","v":"---"},"0000-0000-f-19000100",1,90,"","",1,90,"","","0000","0000","f","19000100",1900,"01","00"]
["","",null,null,null,null,null,null,null,null,null,null,null,null,null,null,"",{"$f":"IF(YEAR(L108)>1900,Einstellungen!$C$10-YEAR(L108),\"---\")","v":"---"},"0000-0000-f-19000100",1,91,"","",1,91,"","","0000","0000","f","19000100",1900,"01","00"]
["","",null,null,null,null,null,null,null,null,null,null,null,null,null,null,"",{"$f":"IF(YEAR(L109)>1900,Einstellungen!$C$10-YEAR(L109),\"---\")","v":"---"},"0000-0000-f-19000100",1,92,"","",1,92,"","","0000","0000","f","19000100",1900,"01","00"]
["","",null,null,null,null,null,null,null,null,null,null,null,null,null,null,"",{"$f":"IF(YEAR(L110)>1900,Einstellungen!$C$10-YEAR(L110),\"---\")","v":"---"},"0000-0000-f-19000100",1,93,"","",1,93,"","","0000","0000","f","19000100",1900,"01","00"]
["","",null,null,null,null,null,null,null,null,null,null,null,null,null,null,"",{"$f":"IF(YEAR(L111)>1900,Einstellungen!$C$10-YEAR(L111),\"---\")","v":"---"},"0000-0000-f-19000100",1,94,"","",1,94,"","","0000","0000","f","19000100",1900,"01","00"]
["","",null,null,null,null,null,null,null,null,null,null,null,null,null,null,"",{"$f":"IF(YEAR(L112)>1900,Einstellungen!$C$10-YEAR(L112),\"---\")","v":"---"},"0000-0000-f-19000100",1,95,"","",1,95,"","","0000","0000","f","19000100",1900,"01","00"]
["","",null,null,null,null,null,null,null,null,null,null,null,null,null,null,"",{"$f":"IF(YEAR(L113)>1900,Einstellungen!$C$10-YEAR(L113),\"---\")","v":"---"},"0000-0000-f-19000100",1,96,"","",1,96,"","","0000","0000","f","19000100",1900,"01","00"]
["","",null,null,null,null,null,null,null,null,null,null,null,null,null,null,"",{"$f":"IF(YEAR(L114)>1900,Einstellungen!$C$10-YEAR(L114),\"---\")","v":"---"},"0000-0000-f-19000100",1,97,"","",1,97,"","","0000","0000","f","19000100",1900,"01","00"]
["","",null,null,null,null,null,null,null,null,null,null,null,null,null,null,"",{"$f":"IF(YEAR(L115)>1900,Einstellungen!$C$10-YEAR(L115),\"---\")","v":"---"},"0000-0000-f-19000100",1,98,"","",1,98,"","","0000","0000","f","19000100",1900,"01","00"]
["","",null,null,null,null,null,null,null,null,null,null,null,null,null,null,"",{"$f":"IF(YEAR(L116)>1900,Einstellungen!$C$10-YEAR(L116),\"---\")","v":"---"},"0000-0000-f-19000100",1,99,"","",1,99,"","","0000","0000","f","19000100",1900,"01","00"]
["","",null,null,null,null,null,null,null,null,null,null,null,null,null,null,"",{"$f":"IF(YEAR(L117)>1900,Einstellungen!$C$10-YEAR(L117),\"---\")","v":"---"},"0000-0000-f-19000100",1,100,"","",1,100,"","","0000","0000","f","19000100",1900,"01","00"]
["","",null,null,null,null,null,null,null,null,null,null,null,null,null,null,"",{"$f":"IF(YEAR(L118)>1900,Einstellungen!$C$10-YEAR(L118),\"---\")","v":"---"},"0000-0000-f-19000100",1,101,"","",1,101,"","","0000","0000","f","19000100",1900,"01","00"]
["","",null,null,null,null,null,null,null,null,null,null,null,null,null,null,"",{"$f":"IF(YEAR(L119)>1900,Einstellungen!$C$10-YEAR(L119),\"---\")","v":"---"},"0000-0000-f-19000100",1,102,"","",1,102,"","","0000","0000","f","19000100",1900,"01","00"]
["","",null,null,null,null,null,null,null,null,null,null,null,null,null,null,"",{"$f":"IF(YEAR(L120)>1900,Einstellungen!$C$10-YEAR(L120),\"---\")","v":"---"},"0000-0000-f-19000100",1,103,"","",1,103,"","","0000","0000","f","19000100",1900,"01","00"]
["","",null,null,null,null,null,null,null,null,null,null,null,null,null,null,"",{"$f":"IF(YEAR(L121)>1900,Einstellungen!$C$10-YEAR(L121),\"---\")","v":"---"},"0000-0000-f-19000100",1,104,"","",1,104,"","","0000","0000","f","19000100",1900,"01","00"]
["","",null,null,null,null,null,null,null,null,null,null,null,null,null,null,"",{"$f":"IF(YEAR(L122)>1900,Einstellungen!$C$10-YEAR(L122),\"---\")","v":"---"},"0000-0000-f-19000100",1,105,"","",1,105,"","","0000","0000","f","19000100",1900,"01","00"]
["","",null,null,null,null,null,null,null,null,null,null,null,null,null,null,"",{"$f":"IF(YEAR(L123)>1900,Einstellungen!$C$10-YEAR(L123),\"---\")","v":"---"},"0000-0000-f-19000100",1,106,"","",1,106,"","","0000","0000","f","19000100",1900,"01","00"]
["","",null,null,null,null,null,null,null,null,null,null,null,null,null,null,"",{"$f":"IF(YEAR(L124)>1900,Einstellungen!$C$10-YEAR(L124),\"---\")","v":"---"},"0000-0000-f-19000100",1,107,"","",1,107,"","","0000","0000","f","19000100",1900,"01","00"]
["","",null,null,null,null,null,null,null,null,null,null,null,null,null,null,"",{"$f":"IF(YEAR(L125)>1900,Einstellungen!$C$10-YEAR(L125),\"---\")","v":"---"},"0000-0000-f-19000100",1,108,"","",1,108,"","","0000","0000","f","19000100",1900,"01","00"]
["","",null,null,null,null,null,null,null,null,null,null,null,null,null,null,"",{"$f":"IF(YEAR(L126)>1900,Einstellungen!$C$10-YEAR(L126),\"---\")","v":"---"},"0000-0000-f-19000100",1,109,"","",1,109,"","","0000","0000","f","19000100",1900,"01","00"]
["","",null,null,null,null,null,null,null,null,null,null,null,null,null,null,"",{"$f":"IF(YEAR(L127)>1900,Einstellungen!$C$10-YEAR(L127),\"---\")","v":"---"},"0000-0000-f-19000100",1,110,"","",1,110,"","","0000","0000","f","19000100",1900,"01","00"]
["","",null,null,null,null,null,null,null,null,null,null,null,null,null,null,"",{"$f":"IF(YEAR(L128)>1900,Einstellungen!$C$10-YEAR(L128),\"---\")","v":"---"},"0000-0000-f-19000100",1,111,"","",1,111,"","","0000","0000","f","19000100",1900,"01","00"]
["","",null,null,null,null,null,null,null,null,null,null,null,null,null,null,"",{"$f":"IF(YEAR(L129)>1900,Einstellungen!$C$10-YEAR(L129),\"---\")","v":"---"},"0000-0000-f-19000100",1,112,"","",1,112,"","","0000","0000","f","19000100",1900,"01","00"]
["","",null,null,null,null,null,null,null,null,null,null,null,null,null,null,"",{"$f":"IF(YEAR(L130)>1900,Einstellungen!$C$10-YEAR(L130),\"---\")","v":"---"},"0000-0000-f-19000100",1,113,"","",1,113,"","","0000","0000","f","19000100",1900,"01","00"]
["","",null,null,null,null,null,null,null,null,null,null,null,null,null,null,"",{"$f":"IF(YEAR(L131)>1900,Einstellungen!$C$10-YEAR(L131),\"---\")","v":"---"},"0000-0000-f-19000100",1,114,"","",1,114,"","","0000","0000","f","19000100",1900,"01","00"]
["","",null,null,null,null,null,null,null,null,null,null,null,null,null,null,"",{"$f":"IF(YEAR(L132)>1900,Einstellungen!$C$10-YEAR(L132),\"---\")","v":"---"},"0000-0000-f-19000100",1,115,"","",1,115,"","","0000","0000","f","19000100",1900,"01","00"]
["","",null,null,null,null,null,null,null,null,null,null,null,null,null,null,"",{"$f":"IF(YEAR(L133)>1900,Einstellungen!$C$10-YEAR(L133),\"---\")","v":"---"},"0000-0000-f-19000100",1,116,"","",1,116,"","","0000","0000","f","19000100",1900,"01","00"]
["","",null,null,null,null,null,null,null,null,null,null,null,null,null,null,"",{"$f":"IF(YEAR(L134)>1900,Einstellungen!$C$10-YEAR(L134),\"---\")","v":"---"},"0000-0000-f-19000100",1,117,"","",1,117,"","","0000","0000","f","19000100",1900,"01","00"]
["","",null,null,null,null,null,null,null,null,null,null,null,null,null,null,"",{"$f":"IF(YEAR(L135)>1900,Einstellungen!$C$10-YEAR(L135),\"---\")","v":"---"},"0000-0000-f-19000100",1,118,"","",1,118,"","","0000","0000","f","19000100",1900,"01","00"]
["","",null,null,null,null,null,null,null,null,null,null,null,null,null,null,"",{"$f":"IF(YEAR(L136)>1900,Einstellungen!$C$10-YEAR(L136),\"---\")","v":"---"},"0000-0000-f-19000100",1,119,"","",1,119,"","","0000","0000","f","19000100",1900,"01","00"]
["","",null,null,null,null,null,null,null,null,null,null,null,null,null,null,"",{"$f":"IF(YEAR(L137)>1900,Einstellungen!$C$10-YEAR(L137),\"---\")","v":"---"},"0000-0000-f-19000100",1,120,"","",1,120,"","","0000","0000","f","19000100",1900,"01","00"]
["","",null,null,null,null,null,null,null,null,null,null,null,null,null,null,"",{"$f":"IF(YEAR(L138)>1900,Einstellungen!$C$10-YEAR(L138),\"---\")","v":"---"},"0000-0000-f-19000100",1,121,"","",1,121,"","","0000","0000","f","19000100",1900,"01","00"]
["","",null,null,null,null,null,null,null,null,null,null,null,null,null,null,"",{"$f":"IF(YEAR(L139)>1900,Einstellungen!$C$10-YEAR(L139),\"---\")","v":"---"},"0000-0000-f-19000100",1,122,"","",1,122,"","","0000","0000","f","19000100",1900,"01","00"]
["","",null,null,null,null,null,null,null,null,null,null,null,null,null,null,"",{"$f":"IF(YEAR(L140)>1900,Einstellungen!$C$10-YEAR(L140),\"---\")","v":"---"},"0000-0000-f-19000100",1,123,"","",1,123,"","","0000","0000","f","19000100",1900,"01","00"]
["","",null,null,null,null,null,null,null,null,null,null,null,null,null,null,"",{"$f":"IF(YEAR(L141)>1900,Einstellungen!$C$10-YEAR(L141),\"---\")","v":"---"},"0000-0000-f-19000100",1,124,"","",1,124,"","","0000","0000","f","19000100",1900,"01","00"]
["","",null,null,null,null,null,null,null,null,null,null,null,null,null,null,"",{"$f":"IF(YEAR(L142)>1900,Einstellungen!$C$10-YEAR(L142),\"---\")","v":"---"},"0000-0000-f-19000100",1,125,"","",1,125,"","","0000","0000","f","19000100",1900,"01","00"]
["","",null,null,null,null,null,null,null,null,null,null,null,null,null,null,"",{"$f":"IF(YEAR(L143)>1900,Einstellungen!$C$10-YEAR(L143),\"---\")","v":"---"},"0000-0000-f-19000100",1,126,"","",1,126,"","","0000","0000","f","19000100",1900,"01","00"]
["","",null,null,null,null,null,null,null,null,null,null,null,null,null,null,"",{"$f":"IF(YEAR(L144)>1900,Einstellungen!$C$10-YEAR(L144),\"---\")","v":"---"},"0000-0000-f-19000100",1,127,"","",1,127,"","","0000","0000","f","19000100",1900,"01","00"]
["","",null,null,null,null,null,null,null,null,null,null,null,null,null,null,"",{"$f":"IF(YEAR(L145)>1900,Einstellungen!$C$10-YEAR(L145),\"---\")","v":"---"},"0000-0000-f-19000100",1,128,"","",1,128,"","","0000","0000","f","19000100",1900,"01","00"]
["","",null,null,null,null,null,null,null,null,null,null,null,null,null,null,{"$f":"IF(LEN(D146)>0,IF(P146=\"x\",\"\",\"x\"),\"\")","v":""},{"$f":"IF(YEAR(L146)>1900,Einstellungen!$C$10-YEAR(L146),\"---\")","v":"---"},"0000-0000-f-19000100",1,129,"","",1,129,"","","0000","0000","f","19000100",1900,"01","00"]
["","",null,null,null,null,null,null,null,null,null,null,null,null,null,null,"",{"$f":"IF(YEAR(L147)>1900,Einstellungen!$C$10-YEAR(L147),\"---\")","v":"---"},{"$f":"AB147 & \"-\" & AC147 & \"-\" & AD147 & \"-\" & AE147","v":"0000-0000-f-19000100"},{"$f":"IF(R147<=$AE$12,1,0)","v":1},{"$f":"IF(T147=1,U146+1,U146)","v":130},{"$f":"IF((M147+N147)>0,IF(T147=1,U147,\"-\"),\"\")","v":""},{"$f":"Z147 & AA147","v":""},{"$f":"IF(LEN(C147)>0, 0, T147)","v":1},{"$f":"Y146+X147","v":130},{"$f":"IF(X147=1,IF(Y147<=$Z$12,\"Q\",\"\"),\"\")","v":""},{"$f":"IF(X147=1, IF(Y147>$Z$12, IF(Y147<=($Z$12+$AA$12),\"R\",\"\"),\"\"), \"\")","v":""},{"$f":"IF(M147<1,\"0000\", IF(M147<10,\"000\"&M147, IF(M147<100,\"00\"&M147, IF(M147<1000,\"0\"&M147,\"\"& M147))))","v":"0000"},"0000",{"$f":"IF(O147=\"a\",\"a\",\"f\")","v":"f"},{"$f":"AF147&AG147&AH147","v":"19000100"},{"$f":"YEAR(L147)","v":1900},{"$f":"IF(MONTH(L147)<10,\"0\"&MONTH(L147),MONTH(L147))","v":"01"},{"$f":"IF(DAY(L147)<10,\"0\"&DAY(L147),DAY(L147))","v":"00"}]
["","",null,null,null,null,null,null,null,null,null,null,null,null,null,null,"",{"$f":"IF(YEAR(L148)>1900,Einstellungen!$C$10-YEAR(L148),\"---\")","v":"---"},"0000-0000-f-19000100",1,131,"","",1,131,"","","0000","0000","f","19000100",1900,"01","00"]
["","",null,null,null,null,null,null,null,null,null,null,null,null,null,null,"",{"$f":"IF(YEAR(L149)>1900,Einstellungen!$C$10-YEAR(L149),\"---\")","v":"---"},"0000-0000-f-19000100",1,132,"","",1,132,"","","0000","0000","f","19000100",1900,"01","00"]
["","",null,null,null,null,null,null,null,null,null,null,null,null,null,null,"",{"$f":"IF(YEAR(L150)>1900,Einstellungen!$C$10-YEAR(L150),\"---\")","v":"---"},"0000-0000-f-19000100",1,133,"","",1,133,"","","0000","0000","f","19000100",1900,"01","00"]
["","",null,null,null,null,null,null,null,null,null,null,null,null,null,null,"",{"$f":"IF(YEAR(L151)>1900,Einstellungen!$C$10-YEAR(L151),\"---\")","v":"---"},"0000-0000-f-19000100",1,134,"","",1,134,"","","0000","0000","f","19000100",1900,"01","00"]
["","",null,null,null,null,null,null,null,null,null,null,null,null,null,null,"",{"$f":"IF(YEAR(L152)>1900,Einstellungen!$C$10-YEAR(L152),\"---\")","v":"---"},"0000-0000-f-19000100",1,135,"","",1,135,"","","0000","0000","f","19000100",1900,"01","00"]
["","",null,null,null,null,null,null,null,null,null,null,null,null,null,null,"",{"$f":"IF(YEAR(L153)>1900,Einstellungen!$C$10-YEAR(L153),\"---\")","v":"---"},"0000-0000-f-19000100",1,136,"","",1,136,"","","0000","0000","f","19000100",1900,"01","00"]
["","",null,null,null,null,null,null,null,null,null,null,null,null,null,null,"",{"$f":"IF(YEAR(L154)>1900,Einstellungen!$C$10-YEAR(L154),\"---\")","v":"---"},"0000-0000-f-19000100",1,137,"","",1,137,"","","0000","0000","f","19000100",1900,"01","00"]
["","",null,null,null,null,null,null,null,null,null,null,null,null,null,null,"",{"$f":"IF(YEAR(L155)>1900,Einstellungen!$C$10-YEAR(L155),\"---\")","v":"---"},"0000-0000-f-19000100",1,138,"","",1,138,"","","0000","0000","f","19000100",1900,"01","00"]
["","",null,null,null,null,null,null,null,null,null,null,null,null,null,null,"",{"$f":"IF(YEAR(L156)>1900,Einstellungen!$C$10-YEAR(L156),\"---\")","v":"---"},"0000-0000-f-19000100",1,139,"","",1,139,"","","0000","0000","f","19000100",1900,"01","00"]
["","",null,null,null,null,null,null,null,null,null,null,null,null,null,null,"",{"$f":"IF(YEAR(L157)>1900,Einstellungen!$C$10-YEAR(L157),\"---\")","v":"---"},"0000-0000-f-19000100",1,140,"","",1,140,"","","0000","0000","f","19000100",1900,"01","00"]
["","",null,null,null,null,null,null,null,null,null,null,null,null,null,null,"",{"$f":"IF(YEAR(L158)>1900,Einstellungen!$C$10-YEAR(L158),\"---\")","v":"---"},"0000-0000-f-19000100",1,141,"","",1,141,"","","0000","0000","f","19000100",1900,"01","00"]
["","",null,null,null,null,null,null,null,null,null,null,null,null,null,null,"",{"$f":"IF(YEAR(L159)>1900,Einstellungen!$C$10-YEAR(L159),\"---\")","v":"---"},"0000-0000-f-19000100",1,142,"","",1,142,"","","0000","0000","f","19000100",1900,"01","00"]
["","",null,null,null,null,null,null,null,null,null,null,null,null,null,null,"",{"$f":"IF(YEAR(L160)>1900,Einstellungen!$C$10-YEAR(L160),\"---\")","v":"---"},"0000-0000-f-19000100",1,143,"","",1,143,"","","0000","0000","f","19000100",1900,"01","00"]
["","",null,null,null,null,null,null,null,null,null,null,null,null,null,null,"",{"$f":"IF(YEAR(L161)>1900,Einstellungen!$C$10-YEAR(L161),\"---\")","v":"---"},"0000-0000-f-19000100",1,144,"","",1,144,"","","0000","0000","f","19000100",1900,"01","00"]
["","",null,null,null,null,null,null,null,null,null,null,null,null,null,null,"",{"$f":"IF(YEAR(L162)>1900,Einstellungen!$C$10-YEAR(L162),\"---\")","v":"---"},"0000-0000-f-19000100",1,145,"","",1,145,"","","0000","0000","f","19000100",1900,"01","00"]
["","",null,null,null,null,null,null,null,null,null,null,null,null,null,null,"",{"$f":"IF(YEAR(L163)>1900,Einstellungen!$C$10-YEAR(L163),\"---\")","v":"---"},"0000-0000-f-19000100",1,146,"","",1,146,"","","0000","0000","f","19000100",1900,"01","00"]
["","",null,null,null,null,null,null,null,null,null,null,null,null,null,null,"",{"$f":"IF(YEAR(L164)>1900,Einstellungen!$C$10-YEAR(L164),\"---\")","v":"---"},"0000-0000-f-19000100",1,147,"","",1,147,"","","0000","0000","f","19000100",1900,"01","00"]
["","",null,null,null,null,null,null,null,null,null,null,null,null,null,null,"",{"$f":"IF(YEAR(L165)>1900,Einstellungen!$C$10-YEAR(L165),\"---\")","v":"---"},"0000-0000-f-19000100",1,148,"","",1,148,"","","0000","0000","f","19000100",1900,"01","00"]
["","",null,null,null,null,null,null,null,null,null,null,null,null,null,null,"",{"$f":"IF(YEAR(L166)>1900,Einstellungen!$C$10-YEAR(L166),\"---\")","v":"---"},"0000-0000-f-19000100",1,149,"","",1,149,"","","0000","0000","f","19000100",1900,"01","00"]
["","",null,null,null,null,null,null,null,null,null,null,null,null,null,null,"",{"$f":"IF(YEAR(L167)>1900,Einstellungen!$C$10-YEAR(L167),\"---\")","v":"---"},"0000-0000-f-19000100",1,150,"","",1,150,"","","0000","0000","f","19000100",1900,"01","00"]
["","",null,null,null,null,null,null,null,null,null,null,null,null,null,null,"",{"$f":"IF(YEAR(L168)>1900,Einstellungen!$C$10-YEAR(L168),\"---\")","v":"---"},"0000-0000-f-19000100",1,151,"","",1,151,"","","0000","0000","f","19000100",1900,"01","00"]
["","",null,null,null,null,null,null,null,null,null,null,null,null,null,null,"",{"$f":"IF(YEAR(L169)>1900,Einstellungen!$C$10-YEAR(L169),\"---\")","v":"---"},"0000-0000-f-19000100",1,152,"","",1,152,"","","0000","0000","f","19000100",1900,"01","00"]
["","",null,null,null,null,null,null,null,null,null,null,null,null,null,null,"",{"$f":"IF(YEAR(L170)>1900,Einstellungen!$C$10-YEAR(L170),\"---\")","v":"---"},"0000-0000-f-19000100",1,153,"","",1,153,"","","0000","0000","f","19000100",1900,"01","00"]
["","",null,null,null,null,null,null,null,null,null,null,null,null,null,null,"",{"$f":"IF(YEAR(L171)>1900,Einstellungen!$C$10-YEAR(L171),\"---\")","v":"---"},"0000-0000-f-19000100",1,154,"","",1,154,"","","0000","0000","f","19000100",1900,"01","00"]
["","",null,null,null,null,null,null,null,null,null,null,null,null,null,null,"",{"$f":"IF(YEAR(L172)>1900,Einstellungen!$C$10-YEAR(L172),\"---\")","v":"---"},"0000-0000-f-19000100",1,155,"","",1,155,"","","0000","0000","f","19000100",1900,"01","00"]
["","",null,null,null,null,null,null,null,null,null,null,null,null,null,null,"",{"$f":"IF(YEAR(L173)>1900,Einstellungen!$C$10-YEAR(L173),\"---\")","v":"---"},"0000-0000-f-19000100",1,156,"","",1,156,"","","0000","0000","f","19000100",1900,"01","00"]
["","",null,null,null,null,null,null,null,null,null,null,null,null,null,null,"",{"$f":"IF(YEAR(L174)>1900,Einstellungen!$C$10-YEAR(L174),\"---\")","v":"---"},"0000-0000-f-19000100",1,157,"","",1,157,"","","0000","0000","f","19000100",1900,"01","00"]
["","",null,null,null,null,null,null,null,null,null,null,null,null,null,null,"",{"$f":"IF(YEAR(L175)>1900,Einstellungen!$C$10-YEAR(L175),\"---\")","v":"---"},"0000-0000-f-19000100",1,158,"","",1,158,"","","0000","0000","f","19000100",1900,"01","00"]
["","",null,null,null,null,null,null,null,null,null,null,null,null,null,null,"",{"$f":"IF(YEAR(L176)>1900,Einstellungen!$C$10-YEAR(L176),\"---\")","v":"---"},"0000-0000-f-19000100",1,159,"","",1,159,"","","0000","0000","f","19000100",1900,"01","00"]
["","",null,null,null,null,null,null,null,null,null,null,null,null,null,null,"",{"$f":"IF(YEAR(L177)>1900,Einstellungen!$C$10-YEAR(L177),\"---\")","v":"---"},"0000-0000-f-19000100",1,160,"","",1,160,"","","0000","0000","f","19000100",1900,"01","00"]
["","",null,null,null,null,null,null,null,null,null,null,null,null,null,null,"",{"$f":"IF(YEAR(L178)>1900,Einstellungen!$C$10-YEAR(L178),\"---\")","v":"---"},"0000-0000-f-19000100",1,161,"","",1,161,"","","0000","0000","f","19000100",1900,"01","00"]
["","",null,null,null,null,null,null,null,null,null,null,null,null,null,null,"",{"$f":"IF(YEAR(L179)>1900,Einstellungen!$C$10-YEAR(L179),\"---\")","v":"---"},"0000-0000-f-19000100",1,162,"","",1,162,"","","0000","0000","f","19000100",1900,"01","00"]
["","",null,null,null,null,null,null,null,null,null,null,null,null,null,null,"",{"$f":"IF(YEAR(L180)>1900,Einstellungen!$C$10-YEAR(L180),\"---\")","v":"---"},"0000-0000-f-19000100",1,163,"","",1,163,"","","0000","0000","f","19000100",1900,"01","00"]
["","",null,null,null,null,null,null,null,null,null,null,null,null,null,null,"",{"$f":"IF(YEAR(L181)>1900,Einstellungen!$C$10-YEAR(L181),\"---\")","v":"---"},"0000-0000-f-19000100",1,164,"","",1,164,"","","0000","0000","f","19000100",1900,"01","00"]
["","",null,null,null,null,null,null,null,null,null,null,null,null,null,null,"",{"$f":"IF(YEAR(L182)>1900,Einstellungen!$C$10-YEAR(L182),\"---\")","v":"---"},"0000-0000-f-19000100",1,165,"","",1,165,"","","0000","0000","f","19000100",1900,"01","00"]
["","",null,null,null,null,null,null,null,null,null,null,null,null,null,null,"",{"$f":"IF(YEAR(L183)>1900,Einstellungen!$C$10-YEAR(L183),\"---\")","v":"---"},"0000-0000-f-19000100",1,166,"","",1,166,"","","0000","0000","f","19000100",1900,"01","00"]
["","",null,null,null,null,null,null,null,null,null,null,null,null,null,null,"",{"$f":"IF(YEAR(L184)>1900,Einstellungen!$C$10-YEAR(L184),\"---\")","v":"---"},"0000-0000-f-19000100",1,167,"","",1,167,"","","0000","0000","f","19000100",1900,"01","00"]
["","",null,null,null,null,null,null,null,null,null,null,null,null,null,null,"",{"$f":"IF(YEAR(L185)>1900,Einstellungen!$C$10-YEAR(L185),\"---\")","v":"---"},"0000-0000-f-19000100",1,168,"","",1,168,"","","0000","0000","f","19000100",1900,"01","00"]
["","",null,null,null,null,null,null,null,null,null,null,null,null,null,null,"",{"$f":"IF(YEAR(L186)>1900,Einstellungen!$C$10-YEAR(L186),\"---\")","v":"---"},"0000-0000-f-19000100",1,169,"","",1,169,"","","0000","0000","f","19000100",1900,"01","00"]
["","",null,null,null,null,null,null,null,null,null,null,null,null,null,null,"",{"$f":"IF(YEAR(L187)>1900,Einstellungen!$C$10-YEAR(L187),\"---\")","v":"---"},"0000-0000-f-19000100",1,170,"","",1,170,"","","0000","0000","f","19000100",1900,"01","00"]
["","",null,null,null,null,null,null,null,null,null,null,null,null,null,null,"",{"$f":"IF(YEAR(L188)>1900,Einstellungen!$C$10-YEAR(L188),\"---\")","v":"---"},"0000-0000-f-19000100",1,171,"","",1,171,"","","0000","0000","f","19000100",1900,"01","00"]
["","",null,null,null,null,null,null,null,null,null,null,null,null,null,null,"",{"$f":"IF(YEAR(L189)>1900,Einstellungen!$C$10-YEAR(L189),\"---\")","v":"---"},"0000-0000-f-19000100",1,172,"","",1,172,"","","0000","0000","f","19000100",1900,"01","00"]
["","",null,null,null,null,null,null,null,null,null,null,null,null,null,null,"",{"$f":"IF(YEAR(L190)>1900,Einstellungen!$C$10-YEAR(L190),\"---\")","v":"---"},"0000-0000-f-19000100",1,173,"","",1,173,"","","0000","0000","f","19000100",1900,"01","00"]
["","",null,null,null,null,null,null,null,null,null,null,null,null,null,null,"",{"$f":"IF(YEAR(L191)>1900,Einstellungen!$C$10-YEAR(L191),\"---\")","v":"---"},"0000-0000-f-19000100",1,174,"","",1,174,"","","0000","0000","f","19000100",1900,"01","00"]
["","",null,null,null,null,null,null,null,null,null,null,null,null,null,null,"",{"$f":"IF(YEAR(L192)>1900,Einstellungen!$C$10-YEAR(L192),\"---\")","v":"---"},"0000-0000-f-19000100",1,175,"","",1,175,"","","0000","0000","f","19000100",1900,"01","00"]
["","",null,null,null,null,null,null,null,null,null,null,null,null,null,null,"",{"$f":"IF(YEAR(L193)>1900,Einstellungen!$C$10-YEAR(L193),\"---\")","v":"---"},"0000-0000-f-19000100",1,176,"","",1,176,"","","0000","0000","f","19000100",1900,"01","00"]
["","",null,null,null,null,null,null,null,null,null,null,null,null,null,null,"",{"$f":"IF(YEAR(L194)>1900,Einstellungen!$C$10-YEAR(L194),\"---\")","v":"---"},"0000-0000-f-19000100",1,177,"","",1,177,"","","0000","0000","f","19000100",1900,"01","00"]
["","",null,null,null,null,null,null,null,null,null,null,null,null,null,null,"",{"$f":"IF(YEAR(L195)>1900,Einstellungen!$C$10-YEAR(L195),\"---\")","v":"---"},"0000-0000-f-19000100",1,178,"","",1,178,"","","0000","0000","f","19000100",1900,"01","00"]
["","",null,null,null,null,null,null,null,null,null,null,null,null,null,null,"",{"$f":"IF(YEAR(L196)>1900,Einstellungen!$C$10-YEAR(L196),\"---\")","v":"---"},"0000-0000-f-19000100",1,179,"","",1,179,"","","0000","0000","f","19000100",1900,"01","00"]
["","",null,null,null,null,null,null,null,null,null,null,null,null,null,null,"",{"$f":"IF(YEAR(L197)>1900,Einstellungen!$C$10-YEAR(L197),\"---\")","v":"---"},"0000-0000-f-19000100",1,180,"","",1,180,"","","0000","0000","f","19000100",1900,"01","00"]
["","",null,null,null,null,null,null,null,null,null,null,null,null,null,null,"",{"$f":"IF(YEAR(L198)>1900,Einstellungen!$C$10-YEAR(L198),\"---\")","v":"---"},"0000-0000-f-19000100",1,181,"","",1,181,"","","0000","0000","f","19000100",1900,"01","00"]
["","",null,null,null,null,null,null,null,null,null,null,null,null,null,null,"",{"$f":"IF(YEAR(L199)>1900,Einstellungen!$C$10-YEAR(L199),\"---\")","v":"---"},"0000-0000-f-19000100",1,182,"","",1,182,"","","0000","0000","f","19000100",1900,"01","00"]
["","",null,null,null,null,null,null,null,null,null,null,null,null,null,null,"",{"$f":"IF(YEAR(L200)>1900,Einstellungen!$C$10-YEAR(L200),\"---\")","v":"---"},"0000-0000-f-19000100",1,183,"","",1,183,"","","0000","0000","f","19000100",1900,"01","00"]
["","",null,null,null,null,null,null,null,null,null,null,null,null,null,null,"",{"$f":"IF(YEAR(L201)>1900,Einstellungen!$C$10-YEAR(L201),\"---\")","v":"---"},"0000-0000-f-19000100",1,184,"","",1,184,"","","0000","0000","f","19000100",1900,"01","00"]
["","",null,null,null,null,null,null,null,null,null,null,null,null,null,null,"",{"$f":"IF(YEAR(L202)>1900,Einstellungen!$C$10-YEAR(L202),\"---\")","v":"---"},"0000-0000-f-19000100",1,185,"","",1,185,"","","0000","0000","f","19000100",1900,"01","00"]
["","",null,null,null,null,null,null,null,null,null,null,null,null,null,null,"",{"$f":"IF(YEAR(L203)>1900,Einstellungen!$C$10-YEAR(L203),\"---\")","v":"---"},"0000-0000-f-19000100",1,186,"","",1,186,"","","0000","0000","f","19000100",1900,"01","00"]
["","",null,null,null,null,null,null,null,null,null,null,null,null,null,null,"",{"$f":"IF(YEAR(L204)>1900,Einstellungen!$C$10-YEAR(L204),\"---\")","v":"---"},"0000-0000-f-19000100",1,187,"","",1,187,"","","0000","0000","f","19000100",1900,"01","00"]
["","",null,null,null,null,null,null,null,null,null,null,null,null,null,null,"",{"$f":"IF(YEAR(L205)>1900,Einstellungen!$C$10-YEAR(L205),\"---\")","v":"---"},"0000-0000-f-19000100",1,188,"","",1,188,"","","0000","0000","f","19000100",1900,"01","00"]
["","",null,null,null,null,null,null,null,null,null,null,null,null,null,null,"",{"$f":"IF(YEAR(L206)>1900,Einstellungen!$C$10-YEAR(L206),\"---\")","v":"---"},"0000-0000-f-19000100",1,189,"","",1,189,"","","0000","0000","f","19000100",1900,"01","00"]
["","",null,null,null,null,null,null,null,null,null,null,null,null,null,null,"",{"$f":"IF(YEAR(L207)>1900,Einstellungen!$C$10-YEAR(L207),\"---\")","v":"---"},"0000-0000-f-19000100",1,190,"","",1,190,"","","0000","0000","f","19000100",1900,"01","00"]
["","",null,null,null,null,null,null,null,null,null,null,null,null,null,null,"",{"$f":"IF(YEAR(L208)>1900,Einstellungen!$C$10-YEAR(L208),\"---\")","v":"---"},"0000-0000-f-19000100",1,191,"","",1,191,"","","0000","0000","f","19000100",1900,"01","00"]
["","",null,null,null,null,null,null,null,null,null,null,null,null,null,null,"",{"$f":"IF(YEAR(L209)>1900,Einstellungen!$C$10-YEAR(L209),\"---\")","v":"---"},"0000-0000-f-19000100",1,192,"","",1,192,"","","0000","0000","f","19000100",1900,"01","00"]
["","",null,null,null,null,null,null,null,null,null,null,null,null,null,null,{"$f":"IF(LEN(D210)>0,IF(P210=\"x\",\"\",\"x\"),\"\")","v":""},{"$f":"IF(YEAR(L210)>1900,Einstellungen!$C$10-YEAR(L210),\"---\")","v":"---"},"0000-0000-f-19000100",1,193,"","",1,193,"","","0000","0000","f","19000100",1900,"01","00"]
["","",null,null,null,null,null,null,null,null,null,null,null,null,null,null,"",{"$f":"IF(YEAR(L211)>1900,Einstellungen!$C$10-YEAR(L211),\"---\")","v":"---"},{"$f":"AB211 & \"-\" & AC211 & \"-\" & AD211 & \"-\" & AE211","v":"0000-0000-f-19000100"},{"$f":"IF(R211<=$AE$12,1,0)","v":1},{"$f":"IF(T211=1,U210+1,U210)","v":194},{"$f":"IF((M211+N211)>0,IF(T211=1,U211,\"-\"),\"\")","v":""},{"$f":"Z211 & AA211","v":""},{"$f":"IF(LEN(C211)>0, 0, T211)","v":1},{"$f":"Y210+X211","v":194},{"$f":"IF(X211=1,IF(Y211<=$Z$12,\"Q\",\"\"),\"\")","v":""},{"$f":"IF(X211=1, IF(Y211>$Z$12, IF(Y211<=($Z$12+$AA$12),\"R\",\"\"),\"\"), \"\")","v":""},{"$f":"IF(M211<1,\"0000\", IF(M211<10,\"000\"&M211, IF(M211<100,\"00\"&M211, IF(M211<1000,\"0\"&M211,\"\"& M211))))","v":"0000"},"0000",{"$f":"IF(O211=\"a\",\"a\",\"f\")","v":"f"},{"$f":"AF211&AG211&AH211","v":"19000100"},{"$f":"YEAR(L211)","v":1900},{"$f":"IF(MONTH(L211)<10,\"0\"&MONTH(L211),MONTH(L211))","v":"01"},{"$f":"IF(DAY(L211)<10,\"0\"&DAY(L211),DAY(L211))","v":"00"}]
["","",null,null,null,null,null,null,null,null,null,null,null,null,null,null,"",{"$f":"IF(YEAR(L212)>1900,Einstellungen!$C$10-YEAR(L212),\"---\")","v":"---"},"0000-0000-f-19000100",1,195,"","",1,195,"","","0000","0000","f","19000100",1900,"01","00"]
["","",null,null,null,null,null,null,null,null,null,null,null,null,null,null,"",{"$f":"IF(YEAR(L213)>1900,Einstellungen!$C$10-YEAR(L213),\"---\")","v":"---"},"0000-0000-f-19000100",1,196,"","",1,196,"","","0000","0000","f","19000100",1900,"01","00"]
["","",null,null,null,null,null,null,null,null,null,null,null,null,null,null,"",{"$f":"IF(YEAR(L214)>1900,Einstellungen!$C$10-YEAR(L214),\"---\")","v":"---"},"0000-0000-f-19000100",1,197,"","",1,197,"","","0000","0000","f","19000100",1900,"01","00"]
["","",null,null,null,null,null,null,null,null,null,null,null,null,null,null,"",{"$f":"IF(YEAR(L215)>1900,Einstellungen!$C$10-YEAR(L215),\"---\")","v":"---"},"0000-0000-f-19000100",1,198,"","",1,198,"","","0000","0000","f","19000100",1900,"01","00"]
["","",null,null,null,null,null,null,null,null,null,null,null,null,null,null,"",{"$f":"IF(YEAR(L216)>1900,Einstellungen!$C$10-YEAR(L216),\"---\")","v":"---"},"0000-0000-f-19000100",1,199,"","",1,199,"","","0000","0000","f","19000100",1900,"01","00"]
["","",null,null,null,null,null,null,null,null,null,null,null,null,null,null,"",{"$f":"IF(YEAR(L217)>1900,Einstellungen!$C$10-YEAR(L217),\"---\")","v":"---"},"0000-0000-f-19000100",1,200,"","",1,200,"","","0000","0000","f","19000100",1900,"01","00"]
["","",null,null,null,null,null,null,null,null,null,null,null,null,null,null,"",{"$f":"IF(YEAR(L218)>1900,Einstellungen!$C$10-YEAR(L218),\"---\")","v":"---"},"0000-0000-f-19000100",1,201,"","",1,201,"","","0000","0000","f","19000100",1900,"01","00"]
["","",null,null,null,null,null,null,null,null,null,null,null,null,null,null,"",{"$f":"IF(YEAR(L219)>1900,Einstellungen!$C$10-YEAR(L219),\"---\")","v":"---"},"0000-0000-f-19000100",1,202,"","",1,202,"","","0000","0000","f","19000100",1900,"01","00"]
["","",null,null,null,null,null,null,null,null,null,null,null,null,null,null,"",{"$f":"IF(YEAR(L220)>1900,Einstellungen!$C$10-YEAR(L220),\"---\")","v":"---"},"0000-0000-f-19000100",1,203,"","",1,203,"","","0000","0000","f","19000100",1900,"01","00"]
["","",null,null,null,null,null,null,null,null,null,null,null,null,null,null,"",{"$f":"IF(YEAR(L221)>1900,Einstellungen!$C$10-YEAR(L221),\"---\")","v":"---"},"0000-0000-f-19000100",1,204,"","",1,204,"","","0000","0000","f","19000100",1900,"01","00"]
["","",null,null,null,null,null,null,null,null,null,null,null,null,null,null,"",{"$f":"IF(YEAR(L222)>1900,Einstellungen!$C$10-YEAR(L222),\"---\")","v":"---"},"0000-0000-f-19000100",1,205,"","",1,205,"","","0000","0000","f","19000100",1900,"01","00"]
["","",null,null,null,null,null,null,null,null,null,null,null,null,null,null,"",{"$f":"IF(YEAR(L223)>1900,Einstellungen!$C$10-YEAR(L223),\"---\")","v":"---"},"0000-0000-f-19000100",1,206,"","",1,206,"","","0000","0000","f","19000100",1900,"01","00"]
["","",null,null,null,null,null,null,null,null,null,null,null,null,null,null,"",{"$f":"IF(YEAR(L224)>1900,Einstellungen!$C$10-YEAR(L224),\"---\")","v":"---"},"0000-0000-f-19000100",1,207,"","",1,207,"","","0000","0000","f","19000100",1900,"01","00"]
["","",null,null,null,null,null,null,null,null,null,null,null,null,null,null,"",{"$f":"IF(YEAR(L225)>1900,Einstellungen!$C$10-YEAR(L225),\"---\")","v":"---"},"0000-0000-f-19000100",1,208,"","",1,208,"","","0000","0000","f","19000100",1900,"01","00"]
["","",null,null,null,null,null,null,null,null,null,null,null,null,null,null,"",{"$f":"IF(YEAR(L226)>1900,Einstellungen!$C$10-YEAR(L226),\"---\")","v":"---"},"0000-0000-f-19000100",1,209,"","",1,209,"","","0000","0000","f","19000100",1900,"01","00"]
["","",null,null,null,null,null,null,null,null,null,null,null,null,null,null,"",{"$f":"IF(YEAR(L227)>1900,Einstellungen!$C$10-YEAR(L227),\"---\")","v":"---"},"0000-0000-f-19000100",1,210,"","",1,210,"","","0000","0000","f","19000100",1900,"01","00"]
["","",null,null,null,null,null,null,null,null,null,null,null,null,null,null,"",{"$f":"IF(YEAR(L228)>1900,Einstellungen!$C$10-YEAR(L228),\"---\")","v":"---"},"0000-0000-f-19000100",1,211,"","",1,211,"","","0000","0000","f","19000100",1900,"01","00"]
["","",null,null,null,null,null,null,null,null,null,null,null,null,null,null,"",{"$f":"IF(YEAR(L229)>1900,Einstellungen!$C$10-YEAR(L229),\"---\")","v":"---"},"0000-0000-f-19000100",1,212,"","",1,212,"","","0000","0000","f","19000100",1900,"01","00"]
["","",null,null,null,null,null,null,null,null,null,null,null,null,null,null,"",{"$f":"IF(YEAR(L230)>1900,Einstellungen!$C$10-YEAR(L230),\"---\")","v":"---"},"0000-0000-f-19000100",1,213,"","",1,213,"","","0000","0000","f","19000100",1900,"01","00"]
["","",null,null,null,null,null,null,null,null,null,null,null,null,null,null,"",{"$f":"IF(YEAR(L231)>1900,Einstellungen!$C$10-YEAR(L231),\"---\")","v":"---"},"0000-0000-f-19000100",1,214,"","",1,214,"","","0000","0000","f","19000100",1900,"01","00"]
["","",null,null,null,null,null,null,null,null,null,null,null,null,null,null,"",{"$f":"IF(YEAR(L232)>1900,Einstellungen!$C$10-YEAR(L232),\"---\")","v":"---"},"0000-0000-f-19000100",1,215,"","",1,215,"","","0000","0000","f","19000100",1900,"01","00"]
["","",null,null,null,null,null,null,null,null,null,null,null,null,null,null,"",{"$f":"IF(YEAR(L233)>1900,Einstellungen!$C$10-YEAR(L233),\"---\")","v":"---"},"0000-0000-f-19000100",1,216,"","",1,216,"","","0000","0000","f","19000100",1900,"01","00"]
["","",null,null,null,null,null,null,null,null,null,null,null,null,null,null,"",{"$f":"IF(YEAR(L234)>1900,Einstellungen!$C$10-YEAR(L234),\"---\")","v":"---"},"0000-0000-f-19000100",1,217,"","",1,217,"","","0000","0000","f","19000100",1900,"01","00"]
["","",null,null,null,null,null,null,null,null,null,null,null,null,null,null,"",{"$f":"IF(YEAR(L235)>1900,Einstellungen!$C$10-YEAR(L235),\"---\")","v":"---"},"0000-0000-f-19000100",1,218,"","",1,218,"","","0000","0000","f","19000100",1900,"01","00"]
["","",null,null,null,null,null,null,null,null,null,null,null,null,null,null,"",{"$f":"IF(YEAR(L236)>1900,Einstellungen!$C$10-YEAR(L236),\"---\")","v":"---"},"0000-0000-f-19000100",1,219,"","",1,219,"","","0000","0000","f","19000100",1900,"01","00"]
["","",null,null,null,null,null,null,null,null,null,null,null,null,null,null,"",{"$f":"IF(YEAR(L237)>1900,Einstellungen!$C$10-YEAR(L237),\"---\")","v":"---"},"0000-0000-f-19000100",1,220,"","",1,220,"","","0000","0000","f","19000100",1900,"01","00"]
["","",null,null,null,null,null,null,null,null,null,null,null,null,null,null,"",{"$f":"IF(YEAR(L238)>1900,Einstellungen!$C$10-YEAR(L238),\"---\")","v":"---"},"0000-0000-f-19000100",1,221,"","",1,221,"","","0000","0000","f","19000100",1900,"01","00"]
["","",null,null,null,null,null,null,null,null,null,null,null,null,null,null,"",{"$f":"IF(YEAR(L239)>1900,Einstellungen!$C$10-YEAR(L239),\"---\")","v":"---"},"0000-0000-f-19000100",1,222,"","",1,222,"","","0000","0000","f","19000100",1900,"01","00"]
["","",null,null,null,null,null,null,null,null,null,null,null,null,null,null,"",{"$f":"IF(YEAR(L240)>1900,Einstellungen!$C$10-YEAR(L240),\"---\")","v":"---"},"0000-0000-f-19000100",1,223,"","",1,223,"","","0000","0000","f","19000100",1900,"01","00"]
["","",null,null,null,null,null,null,null,null,null,null,null,null,null,null,"",{"$f":"IF(YEAR(L241)>1900,Einstellungen!$C$10-YEAR(L241),\"---\")","v":"---"},"0000-0000-f-19000100",1,224,"","",1,224,"","","0000","0000","f","19000100",1900,"01","00"]
["","",null,null,null,null,null,null,null,null,null,null,null,null,null,null,"",{"$f":"IF(YEAR(L242)>1900,Einstellungen!$C$10-YEAR(L242),\"---\")","v":"---"},"0000-0000-f-19000100",1,225,"","",1,225,"","","0000","0000","f","19000100",1900,"01","00"]
["","",null,null,null,null,null,null,null,null,null,null,null,null,null,null,"",{"$f":"IF(YEAR(L243)>1900,Einstellungen!$C$10-YEAR(L243),\"---\")","v":"---"},"0000-0000-f-19000100",1,226,"","",1,226,"","","0000","0000","f","19000100",1900,"01","00"]
["","",null,null,null,null,null,null,null,null,null,null,null,null,null,null,"",{"$f":"IF(YEAR(L244)>1900,Einstellungen!$C$10-YEAR(L244),\"---\")","v":"---"},"0000-0000-f-19000100",1,227,"","",1,227,"","","0000","0000","f","19000100",1900,"01","00"]
["","",null,null,null,null,null,null,null,null,null,null,null,null,null,null,"",{"$f":"IF(YEAR(L245)>1900,Einstellungen!$C$10-YEAR(L245),\"---\")","v":"---"},"0000-0000-f-19000100",1,228,"","",1,228,"","","0000","0000","f","19000100",1900,"01","00"]
["","",null,null,null,null,null,null,null,null,null,null,null,null,null,null,"",{"$f":"IF(YEAR(L246)>1900,Einstellungen!$C$10-YEAR(L246),\"---\")","v":"---"},"0000-0000-f-19000100",1,229,"","",1,229,"","","0000","0000","f","19000100",1900,"01","00"]
["","",null,null,null,null,null,null,null,null,null,null,null,null,null,null,"",{"$f":"IF(YEAR(L247)>1900,Einstellungen!$C$10-YEAR(L247),\"---\")","v":"---"},"0000-0000-f-19000100",1,230,"","",1,230,"","","0000","0000","f","19000100",1900,"01","00"]
["","",null,null,null,null,null,null,null,null,null,null,null,null,null,null,"",{"$f":"IF(YEAR(L248)>1900,Einstellungen!$C$10-YEAR(L248),\"---\")","v":"---"},"0000-0000-f-19000100",1,231,"","",1,231,"","","0000","0000","f","19000100",1900,"01","00"]
["","",null,null,null,null,null,null,null,null,null,null,null,null,null,null,"",{"$f":"IF(YEAR(L249)>1900,Einstellungen!$C$10-YEAR(L249),\"---\")","v":"---"},"0000-0000-f-19000100",1,232,"","",1,232,"","","0000","0000","f","19000100",1900,"01","00"]
["","",null,null,null,null,null,null,null,null,null,null,null,null,null,null,"",{"$f":"IF(YEAR(L250)>1900,Einstellungen!$C$10-YEAR(L250),\"---\")","v":"---"},"0000-0000-f-19000100",1,233,"","",1,233,"","","0000","0000","f","19000100",1900,"01","00"]
["","",null,null,null,null,null,null,null,null,null,null,null,null,null,null,"",{"$f":"IF(YEAR(L251)>1900,Einstellungen!$C$10-YEAR(L251),\"---\")","v":"---"},"0000-0000-f-19000100",1,234,"","",1,234,"","","0000","0000","f","19000100",1900,"01","00"]
["","",null,null,null,null,null,null,null,null,null,null,null,null,null,null,"",{"$f":"IF(YEAR(L252)>1900,Einstellungen!$C$10-YEAR(L252),\"---\")","v":"---"},"0000-0000-f-19000100",1,235,"","",1,235,"","","0000","0000","f","19000100",1900,"01","00"]
["","",null,null,null,null,null,null,null,null,null,null,null,null,null,null,"",{"$f":"IF(YEAR(L253)>1900,Einstellungen!$C$10-YEAR(L253),\"---\")","v":"---"},"0000-0000-f-19000100",1,236,"","",1,236,"","","0000","0000","f","19000100",1900,"01","00"]
["","",null,null,null,null,null,null,null,null,null,null,null,null,null,null,"",{"$f":"IF(YEAR(L254)>1900,Einstellungen!$C$10-YEAR(L254),\"---\")","v":"---"},"0000-0000-f-19000100",1,237,"","",1,237,"","","0000","0000","f","19000100",1900,"01","00"]
["","",null,null,null,null,null,null,null,null,null,null,null,null,null,null,"",{"$f":"IF(YEAR(L255)>1900,Einstellungen!$C$10-YEAR(L255),\"---\")","v":"---"},"0000-0000-f-19000100",1,238,"","",1,238,"","","0000","0000","f","19000100",1900,"01","00"]
["","",null,null,null,null,null,null,null,null,null,null,null,null,null,null,"",{"$f":"IF(YEAR(L256)>1900,Einstellungen!$C$10-YEAR(L256),\"---\")","v":"---"},"0000-0000-f-19000100",1,239,"","",1,239,"","","0000","0000","f","19000100",1900,"01","00"]
["","",null,null,null,null,null,null,null,null,null,null,null,null,null,null,"",{"$f":"IF(YEAR(L257)>1900,Einstellungen!$C$10-YEAR(L257),\"---\")","v":"---"},"0000-0000-f-19000100",1,240,"","",1,240,"","","0000","0000","f","19000100",1900,"01","00"]
["","",null,null,null,null,null,null,null,null,null,null,null,null,null,null,"",{"$f":"IF(YEAR(L258)>1900,Einstellungen!$C$10-YEAR(L258),\"---\")","v":"---"},"0000-0000-f-19000100",1,241,"","",1,241,"","","0000","0000","f","19000100",1900,"01","00"]
["","",null,null,null,null,null,null,null,null,null,null,null,null,null,null,"",{"$f":"IF(YEAR(L259)>1900,Einstellungen!$C$10-YEAR(L259),\"---\")","v":"---"},"0000-0000-f-19000100",1,242,"","",1,242,"","","0000","0000","f","19000100",1900,"01","00"]
["","",null,null,null,null,null,null,null,null,null,null,null,null,null,null,"",{"$f":"IF(YEAR(L260)>1900,Einstellungen!$C$10-YEAR(L260),\"---\")","v":"---"},"0000-0000-f-19000100",1,243,"","",1,243,"","","0000","0000","f","19000100",1900,"01","00"]
["","",null,null,null,null,null,null,null,null,null,null,null,null,null,null,"",{"$f":"IF(YEAR(L261)>1900,Einstellungen!$C$10-YEAR(L261),\"---\")","v":"---"},"0000-0000-f-19000100",1,244,"","",1,244,"","","0000","0000","f","19000100",1900,"01","00"]
["","",null,null,null,null,null,null,null,null,null,null,null,null,null,null,"",{"$f":"IF(YEAR(L262)>1900,Einstellungen!$C$10-YEAR(L262),\"---\")","v":"---"},"0000-0000-f-19000100",1,245,"","",1,245,"","","0000","0000","f","19000100",1900,"01","00"]
["","",null,null,null,null,null,null,null,null,null,null,null,null,null,null,"",{"$f":"IF(YEAR(L263)>1900,Einstellungen!$C$10-YEAR(L263),\"---\")","v":"---"},"0000-0000-f-19000100",1,246,"","",1,246,"","","0000","0000","f","19000100",1900,"01","00"]
["","",null,null,null,null,null,null,null,null,null,null,null,null,null,null,"",{"$f":"IF(YEAR(L264)>1900,Einstellungen!$C$10-YEAR(L264),\"---\")","v":"---"},"0000-0000-f-19000100",1,247,"","",1,247,"","","0000","0000","f","19000100",1900,"01","00"]
["","",null,null,null,null,null,null,null,null,null,null,null,null,null,null,"",{"$f":"IF(YEAR(L265)>1900,Einstellungen!$C$10-YEAR(L265),\"---\")","v":"---"},"0000-0000-f-19000100",1,248,"","",1,248,"","","0000","0000","f","19000100",1900,"01","00"]
["","",null,null,null,null,null,null,null,null,null,null,null,null,null,null,"",{"$f":"IF(YEAR(L266)>1900,Einstellungen!$C$10-YEAR(L266),\"---\")","v":"---"},"0000-0000-f-19000100",1,249,"","",1,249,"","","0000","0000","f","19000100",1900,"01","00"]
["","",null,null,null,null,null,null,null,null,null,null,null,null,null,null,"",{"$f":"IF(YEAR(L267)>1900,Einstellungen!$C$10-YEAR(L267),\"---\")","v":"---"},"0000-0000-f-19000100",1,250,"","",1,250,"","","0000","0000","f","19000100",1900,"01","00"]
["","",null,null,null,null,null,null,null,null,null,null,null,null,null,null,"",{"$f":"IF(YEAR(L268)>1900,Einstellungen!$C$10-YEAR(L268),\"---\")","v":"---"},"0000-0000-f-19000100",1,251,"","",1,251,"","","0000","0000","f","19000100",1900,"01","00"]
["","",null,null,null,null,null,null,null,null,null,null,null,null,null,null,"",{"$f":"IF(YEAR(L269)>1900,Einstellungen!$C$10-YEAR(L269),\"---\")","v":"---"},"0000-0000-f-19000100",1,252,"","",1,252,"","","0000","0000","f","19000100",1900,"01","00"]
["","",null,null,null,null,null,null,null,null,null,null,null,null,null,null,"",{"$f":"IF(YEAR(L270)>1900,Einstellungen!$C$10-YEAR(L270),\"---\")","v":"---"},"0000-0000-f-19000100",1,253,"","",1,253,"","","0000","0000","f","19000100",1900,"01","00"]
["","",null,null,null,null,null,null,null,null,null,null,null,null,null,null,"",{"$f":"IF(YEAR(L271)>1900,Einstellungen!$C$10-YEAR(L271),\"---\")","v":"---"},"0000-0000-f-19000100",1,254,"","",1,254,"","","0000","0000","f","19000100",1900,"01","00"]
["","",null,null,null,null,null,null,null,null,null,null,null,null,null,null,"",{"$f":"IF(YEAR(L272)>1900,Einstellungen!$C$10-YEAR(L272),\"---\")","v":"---"},"0000-0000-f-19000100",1,255,"","",1,255,"","","0000","0000","f","19000100",1900,"01","00"]
["","",null,null,null,null,null,null,null,null,null,null,null,null,null,null,"",{"$f":"IF(YEAR(L273)>1900,Einstellungen!$C$10-YEAR(L273),\"---\")","v":"---"},"0000-0000-f-19000100",1,256,"","",1,256,"","","0000","0000","f","19000100",1900,"01","00"]
["","",null,null,null,null,null,null,null,null,null,null,null,null,null,null,{"$f":"IF(LEN(D274)>0,IF(P274=\"x\",\"\",\"x\"),\"\")","v":""},{"$f":"IF(YEAR(L274)>1900,Einstellungen!$C$10-YEAR(L274),\"---\")","v":"---"},"0000-0000-f-19000100",1,257,"","",1,257,"","","0000","0000","f","19000100",1900,"01","00"]
["","",null,null,null,null,null,null,null,null,null,null,null,null,null,null,"",{"$f":"IF(YEAR(L275)>1900,Einstellungen!$C$10-YEAR(L275),\"---\")","v":"---"},{"$f":"AB275 & \"-\" & AC275 & \"-\" & AD275 & \"-\" & AE275","v":"0000-0000-f-19000100"},{"$f":"IF(R275<=$AE$12,1,0)","v":1},{"$f":"IF(T275=1,U274+1,U274)","v":258},{"$f":"IF((M275+N275)>0,IF(T275=1,U275,\"-\"),\"\")","v":""},{"$f":"Z275 & AA275","v":""},{"$f":"IF(LEN(C275)>0, 0, T275)","v":1},{"$f":"Y274+X275","v":258},{"$f":"IF(X275=1,IF(Y275<=$Z$12,\"Q\",\"\"),\"\")","v":""},{"$f":"IF(X275=1, IF(Y275>$Z$12, IF(Y275<=($Z$12+$AA$12),\"R\",\"\"),\"\"), \"\")","v":""},{"$f":"IF(M275<1,\"0000\", IF(M275<10,\"000\"&M275, IF(M275<100,\"00\"&M275, IF(M275<1000,\"0\"&M275,\"\"& M275))))","v":"0000"},"0000",{"$f":"IF(O275=\"a\",\"a\",\"f\")","v":"f"},{"$f":"AF275&AG275&AH275","v":"19000100"},{"$f":"YEAR(L275)","v":1900},{"$f":"IF(MONTH(L275)<10,\"0\"&MONTH(L275),MONTH(L275))","v":"01"},{"$f":"IF(DAY(L275)<10,\"0\"&DAY(L275),DAY(L275))","v":"00"}]
["","",null,null,null,null,null,null,null,null,null,null,null,null,null,null,"",{"$f":"IF(YEAR(L276)>1900,Einstellungen!$C$10-YEAR(L276),\"---\")","v":"---"},"0000-0000-f-19000100",1,259,"","",1,259,"","","0000","0000","f","19000100",1900,"01","00"]
["","",null,null,null,null,null,null,null,null,null,null,null,null,null,null,"",{"$f":"IF(YEAR(L277)>1900,Einstellungen!$C$10-YEAR(L277),\"---\")","v":"---"},"0000-0000-f-19000100",1,260,"","",1,260,"","","0000","0000","f","19000100",1900,"01","00"]
["","",null,null,null,null,null,null,null,null,null,null,null,null,null,null,"",{"$f":"IF(YEAR(L278)>1900,Einstellungen!$C$10-YEAR(L278),\"---\")","v":"---"},"0000-0000-f-19000100",1,261,"","",1,261,"","","0000","0000","f","19000100",1900,"01","00"]
["","",null,null,null,null,null,null,null,null,null,null,null,null,null,null,"",{"$f":"IF(YEAR(L279)>1900,Einstellungen!$C$10-YEAR(L279),\"---\")","v":"---"},"0000-0000-f-19000100",1,262,"","",1,262,"","","0000","0000","f","19000100",1900,"01","00"]
["","",null,null,null,null,null,null,null,null,null,null,null,null,null,null,"",{"$f":"IF(YEAR(L280)>1900,Einstellungen!$C$10-YEAR(L280),\"---\")","v":"---"},"0000-0000-f-19000100",1,263,"","",1,263,"","","0000","0000","f","19000100",1900,"01","00"]
["","",null,null,null,null,null,null,null,null,null,null,null,null,null,null,"",{"$f":"IF(YEAR(L281)>1900,Einstellungen!$C$10-YEAR(L281),\"---\")","v":"---"},"0000-0000-f-19000100",1,264,"","",1,264,"","","0000","0000","f","19000100",1900,"01","00"]
["","",null,null,null,null,null,null,null,null,null,null,null,null,null,null,"",{"$f":"IF(YEAR(L282)>1900,Einstellungen!$C$10-YEAR(L282),\"---\")","v":"---"},"0000-0000-f-19000100",1,265,"","",1,265,"","","0000","0000","f","19000100",1900,"01","00"]
["","",null,null,null,null,null,null,null,null,null,null,null,null,null,null,"",{"$f":"IF(YEAR(L283)>1900,Einstellungen!$C$10-YEAR(L283),\"---\")","v":"---"},"0000-0000-f-19000100",1,266,"","",1,266,"","","0000","0000","f","19000100",1900,"01","00"]
["","",null,null,null,null,null,null,null,null,null,null,null,null,null,null,"",{"$f":"IF(YEAR(L284)>1900,Einstellungen!$C$10-YEAR(L284),\"---\")","v":"---"},"0000-0000-f-19000100",1,267,"","",1,267,"","","0000","0000","f","19000100",1900,"01","00"]
["","",null,null,null,null,null,null,null,null,null,null,null,null,null,null,"",{"$f":"IF(YEAR(L285)>1900,Einstellungen!$C$10-YEAR(L285),\"---\")","v":"---"},"0000-0000-f-19000100",1,268,"","",1,268,"","","0000","0000","f","19000100",1900,"01","00"]
["","",null,null,null,null,null,null,null,null,null,null,null,null,null,null,"",{"$f":"IF(YEAR(L286)>1900,Einstellungen!$C$10-YEAR(L286),\"---\")","v":"---"},"0000-0000-f-19000100",1,269,"","",1,269,"","","0000","0000","f","19000100",1900,"01","00"]
["","",null,null,null,null,null,null,null,null,null,null,null,null,null,null,"",{"$f":"IF(YEAR(L287)>1900,Einstellungen!$C$10-YEAR(L287),\"---\")","v":"---"},"0000-0000-f-19000100",1,270,"","",1,270,"","","0000","0000","f","19000100",1900,"01","00"]
["","",null,null,null,null,null,null,null,null,null,null,null,null,null,null,"",{"$f":"IF(YEAR(L288)>1900,Einstellungen!$C$10-YEAR(L288),\"---\")","v":"---"},"0000-0000-f-19000100",1,271,"","",1,271,"","","0000","0000","f","19000100",1900,"01","00"]
["","",null,null,null,null,null,null,null,null,null,null,null,null,null,null,"",{"$f":"IF(YEAR(L289)>1900,Einstellungen!$C$10-YEAR(L289),\"---\")","v":"---"},"0000-0000-f-19000100",1,272,"","",1,272,"","","0000","0000","f","19000100",1900,"01","00"]
["","",null,null,null,null,null,null,null,null,null,null,null,null,null,null,"",{"$f":"IF(YEAR(L290)>1900,Einstellungen!$C$10-YEAR(L290),\"---\")","v":"---"},"0000-0000-f-19000100",1,273,"","",1,273,"","","0000","0000","f","19000100",1900,"01","00"]
["","",null,null,null,null,null,null,null,null,null,null,null,null,null,null,"",{"$f":"IF(YEAR(L291)>1900,Einstellungen!$C$10-YEAR(L291),\"---\")","v":"---"},"0000-0000-f-19000100",1,274,"","",1,274,"","","0000","0000","f","19000100",1900,"01","00"]
["","",null,null,null,null,null,null,null,null,null,null,null,null,null,null,"",{"$f":"IF(YEAR(L292)>1900,Einstellungen!$C$10-YEAR(L292),\"---\")","v":"---"},"0000-0000-f-19000100",1,275,"","",1,275,"","","0000","0000","f","19000100",1900,"01","00"]
["","",null,null,null,null,null,null,null,null,null,null,null,null,null,null,"",{"$f":"IF(YEAR(L293)>1900,Einstellungen!$C$10-YEAR(L293),\"---\")","v":"---"},"0000-0000-f-19000100",1,276,"","",1,276,"","","0000","0000","f","19000100",1900,"01","00"]
["","",null,null,null,null,null,null,null,null,null,null,null,null,null,null,"",{"$f":"IF(YEAR(L294)>1900,Einstellungen!$C$10-YEAR(L294),\"---\")","v":"---"},"0000-0000-f-19000100",1,277,"","",1,277,"","","0000","0000","f","19000100",1900,"01","00"]
["","",null,null,null,null,null,null,null,null,null,null,null,null,null,null,"",{"$f":"IF(YEAR(L295)>1900,Einstellungen!$C$10-YEAR(L295),\"---\")","v":"---"},"0000-0000-f-19000100",1,278,"","",1,278,"","","0000","0000","f","19000100",1900,"01","00"]
["","",null,null,null,null,null,null,null,null,null,null,null,null,null,null,"",{"$f":"IF(YEAR(L296)>1900,Einstellungen!$C$10-YEAR(L296),\"---\")","v":"---"},"0000-0000-f-19000100",1,279,"","",1,279,"","","0000","0000","f","19000100",1900,"01","00"]
["","",null,null,null,null,null,null,null,null,null,null,null,null,null,null,"",{"$f":"IF(YEAR(L297)>1900,Einstellungen!$C$10-YEAR(L297),\"---\")","v":"---"},"0000-0000-f-19000100",1,280,"","",1,280,"","","0000","0000","f","19000100",1900,"01","00"]
["","",null,null,null,null,null,null,null,null,null,null,null,null,null,null,"",{"$f":"IF(YEAR(L298)>1900,Einstellungen!$C$10-YEAR(L298),\"---\")","v":"---"},"0000-0000-f-19000100",1,281,"","",1,281,"","","0000","0000","f","19000100",1900,"01","00"]
["","",null,null,null,null,null,null,null,null,null,null,null,null,null,null,"",{"$f":"IF(YEAR(L299)>1900,Einstellungen!$C$10-YEAR(L299),\"---\")","v":"---"},"0000-0000-f-19000100",1,282,"","",1,282,"","","0000","0000","f","19000100",1900,"01","00"]
["","",null,null,null,null,null,null,null,null,null,null,null,null,null,null,"",{"$f":"IF(YEAR(L300)>1900,Einstellungen!$C$10-YEAR(L300),\"---\")","v":"---"},"0000-0000-f-19000100",1,283,"","",1,283,"","","0000","0000","f","19000100",1900,"01","00"]
["","",null,null,null,null,null,null,null,null,null,null,null,null,null,null,"",{"$f":"IF(YEAR(L301)>1900,Einstellungen!$C$10-YEAR(L301),\"---\")","v":"---"},"0000-0000-f-19000100",1,284,"","",1,284,"","","0000","0000","f","19000100",1900,"01","00"]
["","",null,null,null,null,null,null,null,null,null,null,null,null,null,null,"",{"$f":"IF(YEAR(L302)>1900,Einstellungen!$C$10-YEAR(L302),\"---\")","v":"---"},"0000-0000-f-19000100",1,285,"","",1,285,"","","0000","0000","f","19000100",1900,"01","00"]
["","",null,null,null,null,null,null,null,null,null,null,null,null,null,null,"",{"$f":"IF(YEAR(L303)>1900,Einstellungen!$C$10-YEAR(L303),\"---\")","v":"---"},"0000-0000-f-19000100",1,286,"","",1,286,"","","0000","0000","f","19000100",1900,"01","00"]
["","",null,null,null,null,null,null,null,null,null,null,null,null,null,null,"",{"$f":"IF(YEAR(L304)>1900,Einstellungen!$C$10-YEAR(L304),\"---\")","v":"---"},"0000-0000-f-19000100",1,287,"","",1,287,"","","0000","0000","f","19000100",1900,"01","00"]
["","",null,null,null,null,null,null,null,null,null,null,null,null,null,null,"",{"$f":"IF(YEAR(L305)>1900,Einstellungen!$C$10-YEAR(L305),\"---\")","v":"---"},"0000-0000-f-19000100",1,288,"","",1,288,"","","0000","0000","f","19000100",1900,"01","00"]
["","",null,null,null,null,null,null,null,null,null,null,null,null,null,null,"",{"$f":"IF(YEAR(L306)>1900,Einstellungen!$C$10-YEAR(L306),\"---\")","v":"---"},"0000-0000-f-19000100",1,289,"","",1,289,"","","0000","0000","f","19000100",1900,"01","00"]
["","",null,null,null,null,null,null,null,null,null,null,null,null,null,null,"",{"$f":"IF(YEAR(L307)>1900,Einstellungen!$C$10-YEAR(L307),\"---\")","v":"---"},"0000-0000-f-19000100",1,290,"","",1,290,"","","0000","0000","f","19000100",1900,"01","00"]
["","",null,null,null,null,null,null,null,null,null,null,null,null,null,null,"",{"$f":"IF(YEAR(L308)>1900,Einstellungen!$C$10-YEAR(L308),\"---\")","v":"---"},"0000-0000-f-19000100",1,291,"","",1,291,"","","0000","0000","f","19000100",1900,"01","00"]
["","",null,null,null,null,null,null,null,null,null,null,null,null,null,null,"",{"$f":"IF(YEAR(L309)>1900,Einstellungen!$C$10-YEAR(L309),\"---\")","v":"---"},"0000-0000-f-19000100",1,292,"","",1,292,"","","0000","0000","f","19000100",1900,"01","00"]
["","",null,null,null,null,null,null,null,null,null,null,null,null,null,null,"",{"$f":"IF(YEAR(L310)>1900,Einstellungen!$C$10-YEAR(L310),\"---\")","v":"---"},"0000-0000-f-19000100",1,293,"","",1,293,"","","0000","0000","f","19000100",1900,"01","00"]
["","",null,null,null,null,null,null,null,null,null,null,null,null,null,null,"",{"$f":"IF(YEAR(L311)>1900,Einstellungen!$C$10-YEAR(L311),\"---\")","v":"---"},"0000-0000-f-19000100",1,294,"","",1,294,"","","0000","0000","f","19000100",1900,"01","00"]
["","",null,null,null,null,null,null,null,null,null,null,null,null,null,null,"",{"$f":"IF(YEAR(L312)>1900,Einstellungen!$C$10-YEAR(L312),\"---\")","v":"---"},"0000-0000-f-19000100",1,295,"","",1,295,"","","0000","0000","f","19000100",1900,"01","00"]
["","",null,null,null,null,null,null,null,null,null,null,null,null,null,null,"",{"$f":"IF(YEAR(L313)>1900,Einstellungen!$C$10-YEAR(L313),\"---\")","v":"---"},"0000-0000-f-19000100",1,296,"","",1,296,"","","0000","0000","f","19000100",1900,"01","00"]
["","",null,null,null,null,null,null,null,null,null,null,null,null,null,null,"",{"$f":"IF(YEAR(L314)>1900,Einstellungen!$C$10-YEAR(L314),\"---\")","v":"---"},"0000-0000-f-19000100",1,297,"","",1,297,"","","0000","0000","f","19000100",1900,"01","00"]
["","",null,null,null,null,null,null,null,null,null,null,null,null,null,null,"",{"$f":"IF(YEAR(L315)>1900,Einstellungen!$C$10-YEAR(L315),\"---\")","v":"---"},"0000-0000-f-19000100",1,298,"","",1,298,"","","0000","0000","f","19000100",1900,"01","00"]
["","",null,null,null,null,null,null,null,null,null,null,null,null,null,null,"",{"$f":"IF(YEAR(L316)>1900,Einstellungen!$C$10-YEAR(L316),\"---\")","v":"---"},"0000-0000-f-19000100",1,299,"","",1,299,"","","0000","0000","f","19000100",1900,"01","00"]
["","",null,null,null,null,null,null,null,null,null,null,null,null,null,null,"",{"$f":"IF(YEAR(L317)>1900,Einstellungen!$C$10-YEAR(L317),\"---\")","v":"---"},"0000-0000-f-19000100",1,300,"","",1,300,"","","0000","0000","f","19000100",1900,"01","00"]
["","",null,null,null,null,null,null,null,null,null,null,null,null,null,null,"",{"$f":"IF(YEAR(L318)>1900,Einstellungen!$C$10-YEAR(L318),\"---\")","v":"---"},"0000-0000-f-19000100",1,301,"","",1,301,"","","0000","0000","f","19000100",1900,"01","00"]
["","",null,null,null,null,null,null,null,null,null,null,null,null,null,null,"",{"$f":"IF(YEAR(L319)>1900,Einstellungen!$C$10-YEAR(L319),\"---\")","v":"---"},"0000-0000-f-19000100",1,302,"","",1,302,"","","0000","0000","f","19000100",1900,"01","00"]
["","",null,null,null,null,null,null,null,null,null,null,null,null,null,null,"",{"$f":"IF(YEAR(L320)>1900,Einstellungen!$C$10-YEAR(L320),\"---\")","v":"---"},"0000-0000-f-19000100",1,303,"","",1,303,"","","0000","0000","f","19000100",1900,"01","00"]
["","",null,null,null,null,null,null,null,null,null,null,null,null,null,null,"",{"$f":"IF(YEAR(L321)>1900,Einstellungen!$C$10-YEAR(L321),\"---\")","v":"---"},"0000-0000-f-19000100",1,304,"","",1,304,"","","0000","0000","f","19000100",1900,"01","00"]
["","",null,null,null,null,null,null,null,null,null,null,null,null,null,null,"",{"$f":"IF(YEAR(L322)>1900,Einstellungen!$C$10-YEAR(L322),\"---\")","v":"---"},"0000-0000-f-19000100",1,305,"","",1,305,"","","0000","0000","f","19000100",1900,"01","00"]
["","",null,null,null,null,null,null,null,null,null,null,null,null,null,null,"",{"$f":"IF(YEAR(L323)>1900,Einstellungen!$C$10-YEAR(L323),\"---\")","v":"---"},"0000-0000-f-19000100",1,306,"","",1,306,"","","0000","0000","f","19000100",1900,"01","00"]
["","",null,null,null,null,null,null,null,null,null,null,null,null,null,null,"",{"$f":"IF(YEAR(L324)>1900,Einstellungen!$C$10-YEAR(L324),\"---\")","v":"---"},"0000-0000-f-19000100",1,307,"","",1,307,"","","0000","0000","f","19000100",1900,"01","00"]
["","",null,null,null,null,null,null,null,null,null,null,null,null,null,null,"",{"$f":"IF(YEAR(L325)>1900,Einstellungen!$C$10-YEAR(L325),\"---\")","v":"---"},"0000-0000-f-19000100",1,308,"","",1,308,"","","0000","0000","f","19000100",1900,"01","00"]
["","",null,null,null,null,null,null,null,null,null,null,null,null,null,null,"",{"$f":"IF(YEAR(L326)>1900,Einstellungen!$C$10-YEAR(L326),\"---\")","v":"---"},"0000-0000-f-19000100",1,309,"","",1,309,"","","0000","0000","f","19000100",1900,"01","00"]
["","",null,null,null,null,null,null,null,null,null,null,null,null,null,null,"",{"$f":"IF(YEAR(L327)>1900,Einstellungen!$C$10-YEAR(L327),\"---\")","v":"---"},"0000-0000-f-19000100",1,310,"","",1,310,"","","0000","0000","f","19000100",1900,"01","00"]
["","",null,null,null,null,null,null,null,null,null,null,null,null,null,null,"",{"$f":"IF(YEAR(L328)>1900,Einstellungen!$C$10-YEAR(L328),\"---\")","v":"---"},"0000-0000-f-19000100",1,311,"","",1,311,"","","0000","0000","f","19000100",1900,"01","00"]
["","",null,null,null,null,null,null,null,null,null,null,null,null,null,null,"",{"$f":"IF(YEAR(L329)>1900,Einstellungen!$C$10-YEAR(L329),\"---\")","v":"---"},"0000-0000-f-19000100",1,312,"","",1,312,"","","0000","0000","f","19000100",1900,"01","00"]
["","",null,null,null,null,null,null,null,null,null,null,null,null,null,null,"",{"$f":"IF(YEAR(L330)>1900,Einstellungen!$C$10-YEAR(L330),\"---\")","v":"---"},"0000-0000-f-19000100",1,313,"","",1,313,"","","0000","0000","f","19000100",1900,"01","00"]
["","",null,null,null,null,null,null,null,null,null,null,null,null,null,null,"",{"$f":"IF(YEAR(L331)>1900,Einstellungen!$C$10-YEAR(L331),\"---\")","v":"---"},"0000-0000-f-19000100",1,314,"","",1,314,"","","0000","0000","f","19000100",1900,"01","00"]
["","",null,null,null,null,null,null,null,null,null,null,null,null,null,null,"",{"$f":"IF(YEAR(L332)>1900,Einstellungen!$C$10-YEAR(L332),\"---\")","v":"---"},"0000-0000-f-19000100",1,315,"","",1,315,"","","0000","0000","f","19000100",1900,"01","00"]
["","",null,null,null,null,null,null,null,null,null,null,null,null,null,null,"",{"$f":"IF(YEAR(L333)>1900,Einstellungen!$C$10-YEAR(L333),\"---\")","v":"---"},"0000-0000-f-19000100",1,316,"","",1,316,"","","0000","0000","f","19000100",1900,"01","00"]
["","",null,null,null,null,null,null,null,null,null,null,null,null,null,null,"",{"$f":"IF(YEAR(L334)>1900,Einstellungen!$C$10-YEAR(L334),\"---\")","v":"---"},"0000-0000-f-19000100",1,317,"","",1,317,"","","0000","0000","f","19000100",1900,"01","00"]
["","",null,null,null,null,null,null,null,null,null,null,null,null,null,null,"",{"$f":"IF(YEAR(L335)>1900,Einstellungen!$C$10-YEAR(L335),\"---\")","v":"---"},"0000-0000-f-19000100",1,318,"","",1,318,"","","0000","0000","f","19000100",1900,"01","00"]
["","",null,null,null,null,null,null,null,null,null,null,null,null,null,null,"",{"$f":"IF(YEAR(L336)>1900,Einstellungen!$C$10-YEAR(L336),\"---\")","v":"---"},"0000-0000-f-19000100",1,319,"","",1,319,"","","0000","0000","f","19000100",1900,"01","00"]
["","",null,null,null,null,null,null,null,null,null,null,null,null,null,null,"",{"$f":"IF(YEAR(L337)>1900,Einstellungen!$C$10-YEAR(L337),\"---\")","v":"---"},"0000-0000-f-19000100",1,320,"","",1,320,"","","0000","0000","f","19000100",1900,"01","00"]
["","",null,null,null,null,null,null,null,null,null,null,null,null,null,null,{"$f":"IF(LEN(D338)>0,IF(P338=\"x\",\"\",\"x\"),\"\")","v":""},{"$f":"IF(YEAR(L338)>1900,Einstellungen!$C$10-YEAR(L338),\"---\")","v":"---"},"0000-0000-f-19000100",1,321,"","",1,321,"","","0000","0000","f","19000100",1900,"01","00"]
["","",null,null,null,null,null,null,null,null,null,null,null,null,null,null,"",{"$f":"IF(YEAR(L339)>1900,Einstellungen!$C$10-YEAR(L339),\"---\")","v":"---"},{"$f":"AB339 & \"-\" & AC339 & \"-\" & AD339 & \"-\" & AE339","v":"0000-0000-f-19000100"},{"$f":"IF(R339<=$AE$12,1,0)","v":1},{"$f":"IF(T339=1,U338+1,U338)","v":322},{"$f":"IF((M339+N339)>0,IF(T339=1,U339,\"-\"),\"\")","v":""},{"$f":"Z339 & AA339","v":""},{"$f":"IF(LEN(C339)>0, 0, T339)","v":1},{"$f":"Y338+X339","v":322},{"$f":"IF(X339=1,IF(Y339<=$Z$12,\"Q\",\"\"),\"\")","v":""},{"$f":"IF(X339=1, IF(Y339>$Z$12, IF(Y339<=($Z$12+$AA$12),\"R\",\"\"),\"\"), \"\")","v":""},{"$f":"IF(M339<1,\"0000\", IF(M339<10,\"000\"&M339, IF(M339<100,\"00\"&M339, IF(M339<1000,\"0\"&M339,\"\"& M339))))","v":"0000"},"0000",{"$f":"IF(O339=\"a\",\"a\",\"f\")","v":"f"},{"$f":"AF339&AG339&AH339","v":"19000100"},{"$f":"YEAR(L339)","v":1900},{"$f":"IF(MONTH(L339)<10,\"0\"&MONTH(L339),MONTH(L339))","v":"01"},{"$f":"IF(DAY(L339)<10,\"0\"&DAY(L339),DAY(L339))","v":"00"}]
["","",null,null,null,null,null,null,null,null,null,null,null,null,null,null,"",{"$f":"IF(YEAR(L340)>1900,Einstellungen!$C$10-YEAR(L340),\"---\")","v":"---"},"0000-0000-f-19000100",1,323,"","",1,323,"","","0000","0000","f","19000100",1900,"01","00"]
["","",null,null,null,null,null,null,null,null,null,null,null,null,null,null,"",{"$f":"IF(YEAR(L341)>1900,Einstellungen!$C$10-YEAR(L341),\"---\")","v":"---"},"0000-0000-f-19000100",1,324,"","",1,324,"","","0000","0000","f","19000100",1900,"01","00"]
["","",null,null,null,null,null,null,null,null,null,null,null,null,null,null,"",{"$f":"IF(YEAR(L342)>1900,Einstellungen!$C$10-YEAR(L342),\"---\")","v":"---"},"0000-0000-f-19000100",1,325,"","",1,325,"","","0000","0000","f","19000100",1900,"01","00"]
["","",null,null,null,null,null,null,null,null,null,null,null,null,null,null,"",{"$f":"IF(YEAR(L343)>1900,Einstellungen!$C$10-YEAR(L343),\"---\")","v":"---"},"0000-0000-f-19000100",1,326,"","",1,326,"","","0000","0000","f","19000100",1900,"01","00"]
["","",null,null,null,null,null,null,null,null,null,null,null,null,null,null,"",{"$f":"IF(YEAR(L344)>1900,Einstellungen!$C$10-YEAR(L344),\"---\")","v":"---"},"0000-0000-f-19000100",1,327,"","",1,327,"","","0000","0000","f","19000100",1900,"01","00"]
["","",null,null,null,null,null,null,null,null,null,null,null,null,null,null,"",{"$f":"IF(YEAR(L345)>1900,Einstellungen!$C$10-YEAR(L345),\"---\")","v":"---"},"0000-0000-f-19000100",1,328,"","",1,328,"","","0000","0000","f","19000100",1900,"01","00"]
["","",null,null,null,null,null,null,null,null,null,null,null,null,null,null,"",{"$f":"IF(YEAR(L346)>1900,Einstellungen!$C$10-YEAR(L346),\"---\")","v":"---"},"0000-0000-f-19000100",1,329,"","",1,329,"","","0000","0000","f","19000100",1900,"01","00"]
["","",null,null,null,null,null,null,null,null,null,null,null,null,null,null,"",{"$f":"IF(YEAR(L347)>1900,Einstellungen!$C$10-YEAR(L347),\"---\")","v":"---"},"0000-0000-f-19000100",1,330,"","",1,330,"","","0000","0000","f","19000100",1900,"01","00"]
["","",null,null,null,null,null,null,null,null,null,null,null,null,null,null,"",{"$f":"IF(YEAR(L348)>1900,Einstellungen!$C$10-YEAR(L348),\"---\")","v":"---"},"0000-0000-f-19000100",1,331,"","",1,331,"","","0000","0000","f","19000100",1900,"01","00"]
["","",null,null,null,null,null,null,null,null,null,null,null,null,null,null,"",{"$f":"IF(YEAR(L349)>1900,Einstellungen!$C$10-YEAR(L349),\"---\")","v":"---"},"0000-0000-f-19000100",1,332,"","",1,332,"","","0000","0000","f","19000100",1900,"01","00"]
["","",null,null,null,null,null,null,null,null,null,null,null,null,null,null,"",{"$f":"IF(YEAR(L350)>1900,Einstellungen!$C$10-YEAR(L350),\"---\")","v":"---"},"0000-0000-f-19000100",1,333,"","",1,333,"","","0000","0000","f","19000100",1900,"01","00"]
["","",null,null,null,null,null,null,null,null,null,null,null,null,null,null,"",{"$f":"IF(YEAR(L351)>1900,Einstellungen!$C$10-YEAR(L351),\"---\")","v":"---"},"0000-0000-f-19000100",1,334,"","",1,334,"","","0000","0000","f","19000100",1900,"01","00"]
["","",null,null,null,null,null,null,null,null,null,null,null,null,null,null,"",{"$f":"IF(YEAR(L352)>1900,Einstellungen!$C$10-YEAR(L352),\"---\")","v":"---"},"0000-0000-f-19000100",1,335,"","",1,335,"","","0000","0000","f","19000100",1900,"01","00"]
["","",null,null,null,null,null,null,null,null,null,null,null,null,null,null,"",{"$f":"IF(YEAR(L353)>1900,Einstellungen!$C$10-YEAR(L353),\"---\")","v":"---"},"0000-0000-f-19000100",1,336,"","",1,336,"","","0000","0000","f","19000100",1900,"01","00"]
["","",null,null,null,null,null,null,null,null,null,null,null,null,null,null,"",{"$f":"IF(YEAR(L354)>1900,Einstellungen!$C$10-YEAR(L354),\"---\")","v":"---"},"0000-0000-f-19000100",1,337,"","",1,337,"","","0000","0000","f","19000100",1900,"01","00"]
["","",null,null,null,null,null,null,null,null,null,null,null,null,null,null,"",{"$f":"IF(YEAR(L355)>1900,Einstellungen!$C$10-YEAR(L355),\"---\")","v":"---"},"0000-0000-f-19000100",1,338,"","",1,338,"","","0000","0000","f","19000100",1900,"01","00"]
["","",null,null,null,null,null,null,null,null,null,null,null,null,null,null,"",{"$f":"IF(YEAR(L356)>1900,Einstellungen!$C$10-YEAR(L356),\"---\")","v":"---"},"0000-0000-f-19000100",1,339,"","",1,339,"","","0000","0000","f","19000100",1900,"01","00"]
["","",null,null,null,null,null,null,null,null,null,null,null,null,null,null,"",{"$f":"IF(YEAR(L357)>1900,Einstellungen!$C$10-YEAR(L357),\"---\")","v":"---"},"0000-0000-f-19000100",1,340,"","",1,340,"","","0000","0000","f","19000100",1900,"01","00"]
["","",null,null,null,null,null,null,null,null,null,null,null,null,null,null,"",{"$f":"IF(YEAR(L358)>1900,Einstellungen!$C$10-YEAR(L358),\"---\")","v":"---"},"0000-0000-f-19000100",1,341,"","",1,341,"","","0000","0000","f","19000100",1900,"01","00"]
["","",null,null,null,null,null,null,null,null,null,null,null,null,null,null,"",{"$f":"IF(YEAR(L359)>1900,Einstellungen!$C$10-YEAR(L359),\"---\")","v":"---"},"0000-0000-f-19000100",1,342,"","",1,342,"","","0000","0000","f","19000100",1900,"01","00"]
["","",null,null,null,null,null,null,null,null,null,null,null,null,null,null,"",{"$f":"IF(YEAR(L360)>1900,Einstellungen!$C$10-YEAR(L360),\"---\")","v":"---"},"0000-0000-f-19000100",1,343,"","",1,343,"","","0000","0000","f","19000100",1900,"01","00"]
["","",null,null,null,null,null,null,null,null,null,null,null,null,null,null,"",{"$f":"IF(YEAR(L361)>1900,Einstellungen!$C$10-YEAR(L361),\"---\")","v":"---"},"0000-0000-f-19000100",1,344,"","",1,344,"","","0000","0000","f","19000100",1900,"01","00"]
["","",null,null,null,null,null,null,null,null,null,null,null,null,null,null,"",{"$f":"IF(YEAR(L362)>1900,Einstellungen!$C$10-YEAR(L362),\"---\")","v":"---"},"0000-0000-f-19000100",1,345,"","",1,345,"","","0000","0000","f","19000100",1900,"01","00"]
["","",null,null,null,null,null,null,null,null,null,null,null,null,null,null,"",{"$f":"IF(YEAR(L363)>1900,Einstellungen!$C$10-YEAR(L363),\"---\")","v":"---"},"0000-0000-f-19000100",1,346,"","",1,346,"","","0000","0000","f","19000100",1900,"01","00"]
["","",null,null,null,null,null,null,null,null,null,null,null,null,null,null,"",{"$f":"IF(YEAR(L364)>1900,Einstellungen!$C$10-YEAR(L364),\"---\")","v":"---"},"0000-0000-f-19000100",1,347,"","",1,347,"","","0000","0000","f","19000100",1900,"01","00"]
["","",null,null,null,null,null,null,null,null,null,null,null,null,null,null,"",{"$f":"IF(YEAR(L365)>1900,Einstellungen!$C$10-YEAR(L365),\"---\")","v":"---"},"0000-0000-f-19000100",1,348,"","",1,348,"","","0000","0000","f","19000100",1900,"01","00"]
["","",null,null,null,null,null,null,null,null,null,null,null,null,null,null,"",{"$f":"IF(YEAR(L366)>1900,Einstellungen!$C$10-YEAR(L366),\"---\")","v":"---"},"0000-0000-f-19000100",1,349,"","",1,349,"","","0000","0000","f","19000100",1900,"01","00"]
["","",null,null,null,null,null,null,null,null,null,null,null,null,null,null,"",{"$f":"IF(YEAR(L367)>1900,Einstellungen!$C$10-YEAR(L367),\"---\")","v":"---"},"0000-0000-f-19000100",1,350,"","",1,350,"","","0000","0000","f","19000100",1900,"01","00"]
["","",null,null,null,null,null,null,null,null,null,null,null,null,null,null,"",{"$f":"IF(YEAR(L368)>1900,Einstellungen!$C$10-YEAR(L368),\"---\")","v":"---"},"0000-0000-f-19000100",1,351,"","",1,351,"","","0000","0000","f","19000100",1900,"01","00"]
["","",null,null,null,null,null,null,null,null,null,null,null,null,null,null,"",{"$f":"IF(YEAR(L369)>1900,Einstellungen!$C$10-YEAR(L369),\"---\")","v":"---"},"0000-0000-f-19000100",1,352,"","",1,352,"","","0000","0000","f","19000100",1900,"01","00"]
["","",null,null,null,null,null,null,null,null,null,null,null,null,null,null,"",{"$f":"IF(YEAR(L370)>1900,Einstellungen!$C$10-YEAR(L370),\"---\")","v":"---"},"0000-0000-f-19000100",1,353,"","",1,353,"","","0000","0000","f","19000100",1900,"01","00"]
["","",null,null,null,null,null,null,null,null,null,null,null,null,null,null,"",{"$f":"IF(YEAR(L371)>1900,Einstellungen!$C$10-YEAR(L371),\"---\")","v":"---"},"0000-0000-f-19000100",1,354,"","",1,354,"","","0000","0000","f","19000100",1900,"01","00"]
["","",null,null,null,null,null,null,null,null,null,null,null,null,null,null,"",{"$f":"IF(YEAR(L372)>1900,Einstellungen!$C$10-YEAR(L372),\"---\")","v":"---"},"0000-0000-f-19000100",1,355,"","",1,355,"","","0000","0000","f","19000100",1900,"01","00"]
["","",null,null,null,null,null,null,null,null,null,null,null,null,null,null,"",{"$f":"IF(YEAR(L373)>1900,Einstellungen!$C$10-YEAR(L373),\"---\")","v":"---"},"0000-0000-f-19000100",1,356,"","",1,356,"","","0000","0000","f","19000100",1900,"01","00"]
["","",null,null,null,null,null,null,null,null,null,null,null,null,null,null,"",{"$f":"IF(YEAR(L374)>1900,Einstellungen!$C$10-YEAR(L374),\"---\")","v":"---"},"0000-0000-f-19000100",1,357,"","",1,357,"","","0000","0000","f","19000100",1900,"01","00"]
["","",null,null,null,null,null,null,null,null,null,null,null,null,null,null,"",{"$f":"IF(YEAR(L375)>1900,Einstellungen!$C$10-YEAR(L375),\"---\")","v":"---"},"0000-0000-f-19000100",1,358,"","",1,358,"","","0000","0000","f","19000100",1900,"01","00"]
["","",null,null,null,null,null,null,null,null,null,null,null,null,null,null,"",{"$f":"IF(YEAR(L376)>1900,Einstellungen!$C$10-YEAR(L376),\"---\")","v":"---"},"0000-0000-f-19000100",1,359,"","",1,359,"","","0000","0000","f","19000100",1900,"01","00"]
["","",null,null,null,null,null,null,null,null,null,null,null,null,null,null,"",{"$f":"IF(YEAR(L377)>1900,Einstellungen!$C$10-YEAR(L377),\"---\")","v":"---"},"0000-0000-f-19000100",1,360,"","",1,360,"","","0000","0000","f","19000100",1900,"01","00"]
["","",null,null,null,null,null,null,null,null,null,null,null,null,null,null,"",{"$f":"IF(YEAR(L378)>1900,Einstellungen!$C$10-YEAR(L378),\"---\")","v":"---"},"0000-0000-f-19000100",1,361,"","",1,361,"","","0000","0000","f","19000100",1900,"01","00"]
["","",null,null,null,null,null,null,null,null,null,null,null,null,null,null,"",{"$f":"IF(YEAR(L379)>1900,Einstellungen!$C$10-YEAR(L379),\"---\")","v":"---"},"0000-0000-f-19000100",1,362,"","",1,362,"","","0000","0000","f","19000100",1900,"01","00"]
["","",null,null,null,null,null,null,null,null,null,null,null,null,null,null,"",{"$f":"IF(YEAR(L380)>1900,Einstellungen!$C$10-YEAR(L380),\"---\")","v":"---"},"0000-0000-f-19000100",1,363,"","",1,363,"","","0000","0000","f","19000100",1900,"01","00"]
["","",null,null,null,null,null,null,null,null,null,null,null,null,null,null,"",{"$f":"IF(YEAR(L381)>1900,Einstellungen!$C$10-YEAR(L381),\"---\")","v":"---"},"0000-0000-f-19000100",1,364,"","",1,364,"","","0000","0000","f","19000100",1900,"01","00"]
["","",null,null,null,null,null,null,null,null,null,null,null,null,null,null,"",{"$f":"IF(YEAR(L382)>1900,Einstellungen!$C$10-YEAR(L382),\"---\")","v":"---"},"0000-0000-f-19000100",1,365,"","",1,365,"","","0000","0000","f","19000100",1900,"01","00"]
["","",null,null,null,null,null,null,null,null,null,null,null,null,null,null,"",{"$f":"IF(YEAR(L383)>1900,Einstellungen!$C$10-YEAR(L383),\"---\")","v":"---"},"0000-0000-f-19000100",1,366,"","",1,366,"","","0000","0000","f","19000100",1900,"01","00"]
["","",null,null,null,null,null,null,null,null,null,null,null,null,null,null,"",{"$f":"IF(YEAR(L384)>1900,Einstellungen!$C$10-YEAR(L384),\"---\")","v":"---"},"0000-0000-f-19000100",1,367,"","",1,367,"","","0000","0000","f","19000100",1900,"01","00"]
["","",null,null,null,null,null,null,null,null,null,null,null,null,null,null,"",{"$f":"IF(YEAR(L385)>1900,Einstellungen!$C$10-YEAR(L385),\"---\")","v":"---"},"0000-0000-f-19000100",1,368,"","",1,368,"","","0000","0000","f","19000100",1900,"01","00"]
["","",null,null,null,null,null,null,null,null,null,null,null,null,null,null,"",{"$f":"IF(YEAR(L386)>1900,Einstellungen!$C$10-YEAR(L386),\"---\")","v":"---"},"0000-0000-f-19000100",1,369,"","",1,369,"","","0000","0000","f","19000100",1900,"01","00"]
["","",null,null,null,null,null,null,null,null,null,null,null,null,null,null,"",{"$f":"IF(YEAR(L387)>1900,Einstellungen!$C$10-YEAR(L387),\"---\")","v":"---"},"0000-0000-f-19000100",1,370,"","",1,370,"","","0000","0000","f","19000100",1900,"01","00"]
["","",null,null,null,null,null,null,null,null,null,null,null,null,null,null,"",{"$f":"IF(YEAR(L388)>1900,Einstellungen!$C$10-YEAR(L388),\"---\")","v":"---"},"0000-0000-f-19000100",1,371,"","",1,371,"","","0000","0000","f","19000100",1900,"01","00"]
["","",null,null,null,null,null,null,null,null,null,null,null,null,null,null,"",{"$f":"IF(YEAR(L389)>1900,Einstellungen!$C$10-YEAR(L389),\"---\")","v":"---"},"0000-0000-f-19000100",1,372,"","",1,372,"","","0000","0000","f","19000100",1900,"01","00"]
["","",null,null,null,null,null,null,null,null,null,null,null,null,null,null,"",{"$f":"IF(YEAR(L390)>1900,Einstellungen!$C$10-YEAR(L390),\"---\")","v":"---"},"0000-0000-f-19000100",1,373,"","",1,373,"","","0000","0000","f","19000100",1900,"01","00"]
["","",null,null,null,null,null,null,null,null,null,null,null,null,null,null,"",{"$f":"IF(YEAR(L391)>1900,Einstellungen!$C$10-YEAR(L391),\"---\")","v":"---"},"0000-0000-f-19000100",1,374,"","",1,374,"","","0000","0000","f","19000100",1900,"01","00"]
["","",null,null,null,null,null,null,null,null,null,null,null,null,null,null,"",{"$f":"IF(YEAR(L392)>1900,Einstellungen!$C$10-YEAR(L392),\"---\")","v":"---"},"0000-0000-f-19000100",1,375,"","",1,375,"","","0000","0000","f","19000100",1900,"01","00"]
["","",null,null,null,null,null,null,null,null,null,null,null,null,null,null,"",{"$f":"IF(YEAR(L393)>1900,Einstellungen!$C$10-YEAR(L393),\"---\")","v":"---"},"0000-0000-f-19000100",1,376,"","",1,376,"","","0000","0000","f","19000100",1900,"01","00"]
["","",null,null,null,null,null,null,null,null,null,null,null,null,null,null,"",{"$f":"IF(YEAR(L394)>1900,Einstellungen!$C$10-YEAR(L394),\"---\")","v":"---"},"0000-0000-f-19000100",1,377,"","",1,377,"","","0000","0000","f","19000100",1900,"01","00"]
["","",null,null,null,null,null,null,null,null,null,null,null,null,null,null,"",{"$f":"IF(YEAR(L395)>1900,Einstellungen!$C$10-YEAR(L395),\"---\")","v":"---"},"0000-0000-f-19000100",1,378,"","",1,378,"","","0000","0000","f","19000100",1900,"01","00"]
["","",null,null,null,null,null,null,null,null,null,null,null,null,null,null,"",{"$f":"IF(YEAR(L396)>1900,Einstellungen!$C$10-YEAR(L396),\"---\")","v":"---"},"0000-0000-f-19000100",1,379,"","",1,379,"","","0000","0000","f","19000100",1900,"01","00"]
["","",null,null,null,null,null,null,null,null,null,null,null,null,null,null,"",{"$f":"IF(YEAR(L397)>1900,Einstellungen!$C$10-YEAR(L397),\"---\")","v":"---"},"0000-0000-f-19000100",1,380,"","",1,380,"","","0000","0000","f","19000100",1900,"01","00"]
["","",null,null,null,null,null,null,null,null,null,null,null,null,null,null,"",{"$f":"IF(YEAR(L398)>1900,Einstellungen!$C$10-YEAR(L398),\"---\")","v":"---"},"0000-0000-f-19000100",1,381,"","",1,381,"","","0000","0000","f","19000100",1900,"01","00"]
["","",null,null,null,null,null,null,null,null,null,null,null,null,null,null,"",{"$f":"IF(YEAR(L399)>1900,Einstellungen!$C$10-YEAR(L399),\"---\")","v":"---"},"0000-0000-f-19000100",1,382,"","",1,382,"","","0000","0000","f","19000100",1900,"01","00"]
["","",null,null,null,null,null,null,null,null,null,null,null,null,null,null,"",{"$f":"IF(YEAR(L400)>1900,Einstellungen!$C$10-YEAR(L400),\"---\")","v":"---"},"0000-0000-f-19000100",1,383,"","",1,383,"","","0000","0000","f","19000100",1900,"01","00"]
["","",null,null,null,null,null,null,null,null,null,null,null,null,null,null,"",{"$f":"IF(YEAR(L401)>1900,Einstellungen!$C$10-YEAR(L401),\"---\")","v":"---"},"0000-0000-f-19000100",1,384,"","",1,384,"","","0000","0000","f","19000100",1900,"01","00"]
["","",null,null,null,null,null,null,null,null,null,null,null,null,null,null,{"$f":"IF(LEN(D402)>0,IF(P402=\"x\",\"\",\"x\"),\"\")","v":""},{"$f":"IF(YEAR(L402)>1900,Einstellungen!$C$10-YEAR(L402),\"---\")","v":"---"},"0000-0000-f-19000100",1,385,"","",1,385,"","","0000","0000","f","19000100",1900,"01","00"]
["","",null,null,null,null,null,null,null,null,null,null,null,null,null,null,"",{"$f":"IF(YEAR(L403)>1900,Einstellungen!$C$10-YEAR(L403),\"---\")","v":"---"},{"$f":"AB403 & \"-\" & AC403 & \"-\" & AD403 & \"-\" & AE403","v":"0000-0000-f-19000100"},{"$f":"IF(R403<=$AE$12,1,0)","v":1},{"$f":"IF(T403=1,U402+1,U402)","v":386},{"$f":"IF((M403+N403)>0,IF(T403=1,U403,\"-\"),\"\")","v":""},{"$f":"Z403 & AA403","v":""},{"$f":"IF(LEN(C403)>0, 0, T403)","v":1},{"$f":"Y402+X403","v":386},{"$f":"IF(X403=1,IF(Y403<=$Z$12,\"Q\",\"\"),\"\")","v":""},{"$f":"IF(X403=1, IF(Y403>$Z$12, IF(Y403<=($Z$12+$AA$12),\"R\",\"\"),\"\"), \"\")","v":""},{"$f":"IF(M403<1,\"0000\", IF(M403<10,\"000\"&M403, IF(M403<100,\"00\"&M403, IF(M403<1000,\"0\"&M403,\"\"& M403))))","v":"0000"},"0000",{"$f":"IF(O403=\"a\",\"a\",\"f\")","v":"f"},{"$f":"AF403&AG403&AH403","v":"19000100"},{"$f":"YEAR(L403)","v":1900},{"$f":"IF(MONTH(L403)<10,\"0\"&MONTH(L403),MONTH(L403))","v":"01"},{"$f":"IF(DAY(L403)<10,\"0\"&DAY(L403),DAY(L403))","v":"00"}]
["","",null,null,null,null,null,null,null,null,null,null,null,null,null,null,"",{"$f":"IF(YEAR(L404)>1900,Einstellungen!$C$10-YEAR(L404),\"---\")","v":"---"},"0000-0000-f-19000100",1,387,"","",1,387,"","","0000","0000","f","19000100",1900,"01","00"]
["","",null,null,null,null,null,null,null,null,null,null,null,null,null,null,"",{"$f":"IF(YEAR(L405)>1900,Einstellungen!$C$10-YEAR(L405),\"---\")","v":"---"},"0000-0000-f-19000100",1,388,"","",1,388,"","","0000","0000","f","19000100",1900,"01","00"]
["","",null,null,null,null,null,null,null,null,null,null,null,null,null,null,"",{"$f":"IF(YEAR(L406)>1900,Einstellungen!$C$10-YEAR(L406),\"---\")","v":"---"},"0000-0000-f-19000100",1,389,"","",1,389,"","","0000","0000","f","19000100",1900,"01","00"]
["","",null,null,null,null,null,null,null,null,null,null,null,null,null,null,"",{"$f":"IF(YEAR(L407)>1900,Einstellungen!$C$10-YEAR(L407),\"---\")","v":"---"},"0000-0000-f-19000100",1,390,"","",1,390,"","","0000","0000","f","19000100",1900,"01","00"]
["","",null,null,null,null,null,null,null,null,null,null,null,null,null,null,"",{"$f":"IF(YEAR(L408)>1900,Einstellungen!$C$10-YEAR(L408),\"---\")","v":"---"},"0000-0000-f-19000100",1,391,"","",1,391,"","","0000","0000","f","19000100",1900,"01","00"]
["","",null,null,null,null,null,null,null,null,null,null,null,null,null,null,"",{"$f":"IF(YEAR(L409)>1900,Einstellungen!$C$10-YEAR(L409),\"---\")","v":"---"},"0000-0000-f-19000100",1,392,"","",1,392,"","","0000","0000","f","19000100",1900,"01","00"]
["","",null,null,null,null,null,null,null,null,null,null,null,null,null,null,"",{"$f":"IF(YEAR(L410)>1900,Einstellungen!$C$10-YEAR(L410),\"---\")","v":"---"},"0000-0000-f-19000100",1,393,"","",1,393,"","","0000","0000","f","19000100",1900,"01","00"]
["","",null,null,null,null,null,null,null,null,null,null,null,null,null,null,"",{"$f":"IF(YEAR(L411)>1900,Einstellungen!$C$10-YEAR(L411),\"---\")","v":"---"},"0000-0000-f-19000100",1,394,"","",1,394,"","","0000","0000","f","19000100",1900,"01","00"]
["","",null,null,null,null,null,null,null,null,null,null,null,null,null,null,"",{"$f":"IF(YEAR(L412)>1900,Einstellungen!$C$10-YEAR(L412),\"---\")","v":"---"},"0000-0000-f-19000100",1,395,"","",1,395,"","","0000","0000","f","19000100",1900,"01","00"]
["","",null,null,null,null,null,null,null,null,null,null,null,null,null,null,"",{"$f":"IF(YEAR(L413)>1900,Einstellungen!$C$10-YEAR(L413),\"---\")","v":"---"},"0000-0000-f-19000100",1,396,"","",1,396,"","","0000","0000","f","19000100",1900,"01","00"]
["","",null,null,null,null,null,null,null,null,null,null,null,null,null,null,"",{"$f":"IF(YEAR(L414)>1900,Einstellungen!$C$10-YEAR(L414),\"---\")","v":"---"},"0000-0000-f-19000100",1,397,"","",1,397,"","","0000","0000","f","19000100",1900,"01","00"]
["","",null,null,null,null,null,null,null,null,null,null,null,null,null,null,"",{"$f":"IF(YEAR(L415)>1900,Einstellungen!$C$10-YEAR(L415),\"---\")","v":"---"},"0000-0000-f-19000100",1,398,"","",1,398,"","","0000","0000","f","19000100",1900,"01","00"]
["","",null,null,null,null,null,null,null,null,null,null,null,null,null,null,"",{"$f":"IF(YEAR(L416)>1900,Einstellungen!$C$10-YEAR(L416),\"---\")","v":"---"},"0000-0000-f-19000100",1,399,"","",1,399,"","","0000","0000","f","19000100",1900,"01","00"]
["","",null,null,null,null,null,null,null,null,null,null,null,null,null,null,"",{"$f":"IF(YEAR(L417)>1900,Einstellungen!$C$10-YEAR(L417),\"---\")","v":"---"},"0000-0000-f-19000100",1,400,"","",1,400,"","","0000","0000","f","19000100",1900,"01","00"]
["","",null,null,null,null,null,null,null,null,null,null,null,null,null,null,"",{"$f":"IF(YEAR(L418)>1900,Einstellungen!$C$10-YEAR(L418),\"---\")","v":"---"},"0000-0000-f-19000100",1,401,"","",1,401,"","","0000","0000","f","19000100",1900,"01","00"]
["","",null,null,null,null,null,null,null,null,null,null,null,null,null,null,"",{"$f":"IF(YEAR(L419)>1900,Einstellungen!$C$10-YEAR(L419),\"---\")","v":"---"},"0000-0000-f-19000100",1,402,"","",1,402,"","","0000","0000","f","19000100",1900,"01","00"]
["","",null,null,null,null,null,null,null,null,null,null,null,null,null,null,"",{"$f":"IF(YEAR(L420)>1900,Einstellungen!$C$10-YEAR(L420),\"---\")","v":"---"},"0000-0000-f-19000100",1,403,"","",1,403,"","","0000","0000","f","19000100",1900,"01","00"]
["","",null,null,null,null,null,null,null,null,null,null,null,null,null,null,"",{"$f":"IF(YEAR(L421)>1900,Einstellungen!$C$10-YEAR(L421),\"---\")","v":"---"},"0000-0000-f-19000100",1,404,"","",1,404,"","","0000","0000","f","19000100",1900,"01","00"]
["","",null,null,null,null,null,null,null,null,null,null,null,null,null,null,"",{"$f":"IF(YEAR(L422)>1900,Einstellungen!$C$10-YEAR(L422),\"---\")","v":"---"},"0000-0000-f-19000100",1,405,"","",1,405,"","","0000","0000","f","19000100",1900,"01","00"]
["","",null,null,null,null,null,null,null,null,null,null,null,null,null,null,"",{"$f":"IF(YEAR(L423)>1900,Einstellungen!$C$10-YEAR(L423),\"---\")","v":"---"},"0000-0000-f-19000100",1,406,"","",1,406,"","","0000","0000","f","19000100",1900,"01","00"]
["","",null,null,null,null,null,null,null,null,null,null,null,null,null,null,"",{"$f":"IF(YEAR(L424)>1900,Einstellungen!$C$10-YEAR(L424),\"---\")","v":"---"},"0000-0000-f-19000100",1,407,"","",1,407,"","","0000","0000","f","19000100",1900,"01","00"]
["","",null,null,null,null,null,null,null,null,null,null,null,null,null,null,"",{"$f":"IF(YEAR(L425)>1900,Einstellungen!$C$10-YEAR(L425),\"---\")","v":"---"},"0000-0000-f-19000100",1,408,"","",1,408,"","","0000","0000","f","19000100",1900,"01","00"]
["","",null,null,null,null,null,null,null,null,null,null,null,null,null,null,"",{"$f":"IF(YEAR(L426)>1900,Einstellungen!$C$10-YEAR(L426),\"---\")","v":"---"},"0000-0000-f-19000100",1,409,"","",1,409,"","","0000","0000","f","19000100",1900,"01","00"]
["","",null,null,null,null,null,null,null,null,null,null,null,null,null,null,"",{"$f":"IF(YEAR(L427)>1900,Einstellungen!$C$10-YEAR(L427),\"---\")","v":"---"},"0000-0000-f-19000100",1,410,"","",1,410,"","","0000","0000","f","19000100",1900,"01","00"]
["","",null,null,null,null,null,null,null,null,null,null,null,null,null,null,"",{"$f":"IF(YEAR(L428)>1900,Einstellungen!$C$10-YEAR(L428),\"---\")","v":"---"},"0000-0000-f-19000100",1,411,"","",1,411,"","","0000","0000","f","19000100",1900,"01","00"]
["","",null,null,null,null,null,null,null,null,null,null,null,null,null,null,"",{"$f":"IF(YEAR(L429)>1900,Einstellungen!$C$10-YEAR(L429),\"---\")","v":"---"},"0000-0000-f-19000100",1,412,"","",1,412,"","","0000","0000","f","19000100",1900,"01","00"]
["","",null,null,null,null,null,null,null,null,null,null,null,null,null,null,"",{"$f":"IF(YEAR(L430)>1900,Einstellungen!$C$10-YEAR(L430),\"---\")","v":"---"},"0000-0000-f-19000100",1,413,"","",1,413,"","","0000","0000","f","19000100",1900,"01","00"]
["","",null,null,null,null,null,null,null,null,null,null,null,null,null,null,"",{"$f":"IF(YEAR(L431)>1900,Einstellungen!$C$10-YEAR(L431),\"---\")","v":"---"},"0000-0000-f-19000100",1,414,"","",1,414,"","","0000","0000","f","19000100",1900,"01","00"]
["","",null,null,null,null,null,null,null,null,null,null,null,null,null,null,"",{"$f":"IF(YEAR(L432)>1900,Einstellungen!$C$10-YEAR(L432),\"---\")","v":"---"},"0000-0000-f-19000100",1,415,"","",1,415,"","","0000","0000","f","19000100",1900,"01","00"]
["","",null,null,null,null,null,null,null,null,null,null,null,null,null,null,"",{"$f":"IF(YEAR(L433)>1900,Einstellungen!$C$10-YEAR(L433),\"---\")","v":"---"},"0000-0000-f-19000100",1,416,"","",1,416,"","","0000","0000","f","19000100",1900,"01","00"]
["","",null,null,null,null,null,null,null,null,null,null,null,null,null,null,"",{"$f":"IF(YEAR(L434)>1900,Einstellungen!$C$10-YEAR(L434),\"---\")","v":"---"},"0000-0000-f-19000100",1,417,"","",1,417,"","","0000","0000","f","19000100",1900,"01","00"]
["","",null,null,null,null,null,null,null,null,null,null,null,null,null,null,"",{"$f":"IF(YEAR(L435)>1900,Einstellungen!$C$10-YEAR(L435),\"---\")","v":"---"},"0000-0000-f-19000100",1,418,"","",1,418,"","","0000","0000","f","19000100",1900,"01","00"]
["","",null,null,null,null,null,null,null,null,null,null,null,null,null,null,"",{"$f":"IF(YEAR(L436)>1900,Einstellungen!$C$10-YEAR(L436),\"---\")","v":"---"},"0000-0000-f-19000100",1,419,"","",1,419,"","","0000","0000","f","19000100",1900,"01","00"]
["","",null,null,null,null,null,null,null,null,null,null,null,null,null,null,"",{"$f":"IF(YEAR(L437)>1900,Einstellungen!$C$10-YEAR(L437),\"---\")","v":"---"},"0000-0000-f-19000100",1,420,"","",1,420,"","","0000","0000","f","19000100",1900,"01","00"]
["","",null,null,null,null,null,null,null,null,null,null,null,null,null,null,"",{"$f":"IF(YEAR(L438)>1900,Einstellungen!$C$10-YEAR(L438),\"---\")","v":"---"},"0000-0000-f-19000100",1,421,"","",1,421,"","","0000","0000","f","19000100",1900,"01","00"]
["","",null,null,null,null,null,null,null,null,null,null,null,null,null,null,"",{"$f":"IF(YEAR(L439)>1900,Einstellungen!$C$10-YEAR(L439),\"---\")","v":"---"},"0000-0000-f-19000100",1,422,"","",1,422,"","","0000","0000","f","19000100",1900,"01","00"]
["","",null,null,null,null,null,null,null,null,null,null,null,null,null,null,"",{"$f":"IF(YEAR(L440)>1900,Einstellungen!$C$10-YEAR(L440),\"---\")","v":"---"},"0000-0000-f-19000100",1,423,"","",1,423,"","","0000","0000","f","19000100",1900,"01","00"]
["","",null,null,null,null,null,null,null,null,null,null,null,null,null,null,"",{"$f":"IF(YEAR(L441)>1900,Einstellungen!$C$10-YEAR(L441),\"---\")","v":"---"},"0000-0000-f-19000100",1,424,"","",1,424,"","","0000","0000","f","19000100",1900,"01","00"]
["","",null,null,null,null,null,null,null,null,null,null,null,null,null,null,"",{"$f":"IF(YEAR(L442)>1900,Einstellungen!$C$10-YEAR(L442),\"---\")","v":"---"},"0000-0000-f-19000100",1,425,"","",1,425,"","","0000","0000","f","19000100",1900,"01","00"]
["","",null,null,null,null,null,null,null,null,null,null,null,null,null,null,"",{"$f":"IF(YEAR(L443)>1900,Einstellungen!$C$10-YEAR(L443),\"---\")","v":"---"},"0000-0000-f-19000100",1,426,"","",1,426,"","","0000","0000","f","19000100",1900,"01","00"]
["","",null,null,null,null,null,null,null,null,null,null,null,null,null,null,"",{"$f":"IF(YEAR(L444)>1900,Einstellungen!$C$10-YEAR(L444),\"---\")","v":"---"},"0000-0000-f-19000100",1,427,"","",1,427,"","","0000","0000","f","19000100",1900,"01","00"]
["","",null,null,null,null,null,null,null,null,null,null,null,null,null,null,"",{"$f":"IF(YEAR(L445)>1900,Einstellungen!$C$10-YEAR(L445),\"---\")","v":"---"},"0000-0000-f-19000100",1,428,"","",1,428,"","","0000","0000","f","19000100",1900,"01","00"]
["","",null,null,null,null,null,null,null,null,null,null,null,null,null,null,"",{"$f":"IF(YEAR(L446)>1900,Einstellungen!$C$10-YEAR(L446),\"---\")","v":"---"},"0000-0000-f-19000100",1,429,"","",1,429,"","","0000","0000","f","19000100",1900,"01","00"]
["","",null,null,null,null,null,null,null,null,null,null,null,null,null,null,"",{"$f":"IF(YEAR(L447)>1900,Einstellungen!$C$10-YEAR(L447),\"---\")","v":"---"},"0000-0000-f-19000100",1,430,"","",1,430,"","","0000","0000","f","19000100",1900,"01","00"]
["","",null,null,null,null,null,null,null,null,null,null,null,null,null,null,"",{"$f":"IF(YEAR(L448)>1900,Einstellungen!$C$10-YEAR(L448),\"---\")","v":"---"},"0000-0000-f-19000100",1,431,"","",1,431,"","","0000","0000","f","19000100",1900,"01","00"]
["","",null,null,null,null,null,null,null,null,null,null,null,null,null,null,"",{"$f":"IF(YEAR(L449)>1900,Einstellungen!$C$10-YEAR(L449),\"---\")","v":"---"},"0000-0000-f-19000100",1,432,"","",1,432,"","","0000","0000","f","19000100",1900,"01","00"]
["","",null,null,null,null,null,null,null,null,null,null,null,null,null,null,"",{"$f":"IF(YEAR(L450)>1900,Einstellungen!$C$10-YEAR(L450),\"---\")","v":"---"},"0000-0000-f-19000100",1,433,"","",1,433,"","","0000","0000","f","19000100",1900,"01","00"]
["","",null,null,null,null,null,null,null,null,null,null,null,null,null,null,"",{"$f":"IF(YEAR(L451)>1900,Einstellungen!$C$10-YEAR(L451),\"---\")","v":"---"},"0000-0000-f-19000100",1,434,"","",1,434,"","","0000","0000","f","19000100",1900,"01","00"]
["","",null,null,null,null,null,null,null,null,null,null,null,null,null,null,"",{"$f":"IF(YEAR(L452)>1900,Einstellungen!$C$10-YEAR(L452),\"---\")","v":"---"},"0000-0000-f-19000100",1,435,"","",1,435,"","","0000","0000","f","19000100",1900,"01","00"]
["","",null,null,null,null,null,null,null,null,null,null,null,null,null,null,"",{"$f":"IF(YEAR(L453)>1900,Einstellungen!$C$10-YEAR(L453),\"---\")","v":"---"},"0000-0000-f-19000100",1,436,"","",1,436,"","","0000","0000","f","19000100",1900,"01","00"]
["","",null,null,null,null,null,null,null,null,null,null,null,null,null,null,"",{"$f":"IF(YEAR(L454)>1900,Einstellungen!$C$10-YEAR(L454),\"---\")","v":"---"},"0000-0000-f-19000100",1,437,"","",1,437,"","","0000","0000","f","19000100",1900,"01","00"]
["","",null,null,null,null,null,null,null,null,null,null,null,null,null,null,"",{"$f":"IF(YEAR(L455)>1900,Einstellungen!$C$10-YEAR(L455),\"---\")","v":"---"},"0000-0000-f-19000100",1,438,"","",1,438,"","","0000","0000","f","19000100",1900,"01","00"]
["","",null,null,null,null,null,null,null,null,null,null,null,null,null,null,"",{"$f":"IF(YEAR(L456)>1900,Einstellungen!$C$10-YEAR(L456),\"---\")","v":"---"},"0000-0000-f-19000100",1,439,"","",1,439,"","","0000","0000","f","19000100",1900,"01","00"]
["","",null,null,null,null,null,null,null,null,null,null,null,null,null,null,"",{"$f":"IF(YEAR(L457)>1900,Einstellungen!$C$10-YEAR(L457),\"---\")","v":"---"},"0000-0000-f-19000100",1,440,"","",1,440,"","","0000","0000","f","19000100",1900,"01","00"]
["","",null,null,null,null,null,null,null,null,null,null,null,null,null,null,"",{"$f":"IF(YEAR(L458)>1900,Einstellungen!$C$10-YEAR(L458),\"---\")","v":"---"},"0000-0000-f-19000100",1,441,"","",1,441,"","","0000","0000","f","19000100",1900,"01","00"]
["","",null,null,null,null,null,null,null,null,null,null,null,null,null,null,"",{"$f":"IF(YEAR(L459)>1900,Einstellungen!$C$10-YEAR(L459),\"---\")","v":"---"},"0000-0000-f-19000100",1,442,"","",1,442,"","","0000","0000","f","19000100",1900,"01","00"]
["","",null,null,null,null,null,null,null,null,null,null,null,null,null,null,"",{"$f":"IF(YEAR(L460)>1900,Einstellungen!$C$10-YEAR(L460),\"---\")","v":"---"},"0000-0000-f-19000100",1,443,"","",1,443,"","","0000","0000","f","19000100",1900,"01","00"]
["","",null,null,null,null,null,null,null,null,null,null,null,null,null,null,"",{"$f":"IF(YEAR(L461)>1900,Einstellungen!$C$10-YEAR(L461),\"---\")","v":"---"},"0000-0000-f-19000100",1,444,"","",1,444,"","","0000","0000","f","19000100",1900,"01","00"]
["","",null,null,null,null,null,null,null,null,null,null,null,null,null,null,"",{"$f":"IF(YEAR(L462)>1900,Einstellungen!$C$10-YEAR(L462),\"---\")","v":"---"},"0000-0000-f-19000100",1,445,"","",1,445,"","","0000","0000","f","19000100",1900,"01","00"]
["","",null,null,null,null,null,null,null,null,null,null,null,null,null,null,"",{"$f":"IF(YEAR(L463)>1900,Einstellungen!$C$10-YEAR(L463),\"---\")","v":"---"},"0000-0000-f-19000100",1,446,"","",1,446,"","","0000","0000","f","19000100",1900,"01","00"]
["","",null,null,null,null,null,null,null,null,null,null,null,null,null,null,"",{"$f":"IF(YEAR(L464)>1900,Einstellungen!$C$10-YEAR(L464),\"---\")","v":"---"},"0000-0000-f-19000100",1,447,"","",1,447,"","","0000","0000","f","19000100",1900,"01","00"]
["","",null,null,null,null,null,null,null,null,null,null,null,null,null,null,"",{"$f":"IF(YEAR(L465)>1900,Einstellungen!$C$10-YEAR(L465),\"---\")","v":"---"},"0000-0000-f-19000100",1,448,"","",1,448,"","","0000","0000","f","19000100",1900,"01","00"]
["","",null,null,null,null,null,null,null,null,null,null,null,null,null,null,{"$f":"IF(LEN(D466)>0,IF(P466=\"x\",\"\",\"x\"),\"\")","v":""},{"$f":"IF(YEAR(L466)>1900,Einstellungen!$C$10-YEAR(L466),\"---\")","v":"---"},"0000-0000-f-19000100",1,449,"","",1,449,"","","0000","0000","f","19000100",1900,"01","00"]
["","",null,null,null,null,null,null,null,null,null,null,null,null,null,null,"",{"$f":"IF(YEAR(L467)>1900,Einstellungen!$C$10-YEAR(L467),\"---\")","v":"---"},{"$f":"AB467 & \"-\" & AC467 & \"-\" & AD467 & \"-\" & AE467","v":"0000-0000-f-19000100"},{"$f":"IF(R467<=$AE$12,1,0)","v":1},{"$f":"IF(T467=1,U466+1,U466)","v":450},{"$f":"IF((M467+N467)>0,IF(T467=1,U467,\"-\"),\"\")","v":""},{"$f":"Z467 & AA467","v":""},{"$f":"IF(LEN(C467)>0, 0, T467)","v":1},{"$f":"Y466+X467","v":450},{"$f":"IF(X467=1,IF(Y467<=$Z$12,\"Q\",\"\"),\"\")","v":""},{"$f":"IF(X467=1, IF(Y467>$Z$12, IF(Y467<=($Z$12+$AA$12),\"R\",\"\"),\"\"), \"\")","v":""},{"$f":"IF(M467<1,\"0000\", IF(M467<10,\"000\"&M467, IF(M467<100,\"00\"&M467, IF(M467<1000,\"0\"&M467,\"\"& M467))))","v":"0000"},"0000",{"$f":"IF(O467=\"a\",\"a\",\"f\")","v":"f"},{"$f":"AF467&AG467&AH467","v":"19000100"},{"$f":"YEAR(L467)","v":1900},{"$f":"IF(MONTH(L467)<10,\"0\"&MONTH(L467),MONTH(L467))","v":"01"},{"$f":"IF(DAY(L467)<10,\"0\"&DAY(L467),DAY(L467))","v":"00"}]
["","",null,null,null,null,null,null,null,null,null,null,null,null,null,null,"",{"$f":"IF(YEAR(L468)>1900,Einstellungen!$C$10-YEAR(L468),\"---\")","v":"---"},"0000-0000-f-19000100",1,451,"","",1,451,"","","0000","0000","f","19000100",1900,"01","00"]
["","",null,null,null,null,null,null,null,null,null,null,null,null,null,null,"",{"$f":"IF(YEAR(L469)>1900,Einstellungen!$C$10-YEAR(L469),\"---\")","v":"---"},"0000-0000-f-19000100",1,452,"","",1,452,"","","0000","0000","f","19000100",1900,"01","00"]
["","",null,null,null,null,null,null,null,null,null,null,null,null,null,null,"",{"$f":"IF(YEAR(L470)>1900,Einstellungen!$C$10-YEAR(L470),\"---\")","v":"---"},"0000-0000-f-19000100",1,453,"","",1,453,"","","0000","0000","f","19000100",1900,"01","00"]
["","",null,null,null,null,null,null,null,null,null,null,null,null,null,null,"",{"$f":"IF(YEAR(L471)>1900,Einstellungen!$C$10-YEAR(L471),\"---\")","v":"---"},"0000-0000-f-19000100",1,454,"","",1,454,"","","0000","0000","f","19000100",1900,"01","00"]
["","",null,null,null,null,null,null,null,null,null,null,null,null,null,null,"",{"$f":"IF(YEAR(L472)>1900,Einstellungen!$C$10-YEAR(L472),\"---\")","v":"---"},"0000-0000-f-19000100",1,455,"","",1,455,"","","0000","0000","f","19000100",1900,"01","00"]
["","",null,null,null,null,null,null,null,null,null,null,null,null,null,null,"",{"$f":"IF(YEAR(L473)>1900,Einstellungen!$C$10-YEAR(L473),\"---\")","v":"---"},"0000-0000-f-19000100",1,456,"","",1,456,"","","0000","0000","f","19000100",1900,"01","00"]
["","",null,null,null,null,null,null,null,null,null,null,null,null,null,null,"",{"$f":"IF(YEAR(L474)>1900,Einstellungen!$C$10-YEAR(L474),\"---\")","v":"---"},"0000-0000-f-19000100",1,457,"","",1,457,"","","0000","0000","f","19000100",1900,"01","00"]
["","",null,null,null,null,null,null,null,null,null,null,null,null,null,null,"",{"$f":"IF(YEAR(L475)>1900,Einstellungen!$C$10-YEAR(L475),\"---\")","v":"---"},"0000-0000-f-19000100",1,458,"","",1,458,"","","0000","0000","f","19000100",1900,"01","00"]
["","",null,null,null,null,null,null,null,null,null,null,null,null,null,null,"",{"$f":"IF(YEAR(L476)>1900,Einstellungen!$C$10-YEAR(L476),\"---\")","v":"---"},"0000-0000-f-19000100",1,459,"","",1,459,"","","0000","0000","f","19000100",1900,"01","00"]
["","",null,null,null,null,null,null,null,null,null,null,null,null,null,null,"",{"$f":"IF(YEAR(L477)>1900,Einstellungen!$C$10-YEAR(L477),\"---\")","v":"---"},"0000-0000-f-19000100",1,460,"","",1,460,"","","0000","0000","f","19000100",1900,"01","00"]
["","",null,null,null,null,null,null,null,null,null,null,null,null,null,null,"",{"$f":"IF(YEAR(L478)>1900,Einstellungen!$C$10-YEAR(L478),\"---\")","v":"---"},"0000-0000-f-19000100",1,461,"","",1,461,"","","0000","0000","f","19000100",1900,"01","00"]
["","",null,null,null,null,null,null,null,null,null,null,null,null,null,null,"",{"$f":"IF(YEAR(L479)>1900,Einstellungen!$C$10-YEAR(L479),\"---\")","v":"---"},"0000-0000-f-19000100",1,462,"","",1,462,"","","0000","0000","f","19000100",1900,"01","00"]
["","",null,null,null,null,null,null,null,null,null,null,null,null,null,null,"",{"$f":"IF(YEAR(L480)>1900,Einstellungen!$C$10-YEAR(L480),\"---\")","v":"---"},"0000-0000-f-19000100",1,463,"","",1,463,"","","0000","0000","f","19000100",1900,"01","00"]
["","",null,null,null,null,null,null,null,null,null,null,null,null,null,null,"",{"$f":"IF(YEAR(L481)>1900,Einstellungen!$C$10-YEAR(L481),\"---\")","v":"---"},"0000-0000-f-19000100",1,464,"","",1,464,"","","0000","0000","f","19000100",1900,"01","00"]
["","",null,null,null,null,null,null,null,null,null,null,null,null,null,null,"",{"$f":"IF(YEAR(L482)>1900,Einstellungen!$C$10-YEAR(L482),\"---\")","v":"---"},"0000-0000-f-19000100",1,465,"","",1,465,"","","0000","0000","f","19000100",1900,"01","00"]
["","",null,null,null,null,null,null,null,null,null,null,null,null,null,null,"",{"$f":"IF(YEAR(L483)>1900,Einstellungen!$C$10-YEAR(L483),\"---\")","v":"---"},"0000-0000-f-19000100",1,466,"","",1,466,"","","0000","0000","f","19000100",1900,"01","00"]
["","",null,null,null,null,null,null,null,null,null,null,null,null,null,null,"",{"$f":"IF(YEAR(L484)>1900,Einstellungen!$C$10-YEAR(L484),\"---\")","v":"---"},"0000-0000-f-19000100",1,467,"","",1,467,"","","0000","0000","f","19000100",1900,"01","00"]
["","",null,null,null,null,null,null,null,null,null,null,null,null,null,null,"",{"$f":"IF(YEAR(L485)>1900,Einstellungen!$C$10-YEAR(L485),\"---\")","v":"---"},"0000-0000-f-19000100",1,468,"","",1,468,"","","0000","0000","f","19000100",1900,"01","00"]
["","",null,null,null,null,null,null,null,null,null,null,null,null,null,null,"",{"$f":"IF(YEAR(L486)>1900,Einstellungen!$C$10-YEAR(L486),\"---\")","v":"---"},"0000-0000-f-19000100",1,469,"","",1,469,"","","0000","0000","f","19000100",1900,"01","00"]
["","",null,null,null,null,null,null,null,null,null,null,null,null,null,null,"",{"$f":"IF(YEAR(L487)>1900,Einstellungen!$C$10-YEAR(L487),\"---\")","v":"---"},"0000-0000-f-19000100",1,470,"","",1,470,"","","0000","0000","f","19000100",1900,"01","00"]
["","",null,null,null,null,null,null,null,null,null,null,null,null,null,null,"",{"$f":"IF(YEAR(L488)>1900,Einstellungen!$C$10-YEAR(L488),\"---\")","v":"---"},"0000-0000-f-19000100",1,471,"","",1,471,"","","0000","0000","f","19000100",1900,"01","00"]
["","",null,null,null,null,null,null,null,null,null,null,null,null,null,null,"",{"$f":"IF(YEAR(L489)>1900,Einstellungen!$C$10-YEAR(L489),\"---\")","v":"---"},"0000-0000-f-19000100",1,472,"","",1,472,"","","0000","0000","f","19000100",1900,"01","00"]
["","",null,null,null,null,null,null,null,null,null,null,null,null,null,null,"",{"$f":"IF(YEAR(L490)>1900,Einstellungen!$C$10-YEAR(L490),\"---\")","v":"---"},"0000-0000-f-19000100",1,473,"","",1,473,"","","0000","0000","f","19000100",1900,"01","00"]
["","",null,null,null,null,null,null,null,null,null,null,null,null,null,null,"",{"$f":"IF(YEAR(L491)>1900,Einstellungen!$C$10-YEAR(L491),\"---\")","v":"---"},"0000-0000-f-19000100",1,474,"","",1,474,"","","0000","0000","f","19000100",1900,"01","00"]
["","",null,null,null,null,null,null,null,null,null,null,null,null,null,null,"",{"$f":"IF(YEAR(L492)>1900,Einstellungen!$C$10-YEAR(L492),\"---\")","v":"---"},"0000-0000-f-19000100",1,475,"","",1,475,"","","0000","0000","f","19000100",1900,"01","00"]
["","",null,null,null,null,null,null,null,null,null,null,null,null,null,null,"",{"$f":"IF(YEAR(L493)>1900,Einstellungen!$C$10-YEAR(L493),\"---\")","v":"---"},"0000-0000-f-19000100",1,476,"","",1,476,"","","0000","0000","f","19000100",1900,"01","00"]
["","",null,null,null,null,null,null,null,null,null,null,null,null,null,null,"",{"$f":"IF(YEAR(L494)>1900,Einstellungen!$C$10-YEAR(L494),\"---\")","v":"---"},"0000-0000-f-19000100",1,477,"","",1,477,"","","0000","0000","f","19000100",1900,"01","00"]
["","",null,null,null,null,null,null,null,null,null,null,null,null,null,null,"",{"$f":"IF(YEAR(L495)>1900,Einstellungen!$C$10-YEAR(L495),\"---\")","v":"---"},"0000-0000-f-19000100",1,478,"","",1,478,"","","0000","0000","f","19000100",1900,"01","00"]
["","",null,null,null,null,null,null,null,null,null,null,null,null,null,null,"",{"$f":"IF(YEAR(L496)>1900,Einstellungen!$C$10-YEAR(L496),\"---\")","v":"---"},"0000-0000-f-19000100",1,479,"","",1,479,"","","0000","0000","f","19000100",1900,"01","00"]
["","",null,null,null,null,null,null,null,null,null,null,null,null,null,null,"",{"$f":"IF(YEAR(L497)>1900,Einstellungen!$C$10-YEAR(L497),\"---\")","v":"---"},"0000-0000-f-19000100",1,480,"","",1,480,"","","0000","0000","f","19000100",1900,"01","00"]
["","",null,null,null,null,null,null,null,null,null,null,null,null,null,null,"",{"$f":"IF(YEAR(L498)>1900,Einstellungen!$C$10-YEAR(L498),\"---\")","v":"---"},"0000-0000-f-19000100",1,481,"","",1,481,"","","0000","0000","f","19000100",1900,"01","00"]
["","",null,null,null,null,null,null,null,null,null,null,null,null,null,null,"",{"$f":"IF(YEAR(L499)>1900,Einstellungen!$C$10-YEAR(L499),\"---\")","v":"---"},"0000-0000-f-19000100",1,482,"","",1,482,"","","0000","0000","f","19000100",1900,"01","00"]
["","",null,null,null,null,null,null,null,null,null,null,null,null,null,null,"",{"$f":"IF(YEAR(L500)>1900,Einstellungen!$C$10-YEAR(L500),\"---\")","v":"---"},"0000-0000-f-19000100",1,483,"","",1,483,"","","0000","0000","f","19000100",1900,"01","00"]
["","",null,null,null,null,null,null,null,null,null,null,null,null,null,null,"",{"$f":"IF(YEAR(L501)>1900,Einstellungen!$C$10-YEAR(L501),\"---\")","v":"---"},"0000-0000-f-19000100",1,484,"","",1,484,"","","0000","0000","f","19000100",1900,"01","00"]
["","",null,null,null,null,null,null,null,null,null,null,null,null,null,null,"",{"$f":"IF(YEAR(L502)>1900,Einstellungen!$C$10-YEAR(L502),\"---\")","v":"---"},"0000-0000-f-19000100",1,485,"","",1,485,"","","0000","0000","f","19000100",1900,"01","00"]
["","",null,null,null,null,null,null,null,null,null,null,null,null,null,null,"",{"$f":"IF(YEAR(L503)>1900,Einstellungen!$C$10-YEAR(L503),\"---\")","v":"---"},"0000-0000-f-19000100",1,486,"","",1,486,"","","0000","0000","f","19000100",1900,"01","00"]
["","",null,null,null,null,null,null,null,null,null,null,null,null,null,null,"",{"$f":"IF(YEAR(L504)>1900,Einstellungen!$C$10-YEAR(L504),\"---\")","v":"---"},"0000-0000-f-19000100",1,487,"","",1,487,"","","0000","0000","f","19000100",1900,"01","00"]
["","",null,null,null,null,null,null,null,null,null,null,null,null,null,null,"",{"$f":"IF(YEAR(L505)>1900,Einstellungen!$C$10-YEAR(L505),\"---\")","v":"---"},"0000-0000-f-19000100",1,488,"","",1,488,"","","0000","0000","f","19000100",1900,"01","00"]
["","",null,null,null,null,null,null,null,null,null,null,null,null,null,null,"",{"$f":"IF(YEAR(L506)>1900,Einstellungen!$C$10-YEAR(L506),\"---\")","v":"---"},"0000-0000-f-19000100",1,489,"","",1,489,"","","0000","0000","f","19000100",1900,"01","00"]
["","",null,null,null,null,null,null,null,null,null,null,null,null,null,null,"",{"$f":"IF(YEAR(L507)>1900,Einstellungen!$C$10-YEAR(L507),\"---\")","v":"---"},"0000-0000-f-19000100",1,490,"","",1,490,"","","0000","0000","f","19000100",1900,"01","00"]
["","",null,null,null,null,null,null,null,null,null,null,null,null,null,null,"",{"$f":"IF(YEAR(L508)>1900,Einstellungen!$C$10-YEAR(L508),\"---\")","v":"---"},"0000-0000-f-19000100",1,491,"","",1,491,"","","0000","0000","f","19000100",1900,"01","00"]
["","",null,null,null,null,null,null,null,null,null,null,null,null,null,null,"",{"$f":"IF(YEAR(L509)>1900,Einstellungen!$C$10-YEAR(L509),\"---\")","v":"---"},"0000-0000-f-19000100",1,492,"","",1,492,"","","0000","0000","f","19000100",1900,"01","00"]
["","",null,null,null,null,null,null,null,null,null,null,null,null,null,null,"",{"$f":"IF(YEAR(L510)>1900,Einstellungen!$C$10-YEAR(L510),\"---\")","v":"---"},"0000-0000-f-19000100",1,493,"","",1,493,"","","0000","0000","f","19000100",1900,"01","00"]
["","",null,null,null,null,null,null,null,null,null,null,null,null,null,null,"",{"$f":"IF(YEAR(L511)>1900,Einstellungen!$C$10-YEAR(L511),\"---\")","v":"---"},"0000-0000-f-19000100",1,494,"","",1,494,"","","0000","0000","f","19000100",1900,"01","00"]
["","",null,null,null,null,null,null,null,null,null,null,null,null,null,null,"",{"$f":"IF(YEAR(L512)>1900,Einstellungen!$C$10-YEAR(L512),\"---\")","v":"---"},"0000-0000-f-19000100",1,495,"","",1,495,"","","0000","0000","f","19000100",1900,"01","00"]
["","",null,null,null,null,null,null,null,null,null,null,null,null,null,null,"",{"$f":"IF(YEAR(L513)>1900,Einstellungen!$C$10-YEAR(L513),\"---\")","v":"---"},"0000-0000-f-19000100",1,496,"","",1,496,"","","0000","0000","f","19000100",1900,"01","00"]
["","",null,null,null,null,null,null,null,null,null,null,null,null,null,null,"",{"$f":"IF(YEAR(L514)>1900,Einstellungen!$C$10-YEAR(L514),\"---\")","v":"---"},"0000-0000-f-19000100",1,497,"","",1,497,"","","0000","0000","f","19000100",1900,"01","00"]
["","",null,null,null,null,null,null,null,null,null,null,null,null,null,null,"",{"$f":"IF(YEAR(L515)>1900,Einstellungen!$C$10-YEAR(L515),\"---\")","v":"---"},"0000-0000-f-19000100",1,498,"","",1,498,"","","0000","0000","f","19000100",1900,"01","00"]
["","",null,null,null,null,null,null,null,null,null,null,null,null,null,null,"",{"$f":"IF(YEAR(L516)>1900,Einstellungen!$C$10-YEAR(L516),\"---\")","v":"---"},"0000-0000-f-19000100",1,499,"","",1,499,"","","0000","0000","f","19000100",1900,"01","00"]
["","",null,null,null,null,null,null,null,null,null,null,null,null,null,null,"",{"$f":"IF(YEAR(L517)>1900,Einstellungen!$C$10-YEAR(L517),\"---\")","v":"---"},"0000-0000-f-19000100",1,500,"","",1,500,"","","0000","0000","f","19000100",1900,"01","00"]
["","",null,null,null,null,null,null,null,null,null,null,null,null,null,null,"",{"$f":"IF(YEAR(L518)>1900,Einstellungen!$C$10-YEAR(L518),\"---\")","v":"---"},"0000-0000-f-19000100",1,501,"","",1,501,"","","0000","0000","f","19000100",1900,"01","00"]
["","",null,null,null,null,null,null,null,null,null,null,null,null,null,null,"",{"$f":"IF(YEAR(L519)>1900,Einstellungen!$C$10-YEAR(L519),\"---\")","v":"---"},"0000-0000-f-19000100",1,502,"","",1,502,"","","0000","0000","f","19000100",1900,"01","00"]
["","",null,null,null,null,null,null,null,null,null,null,null,null,null,null,"",{"$f":"IF(YEAR(L520)>1900,Einstellungen!$C$10-YEAR(L520),\"---\")","v":"---"},"0000-0000-f-19000100",1,503,"","",1,503,"","","0000","0000","f","19000100",1900,"01","00"]
["","",null,null,null,null,null,null,null,null,null,null,null,null,null,null,"",{"$f":"IF(YEAR(L521)>1900,Einstellungen!$C$10-YEAR(L521),\"---\")","v":"---"},"0000-0000-f-19000100",1,504,"","",1,504,"","","0000","0000","f","19000100",1900,"01","00"]
["","",null,null,null,null,null,null,null,null,null,null,null,null,null,null,"",{"$f":"IF(YEAR(L522)>1900,Einstellungen!$C$10-YEAR(L522),\"---\")","v":"---"},"0000-0000-f-19000100",1,505,"","",1,505,"","","0000","0000","f","19000100",1900,"01","00"]
["","",null,null,null,null,null,null,null,null,null,null,null,null,null,null,"",{"$f":"IF(YEAR(L523)>1900,Einstellungen!$C$10-YEAR(L523),\"---\")","v":"---"},"0000-0000-f-19000100",1,506,"","",1,506,"","","0000","0000","f","19000100",1900,"01","00"]
["","",null,null,null,null,null,null,null,null,null,null,null,null,null,null,"",{"$f":"IF(YEAR(L524)>1900,Einstellungen!$C$10-YEAR(L524),\"---\")","v":"---"},"0000-0000-f-19000100",1,507,"","",1,507,"","","0000","0000","f","19000100",1900,"01","00"]
["","",null,null,null,null,null,null,null,null,null,null,null,null,null,null,"",{"$f":"IF(YEAR(L525)>1900,Einstellungen!$C$10-YEAR(L525),\"---\")","v":"---"},"0000-0000-f-19000100",1,508,"","",1,508,"","","0000","0000","f","19000100",1900,"01","00"]
["","",null,null,null,null,null,null,null,null,null,null,null,null,null,null,"",{"$f":"IF(YEAR(L526)>1900,Einstellungen!$C$10-YEAR(L526),\"---\")","v":"---"},"0000-0000-f-19000100",1,509,"","",1,509,"","","0000","0000","f","19000100",1900,"01","00"]
["","",null,null,null,null,null,null,null,null,null,null,null,null,null,null,"",{"$f":"IF(YEAR(L527)>1900,Einstellungen!$C$10-YEAR(L527),\"---\")","v":"---"},"0000-0000-f-19000100",1,510,"","",1,510,"","","0000","0000","f","19000100",1900,"01","00"]
["","",null,null,null,null,null,null,null,null,null,null,null,null,null,null,"",{"$f":"IF(YEAR(L528)>1900,Einstellungen!$C$10-YEAR(L528),\"---\")","v":"---"},"0000-0000-f-19000100",1,511,"","",1,511,"","","0000","0000","f","19000100",1900,"01","00"]
["","",null,null,null,null,null,null,null,null,null,null,null,null,null,null,"",{"$f":"IF(YEAR(L529)>1900,Einstellungen!$C$10-YEAR(L529),\"---\")","v":"---"},"0000-0000-f-19000100",1,512,"","",1,512,"","","0000","0000","f","19000100",1900,"01","00"]
["","",null,null,null,null,null,null,null,null,null,null,null,null,null,null,{"$f":"IF(LEN(D530)>0,IF(P530=\"x\",\"\",\"x\"),\"\")","v":""},{"$f":"IF(YEAR(L530)>1900,Einstellungen!$C$10-YEAR(L530),\"---\")","v":"---"},"0000-0000-f-19000100",1,513,"","",1,513,"","","0000","0000","f","19000100",1900,"01","00"]
["","",null,null,null,null,null,null,null,null,null,null,null,null,null,null,"",{"$f":"IF(YEAR(L531)>1900,Einstellungen!$C$10-YEAR(L531),\"---\")","v":"---"},{"$f":"AB531 & \"-\" & AC531 & \"-\" & AD531 & \"-\" & AE531","v":"0000-0000-f-19000100"},{"$f":"IF(R531<=$AE$12,1,0)","v":1},{"$f":"IF(T531=1,U530+1,U530)","v":514},{"$f":"IF((M531+N531)>0,IF(T531=1,U531,\"-\"),\"\")","v":""},{"$f":"Z531 & AA531","v":""},{"$f":"IF(LEN(C531)>0, 0, T531)","v":1},{"$f":"Y530+X531","v":514},{"$f":"IF(X531=1,IF(Y531<=$Z$12,\"Q\",\"\"),\"\")","v":""},{"$f":"IF(X531=1, IF(Y531>$Z$12, IF(Y531<=($Z$12+$AA$12),\"R\",\"\"),\"\"), \"\")","v":""},{"$f":"IF(M531<1,\"0000\", IF(M531<10,\"000\"&M531, IF(M531<100,\"00\"&M531, IF(M531<1000,\"0\"&M531,\"\"& M531))))","v":"0000"},"0000",{"$f":"IF(O531=\"a\",\"a\",\"f\")","v":"f"},{"$f":"AF531&AG531&AH531","v":"19000100"},{"$f":"YEAR(L531)","v":1900},{"$f":"IF(MONTH(L531)<10,\"0\"&MONTH(L531),MONTH(L531))","v":"01"},{"$f":"IF(DAY(L531)<10,\"0\"&DAY(L531),DAY(L531))","v":"00"}]
["","",null,null,null,null,null,null,null,null,null,null,null,null,null,null,"",{"$f":"IF(YEAR(L532)>1900,Einstellungen!$C$10-YEAR(L532),\"---\")","v":"---"},"0000-0000-f-19000100",1,515,"","",1,515,"","","0000","0000","f","19000100",1900,"01","00"]
["","",null,null,null,null,null,null,null,null,null,null,null,null,null,null,"",{"$f":"IF(YEAR(L533)>1900,Einstellungen!$C$10-YEAR(L533),\"---\")","v":"---"},"0000-0000-f-19000100",1,516,"","",1,516,"","","0000","0000","f","19000100",1900,"01","00"]
["","",null,null,null,null,null,null,null,null,null,null,null,null,null,null,"",{"$f":"IF(YEAR(L534)>1900,Einstellungen!$C$10-YEAR(L534),\"---\")","v":"---"},"0000-0000-f-19000100",1,517,"","",1,517,"","","0000","0000","f","19000100",1900,"01","00"]
["","",null,null,null,null,null,null,null,null,null,null,null,null,null,null,"",{"$f":"IF(YEAR(L535)>1900,Einstellungen!$C$10-YEAR(L535),\"---\")","v":"---"},"0000-0000-f-19000100",1,518,"","",1,518,"","","0000","0000","f","19000100",1900,"01","00"]
["","",null,null,null,null,null,null,null,null,null,null,null,null,null,null,"",{"$f":"IF(YEAR(L536)>1900,Einstellungen!$C$10-YEAR(L536),\"---\")","v":"---"},"0000-0000-f-19000100",1,519,"","",1,519,"","","0000","0000","f","19000100",1900,"01","00"]
["","",null,null,null,null,null,null,null,null,null,null,null,null,null,null,"",{"$f":"IF(YEAR(L537)>1900,Einstellungen!$C$10-YEAR(L537),\"---\")","v":"---"},"0000-0000-f-19000100",1,520,"","",1,520,"","","0000","0000","f","19000100",1900,"01","00"]
["","",null,null,null,null,null,null,null,null,null,null,null,null,null,null,"",{"$f":"IF(YEAR(L538)>1900,Einstellungen!$C$10-YEAR(L538),\"---\")","v":"---"},"0000-0000-f-19000100",1,521,"","",1,521,"","","0000","0000","f","19000100",1900,"01","00"]
["","",null,null,null,null,null,null,null,null,null,null,null,null,null,null,"",{"$f":"IF(YEAR(L539)>1900,Einstellungen!$C$10-YEAR(L539),\"---\")","v":"---"},"0000-0000-f-19000100",1,522,"","",1,522,"","","0000","0000","f","19000100",1900,"01","00"]
["","",null,null,null,null,null,null,null,null,null,null,null,null,null,null,"",{"$f":"IF(YEAR(L540)>1900,Einstellungen!$C$10-YEAR(L540),\"---\")","v":"---"},"0000-0000-f-19000100",1,523,"","",1,523,"","","0000","0000","f","19000100",1900,"01","00"]
["","",null,null,null,null,null,null,null,null,null,null,null,null,null,null,"",{"$f":"IF(YEAR(L541)>1900,Einstellungen!$C$10-YEAR(L541),\"---\")","v":"---"},"0000-0000-f-19000100",1,524,"","",1,524,"","","0000","0000","f","19000100",1900,"01","00"]
["","",null,null,null,null,null,null,null,null,null,null,null,null,null,null,"",{"$f":"IF(YEAR(L542)>1900,Einstellungen!$C$10-YEAR(L542),\"---\")","v":"---"},"0000-0000-f-19000100",1,525,"","",1,525,"","","0000","0000","f","19000100",1900,"01","00"]
["","",null,null,null,null,null,null,null,null,null,null,null,null,null,null,"",{"$f":"IF(YEAR(L543)>1900,Einstellungen!$C$10-YEAR(L543),\"---\")","v":"---"},"0000-0000-f-19000100",1,526,"","",1,526,"","","0000","0000","f","19000100",1900,"01","00"]
["","",null,null,null,null,null,null,null,null,null,null,null,null,null,null,"",{"$f":"IF(YEAR(L544)>1900,Einstellungen!$C$10-YEAR(L544),\"---\")","v":"---"},"0000-0000-f-19000100",1,527,"","",1,527,"","","0000","0000","f","19000100",1900,"01","00"]
["","",null,null,null,null,null,null,null,null,null,null,null,null,null,null,"",{"$f":"IF(YEAR(L545)>1900,Einstellungen!$C$10-YEAR(L545),\"---\")","v":"---"},"0000-0000-f-19000100",1,528,"","",1,528,"","","0000","0000","f","19000100",1900,"01","00"]
["","",null,null,null,null,null,null,null,null,null,null,null,null,null,null,"",{"$f":"IF(YEAR(L546)>1900,Einstellungen!$C$10-YEAR(L546),\"---\")","v":"---"},"0000-0000-f-19000100",1,529,"","",1,529,"","","0000","0000","f","19000100",1900,"01","00"]
["","",null,null,null,null,null,null,null,null,null,null,null,null,null,null,"",{"$f":"IF(YEAR(L547)>1900,Einstellungen!$C$10-YEAR(L547),\"---\")","v":"---"},"0000-0000-f-19000100",1,530,"","",1,530,"","","0000","0000","f","19000100",1900,"01","00"]
["","",null,null,null,null,null,null,null,null,null,null,null,null,null,null,"",{"$f":"IF(YEAR(L548)>1900,Einstellungen!$C$10-YEAR(L548),\"---\")","v":"---"},"0000-0000-f-19000100",1,531,"","",1,531,"","","0000","0000","f","19000100",1900,"01","00"]
["","",null,null,null,null,null,null,null,null,null,null,null,null,null,null,"",{"$f":"IF(YEAR(L549)>1900,Einstellungen!$C$10-YEAR(L549),\"---\")","v":"---"},"0000-0000-f-19000100",1,532,"","",1,532,"","","0000","0000","f","19000100",1900,"01","00"]
["","",null,null,null,null,null,null,null,null,null,null,null,null,null,null,"",{"$f":"IF(YEAR(L550)>1900,Einstellungen!$C$10-YEAR(L550),\"---\")","v":"---"},"0000-0000-f-19000100",1,533,"","",1,533,"","","0000","0000","f","19000100",1900,"01","00"]
["","",null,null,null,null,null,null,null,null,null,null,null,null,null,null,"",{"$f":"IF(YEAR(L551)>1900,Einstellungen!$C$10-YEAR(L551),\"---\")","v":"---"},"0000-0000-f-19000100",1,534,"","",1,534,"","","0000","0000","f","19000100",1900,"01","00"]
["","",null,null,null,null,null,null,null,null,null,null,null,null,null,null,"",{"$f":"IF(YEAR(L552)>1900,Einstellungen!$C$10-YEAR(L552),\"---\")","v":"---"},"0000-0000-f-19000100",1,535,"","",1,535,"","","0000","0000","f","19000100",1900,"01","00"]
["","",null,null,null,null,null,null,null,null,null,null,null,null,null,null,"",{"$f":"IF(YEAR(L553)>1900,Einstellungen!$C$10-YEAR(L553),\"---\")","v":"---"},"0000-0000-f-19000100",1,536,"","",1,536,"","","0000","0000","f","19000100",1900,"01","00"]
["","",null,null,null,null,null,null,null,null,null,null,null,null,null,null,"",{"$f":"IF(YEAR(L554)>1900,Einstellungen!$C$10-YEAR(L554),\"---\")","v":"---"},"0000-0000-f-19000100",1,537,"","",1,537,"","","0000","0000","f","19000100",1900,"01","00"]
["","",null,null,null,null,null,null,null,null,null,null,null,null,null,null,"",{"$f":"IF(YEAR(L555)>1900,Einstellungen!$C$10-YEAR(L555),\"---\")","v":"---"},"0000-0000-f-19000100",1,538,"","",1,538,"","","0000","0000","f","19000100",1900,"01","00"]
["","",null,null,null,null,null,null,null,null,null,null,null,null,null,null,"",{"$f":"IF(YEAR(L556)>1900,Einstellungen!$C$10-YEAR(L556),\"---\")","v":"---"},"0000-0000-f-19000100",1,539,"","",1,539,"","","0000","0000","f","19000100",1900,"01","00"]
["","",null,null,null,null,null,null,null,null,null,null,null,null,null,null,"",{"$f":"IF(YEAR(L557)>1900,Einstellungen!$C$10-YEAR(L557),\"---\")","v":"---"},"0000-0000-f-19000100",1,540,"","",1,540,"","","0000","0000","f","19000100",1900,"01","00"]
["","",null,null,null,null,null,null,null,null,null,null,null,null,null,null,"",{"$f":"IF(YEAR(L558)>1900,Einstellungen!$C$10-YEAR(L558),\"---\")","v":"---"},"0000-0000-f-19000100",1,541,"","",1,541,"","","0000","0000","f","19000100",1900,"01","00"]
["","",null,null,null,null,null,null,null,null,null,null,null,null,null,null,"",{"$f":"IF(YEAR(L559)>1900,Einstellungen!$C$10-YEAR(L559),\"---\")","v":"---"},"0000-0000-f-19000100",1,542,"","",1,542,"","","0000","0000","f","19000100",1900,"01","00"]
["","",null,null,null,null,null,null,null,null,null,null,null,null,null,null,"",{"$f":"IF(YEAR(L560)>1900,Einstellungen!$C$10-YEAR(L560),\"---\")","v":"---"},"0000-0000-f-19000100",1,543,"","",1,543,"","","0000","0000","f","19000100",1900,"01","00"]
["","",null,null,null,null,null,null,null,null,null,null,null,null,null,null,"",{"$f":"IF(YEAR(L561)>1900,Einstellungen!$C$10-YEAR(L561),\"---\")","v":"---"},"0000-0000-f-19000100",1,544,"","",1,544,"","","0000","0000","f","19000100",1900,"01","00"]
["","",null,null,null,null,null,null,null,null,null,null,null,null,null,null,"",{"$f":"IF(YEAR(L562)>1900,Einstellungen!$C$10-YEAR(L562),\"---\")","v":"---"},"0000-0000-f-19000100",1,545,"","",1,545,"","","0000","0000","f","19000100",1900,"01","00"]
["","",null,null,null,null,null,null,null,null,null,null,null,null,null,null,"",{"$f":"IF(YEAR(L563)>1900,Einstellungen!$C$10-YEAR(L563),\"---\")","v":"---"},"0000-0000-f-19000100",1,546,"","",1,546,"","","0000","0000","f","19000100",1900,"01","00"]
["","",null,null,null,null,null,null,null,null,null,null,null,null,null,null,"",{"$f":"IF(YEAR(L564)>1900,Einstellungen!$C$10-YEAR(L564),\"---\")","v":"---"},"0000-0000-f-19000100",1,547,"","",1,547,"","","0000","0000","f","19000100",1900,"01","00"]
["","",null,null,null,null,null,null,null,null,null,null,null,null,null,null,"",{"$f":"IF(YEAR(L565)>1900,Einstellungen!$C$10-YEAR(L565),\"---\")","v":"---"},"0000-0000-f-19000100",1,548,"","",1,548,"","","0000","0000","f","19000100",1900,"01","00"]
["","",null,null,null,null,null,null,null,null,null,null,null,null,null,null,"",{"$f":"IF(YEAR(L566)>1900,Einstellungen!$C$10-YEAR(L566),\"---\")","v":"---"},"0000-0000-f-19000100",1,549,"","",1,549,"","","0000","0000","f","19000100",1900,"01","00"]
["","",null,null,null,null,null,null,null,null,null,null,null,null,null,null,"",{"$f":"IF(YEAR(L567)>1900,Einstellungen!$C$10-YEAR(L567),\"---\")","v":"---"},"0000-0000-f-19000100",1,550,"","",1,550,"","","0000","0000","f","19000100",1900,"01","00"]
["","",null,null,null,null,null,null,null,null,null,null,null,null,null,null,"",{"$f":"IF(YEAR(L568)>1900,Einstellungen!$C$10-YEAR(L568),\"---\")","v":"---"},"0000-0000-f-19000100",1,551,"","",1,551,"","","0000","0000","f","19000100",1900,"01","00"]
["","",null,null,null,null,null,null,null,null,null,null,null,null,null,null,"",{"$f":"IF(YEAR(L569)>1900,Einstellungen!$C$10-YEAR(L569),\"---\")","v":"---"},"0000-0000-f-19000100",1,552,"","",1,552,"","","0000","0000","f","19000100",1900,"01","00"]
["","",null,null,null,null,null,null,null,null,null,null,null,null,null,null,"",{"$f":"IF(YEAR(L570)>1900,Einstellungen!$C$10-YEAR(L570),\"---\")","v":"---"},"0000-0000-f-19000100",1,553,"","",1,553,"","","0000","0000","f","19000100",1900,"01","00"]
["","",null,null,null,null,null,null,null,null,null,null,null,null,null,null,"",{"$f":"IF(YEAR(L571)>1900,Einstellungen!$C$10-YEAR(L571),\"---\")","v":"---"},"0000-0000-f-19000100",1,554,"","",1,554,"","","0000","0000","f","19000100",1900,"01","00"]
["","",null,null,null,null,null,null,null,null,null,null,null,null,null,null,"",{"$f":"IF(YEAR(L572)>1900,Einstellungen!$C$10-YEAR(L572),\"---\")","v":"---"},"0000-0000-f-19000100",1,555,"","",1,555,"","","0000","0000","f","19000100",1900,"01","00"]
["","",null,null,null,null,null,null,null,null,null,null,null,null,null,null,"",{"$f":"IF(YEAR(L573)>1900,Einstellungen!$C$10-YEAR(L573),\"---\")","v":"---"},"0000-0000-f-19000100",1,556,"","",1,556,"","","0000","0000","f","19000100",1900,"01","00"]
["","",null,null,null,null,null,null,null,null,null,null,null,null,null,null,"",{"$f":"IF(YEAR(L574)>1900,Einstellungen!$C$10-YEAR(L574),\"---\")","v":"---"},"0000-0000-f-19000100",1,557,"","",1,557,"","","0000","0000","f","19000100",1900,"01","00"]
["","",null,null,null,null,null,null,null,null,null,null,null,null,null,null,"",{"$f":"IF(YEAR(L575)>1900,Einstellungen!$C$10-YEAR(L575),\"---\")","v":"---"},"0000-0000-f-19000100",1,558,"","",1,558,"","","0000","0000","f","19000100",1900,"01","00"]
["","",null,null,null,null,null,null,null,null,null,null,null,null,null,null,"",{"$f":"IF(YEAR(L576)>1900,Einstellungen!$C$10-YEAR(L576),\"---\")","v":"---"},"0000-0000-f-19000100",1,559,"","",1,559,"","","0000","0000","f","19000100",1900,"01","00"]
["","",null,null,null,null,null,null,null,null,null,null,null,null,null,null,"",{"$f":"IF(YEAR(L577)>1900,Einstellungen!$C$10-YEAR(L577),\"---\")","v":"---"},"0000-0000-f-19000100",1,560,"","",1,560,"","","0000","0000","f","19000100",1900,"01","00"]
["","",null,null,null,null,null,null,null,null,null,null,null,null,null,null,"",{"$f":"IF(YEAR(L578)>1900,Einstellungen!$C$10-YEAR(L578),\"---\")","v":"---"},"0000-0000-f-19000100",1,561,"","",1,561,"","","0000","0000","f","19000100",1900,"01","00"]
["","",null,null,null,null,null,null,null,null,null,null,null,null,null,null,"",{"$f":"IF(YEAR(L579)>1900,Einstellungen!$C$10-YEAR(L579),\"---\")","v":"---"},"0000-0000-f-19000100",1,562,"","",1,562,"","","0000","0000","f","19000100",1900,"01","00"]
["","",null,null,null,null,null,null,null,null,null,null,null,null,null,null,"",{"$f":"IF(YEAR(L580)>1900,Einstellungen!$C$10-YEAR(L580),\"---\")","v":"---"},"0000-0000-f-19000100",1,563,"","",1,563,"","","0000","0000","f","19000100",1900,"01","00"]
["","",null,null,null,null,null,null,null,null,null,null,null,null,null,null,"",{"$f":"IF(YEAR(L581)>1900,Einstellungen!$C$10-YEAR(L581),\"---\")","v":"---"},"0000-0000-f-19000100",1,564,"","",1,564,"","","0000","0000","f","19000100",1900,"01","00"]
["","",null,null,null,null,null,null,null,null,null,null,null,null,null,null,"",{"$f":"IF(YEAR(L582)>1900,Einstellungen!$C$10-YEAR(L582),\"---\")","v":"---"},"0000-0000-f-19000100",1,565,"","",1,565,"","","0000","0000","f","19000100",1900,"01","00"]
["","",null,null,null,null,null,null,null,null,null,null,null,null,null,null,"",{"$f":"IF(YEAR(L583)>1900,Einstellungen!$C$10-YEAR(L583),\"---\")","v":"---"},"0000-0000-f-19000100",1,566,"","",1,566,"","","0000","0000","f","19000100",1900,"01","00"]
["","",null,null,null,null,null,null,null,null,null,null,null,null,null,null,"",{"$f":"IF(YEAR(L584)>1900,Einstellungen!$C$10-YEAR(L584),\"---\")","v":"---"},"0000-0000-f-19000100",1,567,"","",1,567,"","","0000","0000","f","19000100",1900,"01","00"]
["","",null,null,null,null,null,null,null,null,null,null,null,null,null,null,"",{"$f":"IF(YEAR(L585)>1900,Einstellungen!$C$10-YEAR(L585),\"---\")","v":"---"},"0000-0000-f-19000100",1,568,"","",1,568,"","","0000","0000","f","19000100",1900,"01","00"]
["","",null,null,null,null,null,null,null,null,null,null,null,null,null,null,"",{"$f":"IF(YEAR(L586)>1900,Einstellungen!$C$10-YEAR(L586),\"---\")","v":"---"},"0000-0000-f-19000100",1,569,"","",1,569,"","","0000","0000","f","19000100",1900,"01","00"]
["","",null,null,null,null,null,null,null,null,null,null,null,null,null,null,"",{"$f":"IF(YEAR(L587)>1900,Einstellungen!$C$10-YEAR(L587),\"---\")","v":"---"},"0000-0000-f-19000100",1,570,"","",1,570,"","","0000","0000","f","19000100",1900,"01","00"]
["","",null,null,null,null,null,null,null,null,null,null,null,null,null,null,"",{"$f":"IF(YEAR(L588)>1900,Einstellungen!$C$10-YEAR(L588),\"---\")","v":"---"},"0000-0000-f-19000100",1,571,"","",1,571,"","","0000","0000","f","19000100",1900,"01","00"]
["","",null,null,null,null,null,null,null,null,null,null,null,null,null,null,"",{"$f":"IF(YEAR(L589)>1900,Einstellungen!$C$10-YEAR(L589),\"---\")","v":"---"},"0000-0000-f-19000100",1,572,"","",1,572,"","","0000","0000","f","19000100",1900,"01","00"]
["","",null,null,null,null,null,null,null,null,null,null,null,null,null,null,"",{"$f":"IF(YEAR(L590)>1900,Einstellungen!$C$10-YEAR(L590),\"---\")","v":"---"},"0000-0000-f-19000100",1,573,"","",1,573,"","","0000","0000","f","19000100",1900,"01","00"]
["","",null,null,null,null,null,null,null,null,null,null,null,null,null,null,"",{"$f":"IF(YEAR(L591)>1900,Einstellungen!$C$10-YEAR(L591),\"---\")","v":"---"},"0000-0000-f-19000100",1,574,"","",1,574,"","","0000","0000","f","19000100",1900,"01","00"]
["","",null,null,null,null,null,null,null,null,null,null,null,null,null,null,"",{"$f":"IF(YEAR(L592)>1900,Einstellungen!$C$10-YEAR(L592),\"---\")","v":"---"},"0000-0000-f-19000100",1,575,"","",1,575,"","","0000","0000","f","19000100",1900,"01","00"]
["","",null,null,null,null,null,null,null,null,null,null,null,null,null,null,"",{"$f":"IF(YEAR(L593)>1900,Einstellungen!$C$10-YEAR(L593),\"---\")","v":"---"},"0000-0000-f-19000100",1,576,"","",1,576,"","","0000","0000","f","19000100",1900,"01","00"]
["","",null,null,null,null,null,null,null,null,null,null,null,null,null,null,{"$f":"IF(LEN(D594)>0,IF(P594=\"x\",\"\",\"x\"),\"\")","v":""},{"$f":"IF(YEAR(L594)>1900,Einstellungen!$C$10-YEAR(L594),\"---\")","v":"---"},"0000-0000-f-19000100",1,577,"","",1,577,"","","0000","0000","f","19000100",1900,"01","00"]
["","",null,null,null,null,null,null,null,null,null,null,null,null,null,null,"",{"$f":"IF(YEAR(L595)>1900,Einstellungen!$C$10-YEAR(L595),\"---\")","v":"---"},{"$f":"AB595 & \"-\" & AC595 & \"-\" & AD595 & \"-\" & AE595","v":"0000-0000-f-19000100"},{"$f":"IF(R595<=$AE$12,1,0)","v":1},{"$f":"IF(T595=1,U594+1,U594)","v":578},{"$f":"IF((M595+N595)>0,IF(T595=1,U595,\"-\"),\"\")","v":""},{"$f":"Z595 & AA595","v":""},{"$f":"IF(LEN(C595)>0, 0, T595)","v":1},{"$f":"Y594+X595","v":578},{"$f":"IF(X595=1,IF(Y595<=$Z$12,\"Q\",\"\"),\"\")","v":""},{"$f":"IF(X595=1, IF(Y595>$Z$12, IF(Y595<=($Z$12+$AA$12),\"R\",\"\"),\"\"), \"\")","v":""},{"$f":"IF(M595<1,\"0000\", IF(M595<10,\"000\"&M595, IF(M595<100,\"00\"&M595, IF(M595<1000,\"0\"&M595,\"\"& M595))))","v":"0000"},"0000",{"$f":"IF(O595=\"a\",\"a\",\"f\")","v":"f"},{"$f":"AF595&AG595&AH595","v":"19000100"},{"$f":"YEAR(L595)","v":1900},{"$f":"IF(MONTH(L595)<10,\"0\"&MONTH(L595),MONTH(L595))","v":"01"},{"$f":"IF(DAY(L595)<10,\"0\"&DAY(L595),DAY(L595))","v":"00"}]
["","",null,null,null,null,null,null,null,null,null,null,null,null,null,null,"",{"$f":"IF(YEAR(L596)>1900,Einstellungen!$C$10-YEAR(L596),\"---\")","v":"---"},"0000-0000-f-19000100",1,579,"","",1,579,"","","0000","0000","f","19000100",1900,"01","00"]
["","",null,null,null,null,null,null,null,null,null,null,null,null,null,null,"",{"$f":"IF(YEAR(L597)>1900,Einstellungen!$C$10-YEAR(L597),\"---\")","v":"---"},"0000-0000-f-19000100",1,580,"","",1,580,"","","0000","0000","f","19000100",1900,"01","00"]
["","",null,null,null,null,null,null,null,null,null,null,null,null,null,null,"",{"$f":"IF(YEAR(L598)>1900,Einstellungen!$C$10-YEAR(L598),\"---\")","v":"---"},"0000-0000-f-19000100",1,581,"","",1,581,"","","0000","0000","f","19000100",1900,"01","00"]
["","",null,null,null,null,null,null,null,null,null,null,null,null,null,null,"",{"$f":"IF(YEAR(L599)>1900,Einstellungen!$C$10-YEAR(L599),\"---\")","v":"---"},"0000-0000-f-19000100",1,582,"","",1,582,"","","0000","0000","f","19000100",1900,"01","00"]
["","",null,null,null,null,null,null,null,null,null,null,null,null,null,null,"",{"$f":"IF(YEAR(L600)>1900,Einstellungen!$C$10-YEAR(L600),\"---\")","v":"---"},"0000-0000-f-19000100",1,583,"","",1,583,"","","0000","0000","f","19000100",1900,"01","00"]
["","",null,null,null,null,null,null,null,null,null,null,null,null,null,null,"",{"$f":"IF(YEAR(L601)>1900,Einstellungen!$C$10-YEAR(L601),\"---\")","v":"---"},"0000-0000-f-19000100",1,584,"","",1,584,"","","0000","0000","f","19000100",1900,"01","00"]
["","",null,null,null,null,null,null,null,null,null,null,null,null,null,null,"",{"$f":"IF(YEAR(L602)>1900,Einstellungen!$C$10-YEAR(L602),\"---\")","v":"---"},"0000-0000-f-19000100",1,585,"","",1,585,"","","0000","0000","f","19000100",1900,"01","00"]
["","",null,null,null,null,null,null,null,null,null,null,null,null,null,null,"",{"$f":"IF(YEAR(L603)>1900,Einstellungen!$C$10-YEAR(L603),\"---\")","v":"---"},"0000-0000-f-19000100",1,586,"","",1,586,"","","0000","0000","f","19000100",1900,"01","00"]
["","",null,null,null,null,null,null,null,null,null,null,null,null,null,null,"",{"$f":"IF(YEAR(L604)>1900,Einstellungen!$C$10-YEAR(L604),\"---\")","v":"---"},"0000-0000-f-19000100",1,587,"","",1,587,"","","0000","0000","f","19000100",1900,"01","00"]
["","",null,null,null,null,null,null,null,null,null,null,null,null,null,null,"",{"$f":"IF(YEAR(L605)>1900,Einstellungen!$C$10-YEAR(L605),\"---\")","v":"---"},"0000-0000-f-19000100",1,588,"","",1,588,"","","0000","0000","f","19000100",1900,"01","00"]
["","",null,null,null,null,null,null,null,null,null,null,null,null,null,null,"",{"$f":"IF(YEAR(L606)>1900,Einstellungen!$C$10-YEAR(L606),\"---\")","v":"---"},"0000-0000-f-19000100",1,589,"","",1,589,"","","0000","0000","f","19000100",1900,"01","00"]
["","",null,null,null,null,null,null,null,null,null,null,null,null,null,null,"",{"$f":"IF(YEAR(L607)>1900,Einstellungen!$C$10-YEAR(L607),\"---\")","v":"---"},"0000-0000-f-19000100",1,590,"","",1,590,"","","0000","0000","f","19000100",1900,"01","00"]
["","",null,null,null,null,null,null,null,null,null,null,null,null,null,null,"",{"$f":"IF(YEAR(L608)>1900,Einstellungen!$C$10-YEAR(L608),\"---\")","v":"---"},"0000-0000-f-19000100",1,591,"","",1,591,"","","0000","0000","f","19000100",1900,"01","00"]
["","",null,null,null,null,null,null,null,null,null,null,null,null,null,null,"",{"$f":"IF(YEAR(L609)>1900,Einstellungen!$C$10-YEAR(L609),\"---\")","v":"---"},"0000-0000-f-19000100",1,592,"","",1,592,"","","0000","0000","f","19000100",1900,"01","00"]
["","",null,null,null,null,null,null,null,null,null,null,null,null,null,null,"",{"$f":"IF(YEAR(L610)>1900,Einstellungen!$C$10-YEAR(L610),\"---\")","v":"---"},"0000-0000-f-19000100",1,593,"","",1,593,"","","0000","0000","f","19000100",1900,"01","00"]
["","",null,null,null,null,null,null,null,null,null,null,null,null,null,null,"",{"$f":"IF(YEAR(L611)>1900,Einstellungen!$C$10-YEAR(L611),\"---\")","v":"---"},"0000-0000-f-19000100",1,594,"","",1,594,"","","0000","0000","f","19000100",1900,"01","00"]
["","",null,null,null,null,null,null,null,null,null,null,null,null,null,null,"",{"$f":"IF(YEAR(L612)>1900,Einstellungen!$C$10-YEAR(L612),\"---\")","v":"---"},"0000-0000-f-19000100",1,595,"","",1,595,"","","0000","0000","f","19000100",1900,"01","00"]
["","",null,null,null,null,null,null,null,null,null,null,null,null,null,null,"",{"$f":"IF(YEAR(L613)>1900,Einstellungen!$C$10-YEAR(L613),\"---\")","v":"---"},"0000-0000-f-19000100",1,596,"","",1,596,"","","0000","0000","f","19000100",1900,"01","00"]
["","",null,null,null,null,null,null,null,null,null,null,null,null,null,null,"",{"$f":"IF(YEAR(L614)>1900,Einstellungen!$C$10-YEAR(L614),\"---\")","v":"---"},"0000-0000-f-19000100",1,597,"","",1,597,"","","0000","0000","f","19000100",1900,"01","00"]
["","",null,null,null,null,null,null,null,null,null,null,null,null,null,null,"",{"$f":"IF(YEAR(L615)>1900,Einstellungen!$C$10-YEAR(L615),\"---\")","v":"---"},"0000-0000-f-19000100",1,598,"","",1,598,"","","0000","0000","f","19000100",1900,"01","00"]
["","",null,null,null,null,null,null,null,null,null,null,null,null,null,null,"",{"$f":"IF(YEAR(L616)>1900,Einstellungen!$C$10-YEAR(L616),\"---\")","v":"---"},"0000-0000-f-19000100",1,599,"","",1,599,"","","0000","0000","f","19000100",1900,"01","00"]
["","",null,null,null,null,null,null,null,null,null,null,null,null,null,null,"",{"$f":"IF(YEAR(L617)>1900,Einstellungen!$C$10-YEAR(L617),\"---\")","v":"---"},"0000-0000-f-19000100",1,600,"","",1,600,"","","0000","0000","f","19000100",1900,"01","00"]
["","",null,null,null,null,null,null,null,null,null,null,null,null,null,null,"",{"$f":"IF(YEAR(L618)>1900,Einstellungen!$C$10-YEAR(L618),\"---\")","v":"---"},"0000-0000-f-19000100",1,601,"","",1,601,"","","0000","0000","f","19000100",1900,"01","00"]
["","",null,null,null,null,null,null,null,null,null,null,null,null,null,null,"",{"$f":"IF(YEAR(L619)>1900,Einstellungen!$C$10-YEAR(L619),\"---\")","v":"---"},"0000-0000-f-19000100",1,602,"","",1,602,"","","0000","0000","f","19000100",1900,"01","00"]
["","",null,null,null,null,null,null,null,null,null,null,null,null,null,null,"",{"$f":"IF(YEAR(L620)>1900,Einstellungen!$C$10-YEAR(L620),\"---\")","v":"---"},"0000-0000-f-19000100",1,603,"","",1,603,"","","0000","0000","f","19000100",1900,"01","00"]
["","",null,null,null,null,null,null,null,null,null,null,null,null,null,null,"",{"$f":"IF(YEAR(L621)>1900,Einstellungen!$C$10-YEAR(L621),\"---\")","v":"---"},"0000-0000-f-19000100",1,604,"","",1,604,"","","0000","0000","f","19000100",1900,"01","00"]
["","",null,null,null,null,null,null,null,null,null,null,null,null,null,null,"",{"$f":"IF(YEAR(L622)>1900,Einstellungen!$C$10-YEAR(L622),\"---\")","v":"---"},"0000-0000-f-19000100",1,605,"","",1,605,"","","0000","0000","f","19000100",1900,"01","00"]
["","",null,null,null,null,null,null,null,null,null,null,null,null,null,null,"",{"$f":"IF(YEAR(L623)>1900,Einstellungen!$C$10-YEAR(L623),\"---\")","v":"---"},"0000-0000-f-19000100",1,606,"","",1,606,"","","0000","0000","f","19000100",1900,"01","00"]
["","",null,null,null,null,null,null,null,null,null,null,null,null,null,null,"",{"$f":"IF(YEAR(L624)>1900,Einstellungen!$C$10-YEAR(L624),\"---\")","v":"---"},"0000-0000-f-19000100",1,607,"","",1,607,"","","0000","0000","f","19000100",1900,"01","00"]
["","",null,null,null,null,null,null,null,null,null,null,null,null,null,null,"",{"$f":"IF(YEAR(L625)>1900,Einstellungen!$C$10-YEAR(L625),\"---\")","v":"---"},"0000-0000-f-19000100",1,608,"","",1,608,"","","0000","0000","f","19000100",1900,"01","00"]
["","",null,null,null,null,null,null,null,null,null,null,null,null,null,null,"",{"$f":"IF(YEAR(L626)>1900,Einstellungen!$C$10-YEAR(L626),\"---\")","v":"---"},"0000-0000-f-19000100",1,609,"","",1,609,"","","0000","0000","f","19000100",1900,"01","00"]
["","",null,null,null,null,null,null,null,null,null,null,null,null,null,null,"",{"$f":"IF(YEAR(L627)>1900,Einstellungen!$C$10-YEAR(L627),\"---\")","v":"---"},"0000-0000-f-19000100",1,610,"","",1,610,"","","0000","0000","f","19000100",1900,"01","00"]
["","",null,null,null,null,null,null,null,null,null,null,null,null,null,null,"",{"$f":"IF(YEAR(L628)>1900,Einstellungen!$C$10-YEAR(L628),\"---\")","v":"---"},"0000-0000-f-19000100",1,611,"","",1,611,"","","0000","0000","f","19000100",1900,"01","00"]
["","",null,null,null,null,null,null,null,null,null,null,null,null,null,null,"",{"$f":"IF(YEAR(L629)>1900,Einstellungen!$C$10-YEAR(L629),\"---\")","v":"---"},"0000-0000-f-19000100",1,612,"","",1,612,"","","0000","0000","f","19000100",1900,"01","00"]
["","",null,null,null,null,null,null,null,null,null,null,null,null,null,null,"",{"$f":"IF(YEAR(L630)>1900,Einstellungen!$C$10-YEAR(L630),\"---\")","v":"---"},"0000-0000-f-19000100",1,613,"","",1,613,"","","0000","0000","f","19000100",1900,"01","00"]
["","",null,null,null,null,null,null,null,null,null,null,null,null,null,null,"",{"$f":"IF(YEAR(L631)>1900,Einstellungen!$C$10-YEAR(L631),\"---\")","v":"---"},"0000-0000-f-19000100",1,614,"","",1,614,"","","0000","0000","f","19000100",1900,"01","00"]
["","",null,null,null,null,null,null,null,null,null,null,null,null,null,null,"",{"$f":"IF(YEAR(L632)>1900,Einstellungen!$C$10-YEAR(L632),\"---\")","v":"---"},"0000-0000-f-19000100",1,615,"","",1,615,"","","0000","0000","f","19000100",1900,"01","00"]
["","",null,null,null,null,null,null,null,null,null,null,null,null,null,null,"",{"$f":"IF(YEAR(L633)>1900,Einstellungen!$C$10-YEAR(L633),\"---\")","v":"---"},"0000-0000-f-19000100",1,616,"","",1,616,"","","0000","0000","f","19000100",1900,"01","00"]
["","",null,null,null,null,null,null,null,null,null,null,null,null,null,null,"",{"$f":"IF(YEAR(L634)>1900,Einstellungen!$C$10-YEAR(L634),\"---\")","v":"---"},"0000-0000-f-19000100",1,617,"","",1,617,"","","0000","0000","f","19000100",1900,"01","00"]
["","",null,null,null,null,null,null,null,null,null,null,null,null,null,null,"",{"$f":"IF(YEAR(L635)>1900,Einstellungen!$C$10-YEAR(L635),\"---\")","v":"---"},"0000-0000-f-19000100",1,618,"","",1,618,"","","0000","0000","f","19000100",1900,"01","00"]
["","",null,null,null,null,null,null,null,null,null,null,null,null,null,null,"",{"$f":"IF(YEAR(L636)>1900,Einstellungen!$C$10-YEAR(L636),\"---\")","v":"---"},"0000-0000-f-19000100",1,619,"","",1,619,"","","0000","0000","f","19000100",1900,"01","00"]
["","",null,null,null,null,null,null,null,null,null,null,null,null,null,null,"",{"$f":"IF(YEAR(L637)>1900,Einstellungen!$C$10-YEAR(L637),\"---\")","v":"---"},"0000-0000-f-19000100",1,620,"","",1,620,"","","0000","0000","f","19000100",1900,"01","00"]
["","",null,null,null,null,null,null,null,null,null,null,null,null,null,null,"",{"$f":"IF(YEAR(L638)>1900,Einstellungen!$C$10-YEAR(L638),\"---\")","v":"---"},"0000-0000-f-19000100",1,621,"","",1,621,"","","0000","0000","f","19000100",1900,"01","00"]
["","",null,null,null,null,null,null,null,null,null,null,null,null,null,null,"",{"$f":"IF(YEAR(L639)>1900,Einstellungen!$C$10-YEAR(L639),\"---\")","v":"---"},"0000-0000-f-19000100",1,622,"","",1,622,"","","0000","0000","f","19000100",1900,"01","00"]
["","",null,null,null,null,null,null,null,null,null,null,null,null,null,null,"",{"$f":"IF(YEAR(L640)>1900,Einstellungen!$C$10-YEAR(L640),\"---\")","v":"---"},"0000-0000-f-19000100",1,623,"","",1,623,"","","0000","0000","f","19000100",1900,"01","00"]
["","",null,null,null,null,null,null,null,null,null,null,null,null,null,null,"",{"$f":"IF(YEAR(L641)>1900,Einstellungen!$C$10-YEAR(L641),\"---\")","v":"---"},"0000-0000-f-19000100",1,624,"","",1,624,"","","0000","0000","f","19000100",1900,"01","00"]
["","",null,null,null,null,null,null,null,null,null,null,null,null,null,null,"",{"$f":"IF(YEAR(L642)>1900,Einstellungen!$C$10-YEAR(L642),\"---\")","v":"---"},"0000-0000-f-19000100",1,625,"","",1,625,"","","0000","0000","f","19000100",1900,"01","00"]
["","",null,null,null,null,null,null,null,null,null,null,null,null,null,null,"",{"$f":"IF(YEAR(L643)>1900,Einstellungen!$C$10-YEAR(L643),\"---\")","v":"---"},"0000-0000-f-19000100",1,626,"","",1,626,"","","0000","0000","f","19000100",1900,"01","00"]
["","",null,null,null,null,null,null,null,null,null,null,null,null,null,null,"",{"$f":"IF(YEAR(L644)>1900,Einstellungen!$C$10-YEAR(L644),\"---\")","v":"---"},"0000-0000-f-19000100",1,627,"","",1,627,"","","0000","0000","f","19000100",1900,"01","00"]
["","",null,null,null,null,null,null,null,null,null,null,null,null,null,null,"",{"$f":"IF(YEAR(L645)>1900,Einstellungen!$C$10-YEAR(L645),\"---\")","v":"---"},"0000-0000-f-19000100",1,628,"","",1,628,"","","0000","0000","f","19000100",1900,"01","00"]
["","",null,null,null,null,null,null,null,null,null,null,null,null,null,null,"",{"$f":"IF(YEAR(L646)>1900,Einstellungen!$C$10-YEAR(L646),\"---\")","v":"---"},"0000-0000-f-19000100",1,629,"","",1,629,"","","0000","0000","f","19000100",1900,"01","00"]
["","",null,null,null,null,null,null,null,null,null,null,null,null,null,null,"",{"$f":"IF(YEAR(L647)>1900,Einstellungen!$C$10-YEAR(L647),\"---\")","v":"---"},"0000-0000-f-19000100",1,630,"","",1,630,"","","0000","0000","f","19000100",1900,"01","00"]
["","",null,null,null,null,null,null,null,null,null,null,null,null,null,null,"",{"$f":"IF(YEAR(L648)>1900,Einstellungen!$C$10-YEAR(L648),\"---\")","v":"---"},"0000-0000-f-19000100",1,631,"","",1,631,"","","0000","0000","f","19000100",1900,"01","00"]
["","",null,null,null,null,null,null,null,null,null,null,null,null,null,null,"",{"$f":"IF(YEAR(L649)>1900,Einstellungen!$C$10-YEAR(L649),\"---\")","v":"---"},"0000-0000-f-19000100",1,632,"","",1,632,"","","0000","0000","f","19000100",1900,"01","00"]
["","",null,null,null,null,null,null,null,null,null,null,null,null,null,null,"",{"$f":"IF(YEAR(L650)>1900,Einstellungen!$C$10-YEAR(L650),\"---\")","v":"---"},"0000-0000-f-19000100",1,633,"","",1,633,"","","0000","0000","f","19000100",1900,"01","00"]
["","",null,null,null,null,null,null,null,null,null,null,null,null,null,null,"",{"$f":"IF(YEAR(L651)>1900,Einstellungen!$C$10-YEAR(L651),\"---\")","v":"---"},"0000-0000-f-19000100",1,634,"","",1,634,"","","0000","0000","f","19000100",1900,"01","00"]
["","",null,null,null,null,null,null,null,null,null,null,null,null,null,null,"",{"$f":"IF(YEAR(L652)>1900,Einstellungen!$C$10-YEAR(L652),\"---\")","v":"---"},"0000-0000-f-19000100",1,635,"","",1,635,"","","0000","0000","f","19000100",1900,"01","00"]
["","",null,null,null,null,null,null,null,null,null,null,null,null,null,null,"",{"$f":"IF(YEAR(L653)>1900,Einstellungen!$C$10-YEAR(L653),\"---\")","v":"---"},"0000-0000-f-19000100",1,636,"","",1,636,"","","0000","0000","f","19000100",1900,"01","00"]
["","",null,null,null,null,null,null,null,null,null,null,null,null,null,null,"",{"$f":"IF(YEAR(L654)>1900,Einstellungen!$C$10-YEAR(L654),\"---\")","v":"---"},"0000-0000-f-19000100",1,637,"","",1,637,"","","0000","0000","f","19000100",1900,"01","00"]
["","",null,null,null,null,null,null,null,null,null,null,null,null,null,null,"",{"$f":"IF(YEAR(L655)>1900,Einstellungen!$C$10-YEAR(L655),\"---\")","v":"---"},"0000-0000-f-19000100",1,638,"","",1,638,"","","0000","0000","f","19000100",1900,"01","00"]
["","",null,null,null,null,null,null,null,null,null,null,null,null,null,null,"",{"$f":"IF(YEAR(L656)>1900,Einstellungen!$C$10-YEAR(L656),\"---\")","v":"---"},"0000-0000-f-19000100",1,639,"","",1,639,"","","0000","0000","f","19000100",1900,"01","00"]
["","",null,null,null,null,null,null,null,null,null,null,null,null,null,null,"",{"$f":"IF(YEAR(L657)>1900,Einstellungen!$C$10-YEAR(L657),\"---\")","v":"---"},"0000-0000-f-19000100",1,640,"","",1,640,"","","0000","0000","f","19000100",1900,"01","00"]
["","",null,null,null,null,null,null,null,null,null,null,null,null,null,null,{"$f":"IF(LEN(D658)>0,IF(P658=\"x\",\"\",\"x\"),\"\")","v":""},{"$f":"IF(YEAR(L658)>1900,Einstellungen!$C$10-YEAR(L658),\"---\")","v":"---"},"0000-0000-f-19000100",1,641,"","",1,641,"","","0000","0000","f","19000100",1900,"01","00"]
["","",null,null,null,null,null,null,null,null,null,null,null,null,null,null,"",{"$f":"IF(YEAR(L659)>1900,Einstellungen!$C$10-YEAR(L659),\"---\")","v":"---"},{"$f":"AB659 & \"-\" & AC659 & \"-\" & AD659 & \"-\" & AE659","v":"0000-0000-f-19000100"},{"$f":"IF(R659<=$AE$12,1,0)","v":1},{"$f":"IF(T659=1,U658+1,U658)","v":642},{"$f":"IF((M659+N659)>0,IF(T659=1,U659,\"-\"),\"\")","v":""},{"$f":"Z659 & AA659","v":""},{"$f":"IF(LEN(C659)>0, 0, T659)","v":1},{"$f":"Y658+X659","v":642},{"$f":"IF(X659=1,IF(Y659<=$Z$12,\"Q\",\"\"),\"\")","v":""},{"$f":"IF(X659=1, IF(Y659>$Z$12, IF(Y659<=($Z$12+$AA$12),\"R\",\"\"),\"\"), \"\")","v":""},{"$f":"IF(M659<1,\"0000\", IF(M659<10,\"000\"&M659, IF(M659<100,\"00\"&M659, IF(M659<1000,\"0\"&M659,\"\"& M659))))","v":"0000"},"0000",{"$f":"IF(O659=\"a\",\"a\",\"f\")","v":"f"},{"$f":"AF659&AG659&AH659","v":"19000100"},{"$f":"YEAR(L659)","v":1900},{"$f":"IF(MONTH(L659)<10,\"0\"&MONTH(L659),MONTH(L659))","v":"01"},{"$f":"IF(DAY(L659)<10,\"0\"&DAY(L659),DAY(L659))","v":"00"}]
["","",null,null,null,null,null,null,null,null,null,null,null,null,null,null,"",{"$f":"IF(YEAR(L660)>1900,Einstellungen!$C$10-YEAR(L660),\"---\")","v":"---"},"0000-0000-f-19000100",1,643,"","",1,643,"","","0000","0000","f","19000100",1900,"01","00"]
["","",null,null,null,null,null,null,null,null,null,null,null,null,null,null,"",{"$f":"IF(YEAR(L661)>1900,Einstellungen!$C$10-YEAR(L661),\"---\")","v":"---"},"0000-0000-f-19000100",1,644,"","",1,644,"","","0000","0000","f","19000100",1900,"01","00"]
["","",null,null,null,null,null,null,null,null,null,null,null,null,null,null,"",{"$f":"IF(YEAR(L662)>1900,Einstellungen!$C$10-YEAR(L662),\"---\")","v":"---"},"0000-0000-f-19000100",1,645,"","",1,645,"","","0000","0000","f","19000100",1900,"01","00"]
["","",null,null,null,null,null,null,null,null,null,null,null,null,null,null,"",{"$f":"IF(YEAR(L663)>1900,Einstellungen!$C$10-YEAR(L663),\"---\")","v":"---"},"0000-0000-f-19000100",1,646,"","",1,646,"","","0000","0000","f","19000100",1900,"01","00"]
["","",null,null,null,null,null,null,null,null,null,null,null,null,null,null,"",{"$f":"IF(YEAR(L664)>1900,Einstellungen!$C$10-YEAR(L664),\"---\")","v":"---"},"0000-0000-f-19000100",1,647,"","",1,647,"","","0000","0000","f","19000100",1900,"01","00"]
["","",null,null,null,null,null,null,null,null,null,null,null,null,null,null,"",{"$f":"IF(YEAR(L665)>1900,Einstellungen!$C$10-YEAR(L665),\"---\")","v":"---"},"0000-0000-f-19000100",1,648,"","",1,648,"","","0000","0000","f","19000100",1900,"01","00"]
["","",null,null,null,null,null,null,null,null,null,null,null,null,null,null,"",{"$f":"IF(YEAR(L666)>1900,Einstellungen!$C$10-YEAR(L666),\"---\")","v":"---"},"0000-0000-f-19000100",1,649,"","",1,649,"","","0000","0000","f","19000100",1900,"01","00"]
["","",null,null,null,null,null,null,null,null,null,null,null,null,null,null,"",{"$f":"IF(YEAR(L667)>1900,Einstellungen!$C$10-YEAR(L667),\"---\")","v":"---"},"0000-0000-f-19000100",1,650,"","",1,650,"","","0000","0000","f","19000100",1900,"01","00"]
["","",null,null,null,null,null,null,null,null,null,null,null,null,null,null,"",{"$f":"IF(YEAR(L668)>1900,Einstellungen!$C$10-YEAR(L668),\"---\")","v":"---"},"0000-0000-f-19000100",1,651,"","",1,651,"","","0000","0000","f","19000100",1900,"01","00"]
["","",null,null,null,null,null,null,null,null,null,null,null,null,null,null,"",{"$f":"IF(YEAR(L669)>1900,Einstellungen!$C$10-YEAR(L669),\"---\")","v":"---"},"0000-0000-f-19000100",1,652,"","",1,652,"","","0000","0000","f","19000100",1900,"01","00"]
["","",null,null,null,null,null,null,null,null,null,null,null,null,null,null,"",{"$f":"IF(YEAR(L670)>1900,Einstellungen!$C$10-YEAR(L670),\"---\")","v":"---"},"0000-0000-f-19000100",1,653,"","",1,653,"","","0000","0000","f","19000100",1900,"01","00"]
["","",null,null,null,null,null,null,null,null,null,null,null,null,null,null,"",{"$f":"IF(YEAR(L671)>1900,Einstellungen!$C$10-YEAR(L671),\"---\")","v":"---"},"0000-0000-f-19000100",1,654,"","",1,654,"","","0000","0000","f","19000100",1900,"01","00"]
["","",null,null,null,null,null,null,null,null,null,null,null,null,null,null,"",{"$f":"IF(YEAR(L672)>1900,Einstellungen!$C$10-YEAR(L672),\"---\")","v":"---"},"0000-0000-f-19000100",1,655,"","",1,655,"","","0000","0000","f","19000100",1900,"01","00"]
["","",null,null,null,null,null,null,null,null,null,null,null,null,null,null,"",{"$f":"IF(YEAR(L673)>1900,Einstellungen!$C$10-YEAR(L673),\"---\")","v":"---"},"0000-0000-f-19000100",1,656,"","",1,656,"","","0000","0000","f","19000100",1900,"01","00"]
["","",null,null,null,null,null,null,null,null,null,null,null,null,null,null,"",{"$f":"IF(YEAR(L674)>1900,Einstellungen!$C$10-YEAR(L674),\"---\")","v":"---"},"0000-0000-f-19000100",1,657,"","",1,657,"","","0000","0000","f","19000100",1900,"01","00"]
["","",null,null,null,null,null,null,null,null,null,null,null,null,null,null,"",{"$f":"IF(YEAR(L675)>1900,Einstellungen!$C$10-YEAR(L675),\"---\")","v":"---"},"0000-0000-f-19000100",1,658,"","",1,658,"","","0000","0000","f","19000100",1900,"01","00"]
["","",null,null,null,null,null,null,null,null,null,null,null,null,null,null,"",{"$f":"IF(YEAR(L676)>1900,Einstellungen!$C$10-YEAR(L676),\"---\")","v":"---"},"0000-0000-f-19000100",1,659,"","",1,659,"","","0000","0000","f","19000100",1900,"01","00"]
["","",null,null,null,null,null,null,null,null,null,null,null,null,null,null,"",{"$f":"IF(YEAR(L677)>1900,Einstellungen!$C$10-YEAR(L677),\"---\")","v":"---"},"0000-0000-f-19000100",1,660,"","",1,660,"","","0000","0000","f","19000100",1900,"01","00"]
["","",null,null,null,null,null,null,null,null,null,null,null,null,null,null,"",{"$f":"IF(YEAR(L678)>1900,Einstellungen!$C$10-YEAR(L678),\"---\")","v":"---"},"0000-0000-f-19000100",1,661,"","",1,661,"","","0000","0000","f","19000100",1900,"01","00"]
["","",null,null,null,null,null,null,null,null,null,null,null,null,null,null,"",{"$f":"IF(YEAR(L679)>1900,Einstellungen!$C$10-YEAR(L679),\"---\")","v":"---"},"0000-0000-f-19000100",1,662,"","",1,662,"","","0000","0000","f","19000100",1900,"01","00"]
["","",null,null,null,null,null,null,null,null,null,null,null,null,null,null,"",{"$f":"IF(YEAR(L680)>1900,Einstellungen!$C$10-YEAR(L680),\"---\")","v":"---"},"0000-0000-f-19000100",1,663,"","",1,663,"","","0000","0000","f","19000100",1900,"01","00"]
["","",null,null,null,null,null,null,null,null,null,null,null,null,null,null,"",{"$f":"IF(YEAR(L681)>1900,Einstellungen!$C$10-YEAR(L681),\"---\")","v":"---"},"0000-0000-f-19000100",1,664,"","",1,664,"","","0000","0000","f","19000100",1900,"01","00"]
["","",null,null,null,null,null,null,null,null,null,null,null,null,null,null,"",{"$f":"IF(YEAR(L682)>1900,Einstellungen!$C$10-YEAR(L682),\"---\")","v":"---"},"0000-0000-f-19000100",1,665,"","",1,665,"","","0000","0000","f","19000100",1900,"01","00"]
["","",null,null,null,null,null,null,null,null,null,null,null,null,null,null,"",{"$f":"IF(YEAR(L683)>1900,Einstellungen!$C$10-YEAR(L683),\"---\")","v":"---"},"0000-0000-f-19000100",1,666,"","",1,666,"","","0000","0000","f","19000100",1900,"01","00"]
["","",null,null,null,null,null,null,null,null,null,null,null,null,null,null,"",{"$f":"IF(YEAR(L684)>1900,Einstellungen!$C$10-YEAR(L684),\"---\")","v":"---"},"0000-0000-f-19000100",1,667,"","",1,667,"","","0000","0000","f","19000100",1900,"01","00"]
["","",null,null,null,null,null,null,null,null,null,null,null,null,null,null,"",{"$f":"IF(YEAR(L685)>1900,Einstellungen!$C$10-YEAR(L685),\"---\")","v":"---"},"0000-0000-f-19000100",1,668,"","",1,668,"","","0000","0000","f","19000100",1900,"01","00"]
["","",null,null,null,null,null,null,null,null,null,null,null,null,null,null,"",{"$f":"IF(YEAR(L686)>1900,Einstellungen!$C$10-YEAR(L686),\"---\")","v":"---"},"0000-0000-f-19000100",1,669,"","",1,669,"","","0000","0000","f","19000100",1900,"01","00"]
["","",null,null,null,null,null,null,null,null,null,null,null,null,null,null,"",{"$f":"IF(YEAR(L687)>1900,Einstellungen!$C$10-YEAR(L687),\"---\")","v":"---"},"0000-0000-f-19000100",1,670,"","",1,670,"","","0000","0000","f","19000100",1900,"01","00"]
["","",null,null,null,null,null,null,null,null,null,null,null,null,null,null,"",{"$f":"IF(YEAR(L688)>1900,Einstellungen!$C$10-YEAR(L688),\"---\")","v":"---"},"0000-0000-f-19000100",1,671,"","",1,671,"","","0000","0000","f","19000100",1900,"01","00"]
["","",null,null,null,null,null,null,null,null,null,null,null,null,null,null,"",{"$f":"IF(YEAR(L689)>1900,Einstellungen!$C$10-YEAR(L689),\"---\")","v":"---"},"0000-0000-f-19000100",1,672,"","",1,672,"","","0000","0000","f","19000100",1900,"01","00"]
["","",null,null,null,null,null,null,null,null,null,null,null,null,null,null,"",{"$f":"IF(YEAR(L690)>1900,Einstellungen!$C$10-YEAR(L690),\"---\")","v":"---"},"0000-0000-f-19000100",1,673,"","",1,673,"","","0000","0000","f","19000100",1900,"01","00"]
["","",null,null,null,null,null,null,null,null,null,null,null,null,null,null,"",{"$f":"IF(YEAR(L691)>1900,Einstellungen!$C$10-YEAR(L691),\"---\")","v":"---"},"0000-0000-f-19000100",1,674,"","",1,674,"","","0000","0000","f","19000100",1900,"01","00"]
["","",null,null,null,null,null,null,null,null,null,null,null,null,null,null,"",{"$f":"IF(YEAR(L692)>1900,Einstellungen!$C$10-YEAR(L692),\"---\")","v":"---"},"0000-0000-f-19000100",1,675,"","",1,675,"","","0000","0000","f","19000100",1900,"01","00"]
["","",null,null,null,null,null,null,null,null,null,null,null,null,null,null,"",{"$f":"IF(YEAR(L693)>1900,Einstellungen!$C$10-YEAR(L693),\"---\")","v":"---"},"0000-0000-f-19000100",1,676,"","",1,676,"","","0000","0000","f","19000100",1900,"01","00"]
["","",null,null,null,null,null,null,null,null,null,null,null,null,null,null,"",{"$f":"IF(YEAR(L694)>1900,Einstellungen!$C$10-YEAR(L694),\"---\")","v":"---"},"0000-0000-f-19000100",1,677,"","",1,677,"","","0000","0000","f","19000100",1900,"01","00"]
["","",null,null,null,null,null,null,null,null,null,null,null,null,null,null,"",{"$f":"IF(YEAR(L695)>1900,Einstellungen!$C$10-YEAR(L695),\"---\")","v":"---"},"0000-0000-f-19000100",1,678,"","",1,678,"","","0000","0000","f","19000100",1900,"01","00"]
["","",null,null,null,null,null,null,null,null,null,null,null,null,null,null,"",{"$f":"IF(YEAR(L696)>1900,Einstellungen!$C$10-YEAR(L696),\"---\")","v":"---"},"0000-0000-f-19000100",1,679,"","",1,679,"","","0000","0000","f","19000100",1900,"01","00"]
["","",null,null,null,null,null,null,null,null,null,null,null,null,null,null,"",{"$f":"IF(YEAR(L697)>1900,Einstellungen!$C$10-YEAR(L697),\"---\")","v":"---"},"0000-0000-f-19000100",1,680,"","",1,680,"","","0000","0000","f","19000100",1900,"01","00"]
["","",null,null,null,null,null,null,null,null,null,null,null,null,null,null,"",{"$f":"IF(YEAR(L698)>1900,Einstellungen!$C$10-YEAR(L698),\"---\")","v":"---"},"0000-0000-f-19000100",1,681,"","",1,681,"","","0000","0000","f","19000100",1900,"01","00"]
["","",null,null,null,null,null,null,null,null,null,null,null,null,null,null,"",{"$f":"IF(YEAR(L699)>1900,Einstellungen!$C$10-YEAR(L699),\"---\")","v":"---"},"0000-0000-f-19000100",1,682,"","",1,682,"","","0000","0000","f","19000100",1900,"01","00"]
["","",null,null,null,null,null,null,null,null,null,null,null,null,null,null,"",{"$f":"IF(YEAR(L700)>1900,Einstellungen!$C$10-YEAR(L700),\"---\")","v":"---"},"0000-0000-f-19000100",1,683,"","",1,683,"","","0000","0000","f","19000100",1900,"01","00"]
["","",null,null,null,null,null,null,null,null,null,null,null,null,null,null,"",{"$f":"IF(YEAR(L701)>1900,Einstellungen!$C$10-YEAR(L701),\"---\")","v":"---"},"0000-0000-f-19000100",1,684,"","",1,684,"","","0000","0000","f","19000100",1900,"01","00"]
["","",null,null,null,null,null,null,null,null,null,null,null,null,null,null,"",{"$f":"IF(YEAR(L702)>1900,Einstellungen!$C$10-YEAR(L702),\"---\")","v":"---"},"0000-0000-f-19000100",1,685,"","",1,685,"","","0000","0000","f","19000100",1900,"01","00"]
["","",null,null,null,null,null,null,null,null,null,null,null,null,null,null,"",{"$f":"IF(YEAR(L703)>1900,Einstellungen!$C$10-YEAR(L703),\"---\")","v":"---"},"0000-0000-f-19000100",1,686,"","",1,686,"","","0000","0000","f","19000100",1900,"01","00"]
["","",null,null,null,null,null,null,null,null,null,null,null,null,null,null,"",{"$f":"IF(YEAR(L704)>1900,Einstellungen!$C$10-YEAR(L704),\"---\")","v":"---"},"0000-0000-f-19000100",1,687,"","",1,687,"","","0000","0000","f","19000100",1900,"01","00"]
["","",null,null,null,null,null,null,null,null,null,null,null,null,null,null,"",{"$f":"IF(YEAR(L705)>1900,Einstellungen!$C$10-YEAR(L705),\"---\")","v":"---"},"0000-0000-f-19000100",1,688,"","",1,688,"","","0000","0000","f","19000100",1900,"01","00"]
["","",null,null,null,null,null,null,null,null,null,null,null,null,null,null,"",{"$f":"IF(YEAR(L706)>1900,Einstellungen!$C$10-YEAR(L706),\"---\")","v":"---"},"0000-0000-f-19000100",1,689,"","",1,689,"","","0000","0000","f","19000100",1900,"01","00"]
["","",null,null,null,null,null,null,null,null,null,null,null,null,null,null,"",{"$f":"IF(YEAR(L707)>1900,Einstellungen!$C$10-YEAR(L707),\"---\")","v":"---"},"0000-0000-f-19000100",1,690,"","",1,690,"","","0000","0000","f","19000100",1900,"01","00"]
["","",null,null,null,null,null,null,null,null,null,null,null,null,null,null,"",{"$f":"IF(YEAR(L708)>1900,Einstellungen!$C$10-YEAR(L708),\"---\")","v":"---"},"0000-0000-f-19000100",1,691,"","",1,691,"","","0000","0000","f","19000100",1900,"01","00"]
["","",null,null,null,null,null,null,null,null,null,null,null,null,null,null,"",{"$f":"IF(YEAR(L709)>1900,Einstellungen!$C$10-YEAR(L709),\"---\")","v":"---"},"0000-0000-f-19000100",1,692,"","",1,692,"","","0000","0000","f","19000100",1900,"01","00"]
["","",null,null,null,null,null,null,null,null,null,null,null,null,null,null,"",{"$f":"IF(YEAR(L710)>1900,Einstellungen!$C$10-YEAR(L710),\"---\")","v":"---"},"0000-0000-f-19000100",1,693,"","",1,693,"","","0000","0000","f","19000100",1900,"01","00"]
["","",null,null,null,null,null,null,null,null,null,null,null,null,null,null,"",{"$f":"IF(YEAR(L711)>1900,Einstellungen!$C$10-YEAR(L711),\"---\")","v":"---"},"0000-0000-f-19000100",1,694,"","",1,694,"","","0000","0000","f","19000100",1900,"01","00"]
["","",null,null,null,null,null,null,null,null,null,null,null,null,null,null,"",{"$f":"IF(YEAR(L712)>1900,Einstellungen!$C$10-YEAR(L712),\"---\")","v":"---"},"0000-0000-f-19000100",1,695,"","",1,695,"","","0000","0000","f","19000100",1900,"01","00"]
["","",null,null,null,null,null,null,null,null,null,null,null,null,null,null,"",{"$f":"IF(YEAR(L713)>1900,Einstellungen!$C$10-YEAR(L713),\"---\")","v":"---"},"0000-0000-f-19000100",1,696,"","",1,696,"","","0000","0000","f","19000100",1900,"01","00"]
["","",null,null,null,null,null,null,null,null,null,null,null,null,null,null,"",{"$f":"IF(YEAR(L714)>1900,Einstellungen!$C$10-YEAR(L714),\"---\")","v":"---"},"0000-0000-f-19000100",1,697,"","",1,697,"","","0000","0000","f","19000100",1900,"01","00"]
["","",null,null,null,null,null,null,null,null,null,null,null,null,null,null,"",{"$f":"IF(YEAR(L715)>1900,Einstellungen!$C$10-YEAR(L715),\"---\")","v":"---"},"0000-0000-f-19000100",1,698,"","",1,698,"","","0000","0000","f","19000100",1900,"01","00"]
["","",null,null,null,null,null,null,null,null,null,null,null,null,null,null,"",{"$f":"IF(YEAR(L716)>1900,Einstellungen!$C$10-YEAR(L716),\"---\")","v":"---"},"0000-0000-f-19000100",1,699,"","",1,699,"","","0000","0000","f","19000100",1900,"01","00"]
["","",null,null,null,null,null,null,null,null,null,null,null,null,null,null,"",{"$f":"IF(YEAR(L717)>1900,Einstellungen!$C$10-YEAR(L717),\"---\")","v":"---"},"0000-0000-f-19000100",1,700,"","",1,700,"","","0000","0000","f","19000100",1900,"01","00"]

{"sheet":"Rangliste_03","index":4,"n_rows":717,"n_cols":35,"rows_kept":717,"cut":false,"hidden":false,"merged":[[7,0,7,4],[9,15,9,16],[10,15,10,16],[11,15,11,16],[1,0,1,4],[3,11,3,12],[3,13,3,16],[6,0,6,3],[6,10,6,16],[1,10,1,16]]}
[null,null,null,null,null,null,null,null,null,null,null,null,null,null,null,null,null,">>",null,null,null,null,null,null,null,null,null,null,null,null,null,null,null,null,"<<"]
["Zürcher Schiesssportverband\nZHSV   -   www.ZHSV.ch",null,null,null,null,null,null,null,null,null,"Zürcher Kantonaler Armbrustschützenverband\nZKAV   -   www.ZKAV.ch"]
[{"$f":"Einstellungen!$A$2","v":"44. Goldiger Züri-Träffer 2023"},null,null,null,null,null,null,null,null,null,null,null,null,null,null,null,{"$f":"Einstellungen!$I$2","v":"Qualifikation"}]
[{"$f":"Einstellungen!$I$4","v":"Version V8/25.12.2022"},null,null,null,null,null,null,null,null,null,null,"Rangliste per:",null,{"$f":"Einstellungen!$G$19","v":"00:00:00"},null,null,null,null,null,"Erste Rangzeile:",null,18]
[]
["Disziplin:",null,null,null,"Alter:",null,null,"Jahrgänge:",null,null,"Organisator:",null,null,null,null,null,null,null,null,"Letzte Rangzeile:",null,{"$f":"V4+P10-1","v":17}]
[{"$f":"Einstellungen!$G$16","v":"keine"},null,null,null,{"$f":"Einstellungen!$G$17","v":"---"},null,null,{"$f":"IF(Einstellungen!$C$35<>Einstellungen!$C$36,Einstellungen!$C$35 & \" - \" & Einstellungen!$C$36, Einstellungen!$C$35)","v":"---"},null,null,{"$f":"Einstellungen!$G$10","v":0},null,null,null,null,null,null,null,null,"Print-Select:",null,{"$f":"\"A2:Q\"&V6","v":"A2:Q17"}]
[{"$f":"Einstellungen!$G$32","v":0}]
[]
["Final:","Q",null,"= qualifiziert",null,null,null,null,null,null,null,null,"Teilnehmer:",null,null,{"$f":"SUM(P11:P12)","v":0},null,null,null,"Hilfsfeld",null,null,null,null,null,"Anz. Q","Anz. R",null,null,"Alter","Alter"]
[null,"R",null,"= Reserve",null,null,null,null,null,null,null,null,"- Mädchen:",null,null,{"$f":"COUNTIF(P18:P717,\"x\")","v":0},null,null,null,null,null,null,null,null,null,null,null,null,null,"von","bis"]
[null,null,"K","= Kadermitglied (keine Finalteilnahme)",null,null,null,null,null,null,null,null,"- Jungen:",null,null,{"$f":"COUNTIF(Q18:Q717,\"x\")","v":0},null,null,null,{"$f":"\"---\"","v":"---"},null,null,null,null,null,{"$f":"Einstellungen!$G$24","v":0},{"$f":"Einstellungen!$G$26","v":0},null,null,{"$f":"Einstellungen!$G$33","v":"---"},{"$f":"Einstellungen!$G$34","v":"---"}]
[null,null,"A","= abgemeldet (keine Finalteilnahme)"]
[]
["Rang","Final",{"$f":"Einstellungen!$G$42","v":0},"Name","Vorname","Adresse","PLZ","Wohnort","Telefon","eMail","Verein","Geburts-\nDatum\n(tt.mm.jjjj)",{"$f":"Einstellungen!$G$37","v":""},{"$f":"Einstellungen!$G$38","v":""},{"$f":"Einstellungen!$G$39","v":""},{"$f":"Einstellungen!$G$40","v":""},{"$f":"Einstellungen!$G$41","v":0},"Alter","Total","Rang_Ber","Rang_Set","Rang_OK","Final","mögliche Final\nTeilnahme","Anzahl\nmöglicher Final\nTeilnahmen","Q_OK","R_OK","Treffer","Punkte","Stellung","Alter","Geb.-Jahr","Geb.-Monat","Geb.-Tag"]
[]
[null,null,null,null,null,null,null,null,null,null,null,null,null,null,null,null,null,null,null,null,0,null,null,null,0]
["","",null,null,null,null,null,null,null,null,null,null,null,null,null,null,{"$f":"IF(LEN(D18)>0,IF(P18=\"x\",\"\",\"x\"),\"\")","v":""},{"$f":"IF(YEAR(L18)>1900,Einstellungen!$C$10-YEAR(L18),\"---\")","v":"---"},{"$f":"AB18 & \"-\" & AC18 & \"-\" & AD18 & \"-\" & AE18","v":"0000-0000-f-19000100"},{"$f":"IF(R18<=$AE$12,1,0)","v":1},{"$f":"IF(T18=1,U17+1,U17)","v":1},{"$f":"IF((M18+N18)>0,IF(T18=1,U18,\"-\"),\"\")","v":""},{"$f":"Z18 & AA18","v":""},{"$f":"IF(LEN(C18)>0, 0, T18)","v":1},{"$f":"Y17+X18","v":1},{"$f":"IF(X18=1,IF(Y18<=$Z$12,\"Q\",\"\"),\"\")","v":""},{"$f":"IF(X18=1, IF(Y18>$Z$12, IF(Y18<=($Z$12+$AA$12),\"R\",\"\"),\"\"), \"\")","v":""},{"$f":"IF(M18<1,\"0000\", IF(M18<10,\"000\"&M18, IF(M18<100,\"00\"&M18, IF(M18<1000,\"0\"&M18,\"\"& M18))))","v":"0000"},{"$f":"IF(N18<1,\"0000\", IF(N18<10,\"000\"&N18, IF(N18<100,\"00\"&N18, IF(N18<1000,\"0\"&N18,\"\"& N18))))","v":"0000"},{"$f":"IF(O18=\"a\",\"a\",\"f\")","v":"f"},{"$f":"AF18&AG18&AH18","v":"19000100"},{"$f":"YEAR(L18)","v":1900},{"$f":"IF(MONTH(L18)<10,\"0\"&MONTH(L18),MONTH(L18))","v":"01"},{"$f":"IF(DAY(L18)<10,\"0\"&DAY(L18),DAY(L18))","v":"00"}]
["","",null,null,null,null,null,null,null,null,null,null,null,null,null,null,"",{"$f":"IF(YEAR(L19)>1900,Einstellungen!$C$10-YEAR(L19),\"---\")","v":"---"},{"$f":"AB19 & \"-\" & AC19 & \"-\" & AD19 & \"-\" & AE19","v":"0000-0000-f-19000100"},{"$f":"IF(R19<=$AE$12,1,0)","v":1},{"$f":"IF(T19=1,U18+1,U18)","v":2},{"$f":"IF((M19+N19)>0,IF(T19=1,U19,\"-\"),\"\")","v":""},{"$f":"Z19 & AA19","v":""},{"$f":"IF(LEN(C19)>0, 0, T19)","v":1},{"$f":"Y18+X19","v":2},{"$f":"IF(X19=1,IF(Y19<=$Z$12,\"Q\",\"\"),\"\")","v":""},{"$f":"IF(X19=1, IF(Y19>$Z$12, IF(Y19<=($Z$12+$AA$12),\"R\",\"\"),\"\"), \"\")","v":""},{"$f":"IF(M19<1,\"0000\", IF(M19<10,\"000\"&M19, IF(M19<100,\"00\"&M19, IF(M19<1000,\"0\"&M19,\"\"& M19))))","v":"0000"},"0000",{"$f":"IF(O19=\"a\",\"a\",\"f\")","v":"f"},{"$f":"AF19&AG19&AH19","v":"19000100"},{"$f":"YEAR(L19)","v":1900},{"$f":"IF(MONTH(L19)<10,\"0\"&MONTH(L19),MONTH(L19))","v":"01"},{"$f":"IF(DAY(L19)<10,\"0\"&DAY(L19),DAY(L19))","v":"00"}]
["","",null,null,null,null,null,null,null,null,null,null,null,null,null,null,"",{"$f":"IF(YEAR(L20)>1900,Einstellungen!$C$10-YEAR(L20),\"---\")","v":"---"},"0000-0000-f-19000100",1,3,"","",1,3,"","","0000","0000","f","19000100",1900,"01","00"]
["","",null,null,null,null,null,null,null,null,null,null,null,null,null,null,"",{"$f":"IF(YEAR(L21)>1900,Einstellungen!$C$10-YEAR(L21),\"---\")","v":"---"},"0000-0000-f-19000100",1,4,"","",1,4,"","","0000","0000","f","19000100",1900,"01","00"]
["","",null,null,null,null,null,null,null,null,null,null,null,null,null,null,"",{"$f":"IF(YEAR(L22)>1900,Einstellungen!$C$10-YEAR(L22),\"---\")","v":"---"},"0000-0000-f-19000100",1,5,"","",1,5,"","","0000","0000","f","19000100",1900,"01","00"]
["","",null,null,null,null,null,null,null,null,null,null,null,null,null,null,"",{"$f":"IF(YEAR(L23)>1900,Einstellungen!$C$10-YEAR(L23),\"---\")","v":"---"},"0000-0000-f-19000100",1,6,"","",1,6,"","","0000","0000","f","19000100",1900,"01","00"]
["","",null,null,null,null,null,null,null,null,null,null,null,null,null,null,"",{"$f":"IF(YEAR(L24)>1900,Einstellungen!$C$10-YEAR(L24),\"---\")","v":"---"},"0000-0000-f-19000100",1,7,"","",1,7,"","","0000","0000","f","19000100",1900,"01","00"]
["","",null,null,null,null,null,null,null,null,null,null,null,null,null,null,"",{"$f":"IF(YEAR(L25)>1900,Einstellungen!$C$10-YEAR(L25),\"---\")","v":"---"},"0000-0000-f-19000100",1,8,"","",1,8,"","","0000","0000","f","19000100",1900,"01","00"]
["","",null,null,null,null,null,null,null,null,null,null,null,null,null,null,"",{"$f":"IF(YEAR(L26)>1900,Einstellungen!$C$10-YEAR(L26),\"---\")","v":"---"},"0000-0000-f-19000100",1,9,"","",1,9,"","","0000","0000","f","19000100",1900,"01","00"]
["","",null,null,null,null,null,null,null,null,null,null,null,null,null,null,"",{"$f":"IF(YEAR(L27)>1900,Einstellungen!$C$10-YEAR(L27),\"---\")","v":"---"},"0000-0000-f-19000100",1,10,"","",1,10,"","","0000","0000","f","19000100",1900,"01","00"]
["","",null,null,null,null,null,null,null,null,null,null,null,null,null,null,"",{"$f":"IF(YEAR(L28)>1900,Einstellungen!$C$10-YEAR(L28),\"---\")","v":"---"},"0000-0000-f-19000100",1,11,"","",1,11,"","","0000","0000","f","19000100",1900,"01","00"]
["","",null,null,null,null,null,null,null,null,null,null,null,null,null,null,"",{"$f":"IF(YEAR(L29)>1900,Einstellungen!$C$10-YEAR(L29),\"---\")","v":"---"},"0000-0000-f-19000100",1,12,"","",1,12,"","","0000","0000","f","19000100",1900,"01","00"]
["","",null,null,null,null,null,null,null,null,null,null,null,null,null,null,"",{"$f":"IF(YEAR(L30)>1900,Einstellungen!$C$10-YEAR(L30),\"---\")","v":"---"},"0000-0000-f-19000100",1,13,"","",1,13,"","","0000","0000","f","19000100",1900,"01","00"]
["","",null,null,null,null,null,null,null,null,null,null,null,null,null,null,"",{"$f":"IF(YEAR(L31)>1900,Einstellungen!$C$10-YEAR(L31),\"---\")","v":"---"},"0000-0000-f-19000100",1,14,"","",1,14,"","","0000","0000","f","19000100",1900,"01","00"]
["","",null,null,null,null,null,null,null,null,null,null,null,null,null,null,"",{"$f":"IF(YEAR(L32)>1900,Einstellungen!$C$10-YEAR(L32),\"---\")","v":"---"},"0000-0000-f-19000100",1,15,"","",1,15,"","","0000","0000","f","19000100",1900,"01","00"]
["","",null,null,null,null,null,null,null,null,null,null,null,null,null,null,"",{"$f":"IF(YEAR(L33)>1900,Einstellungen!$C$10-YEAR(L33),\"---\")","v":"---"},"0000-0000-f-19000100",1,16,"","",1,16,"","","0000","0000","f","19000100",1900,"01","00"]
["","",null,null,null,null,null,null,null,null,null,null,null,null,null,null,"",{"$f":"IF(YEAR(L34)>1900,Einstellungen!$C$10-YEAR(L34),\"---\")","v":"---"},"0000-0000-f-19000100",1,17,"","",1,17,"","","0000","0000","f","19000100",1900,"01","00"]
["","",null,null,null,null,null,null,null,null,null,null,null,null,null,null,"",{"$f":"IF(YEAR(L35)>1900,Einstellungen!$C$10-YEAR(L35),\"---\")","v":"---"},"0000-0000-f-19000100",1,18,"","",1,18,"","","0000","0000","f","19000100",1900,"01","00"]
["","",null,null,null,null,null,null,null,null,null,null,null,null,null,null,"",{"$f":"IF(YEAR(L36)>1900,Einstellungen!$C$10-YEAR(L36),\"---\")","v":"---"},"0000-0000-f-19000100",1,19,"","",1,19,"","","0000","0000","f","19000100",1900,"01","00"]
["","",null,null,null,null,null,null,null,null,null,null,null,null,null,null,"",{"$f":"IF(YEAR(L37)>1900,Einstellungen!$C$10-YEAR(L37),\"---\")","v":"---"},"0000-0000-f-19000100",1,20,"","",1,20,"","","0000","0000","f","19000100",1900,"01","00"]
["","",null,null,null,null,null,null,null,null,null,null,null,null,null,null,"",{"$f":"IF(YEAR(L38)>1900,Einstellungen!$C$10-YEAR(L38),\"---\")","v":"---"},"0000-0000-f-19000100",1,21,"","",1,21,"","","0000","0000","f","19000100",1900,"01","00"]
["","",null,null,null,null,null,null,null,null,null,null,null,null,null,null,"",{"$f":"IF(YEAR(L39)>1900,Einstellungen!$C$10-YEAR(L39),\"---\")","v":"---"},"0000-0000-f-19000100",1,22,"","",1,22,"","","0000","0000","f","19000100",1900,"01","00"]
["","",null,null,null,null,null,null,null,null,null,null,null,null,null,null,"",{"$f":"IF(YEAR(L40)>1900,Einstellungen!$C$10-YEAR(L40),\"---\")","v":"---"},"0000-0000-f-19000100",1,23,"","",1,23,"","","0000","0000","f","19000100",1900,"01","00"]
["","",null,null,null,null,null,null,null,null,null,null,null,null,null,null,"",{"$f":"IF(YEAR(L41)>1900,Einstellungen!$C$10-YEAR(L41),\"---\")","v":"---"},"0000-0000-f-19000100",1,24,"","",1,24,"","","0000","0000","f","19000100",1900,"01","00"]
["","",null,null,null,null,null,null,null,null,null,null,null,null,null,null,"",{"$f":"IF(YEAR(L42)>1900,Einstellungen!$C$10-YEAR(L42),\"---\")","v":"---"},"0000-0000-f-19000100",1,25,"","",1,25,"","","0000","0000","f","19000100",1900,"01","00"]
["","",null,null,null,null,null,null,null,null,null,null,null,null,null,null,"",{"$f":"IF(YEAR(L43)>1900,Einstellungen!$C$10-YEAR(L43),\"---\")","v":"---"},"0000-0000-f-19000100",1,26,"","",1,26,"","","0000","0000","f","19000100",1900,"01","00"]
["","",null,null,null,null,null,null,null,null,null,null,null,null,null,null,"",{"$f":"IF(YEAR(L44)>1900,Einstellungen!$C$10-YEAR(L44),\"---\")","v":"---"},"0000-0000-f-19000100",1,27,"","",1,27,"","","0000","0000","f","19000100",1900,"01","00"]
["","",null,null,null,null,null,null,null,null,null,null,null,null,null,null,"",{"$f":"IF(YEAR(L45)>1900,Einstellungen!$C$10-YEAR(L45),\"---\")","v":"---"},"0000-0000-f-19000100",1,28,"","",1,28,"","","0000","0000","f","19000100",1900,"01","00"]
["","",null,null,null,null,null,null,null,null,null,null,null,null,null,null,"",{"$f":"IF(YEAR(L46)>1900,Einstellungen!$C$10-YEAR(L46),\"---\")","v":"---"},"0000-0000-f-19000100",1,29,"","",1,29,"","","0000","0000","f","19000100",1900,"01","00"]
["","",null,null,null,null,null,null,null,null,null,null,null,null,null,null,"",{"$f":"IF(YEAR(L47)>1900,Einstellungen!$C$10-YEAR(L47),\"---\")","v":"---"},"0000-0000-f-19000100",1,30,"","",1,30,"","","0000","0000","f","19000100",1900,"01","00"]
["","",null,null,null,null,null,null,null,null,null,null,null,null,null,null,"",{"$f":"IF(YEAR(L48)>1900,Einstellungen!$C$10-YEAR(L48),\"---\")","v":"---"},"0000-0000-f-19000100",1,31,"","",1,31,"","","0000","0000","f","19000100",1900,"01","00"]
["","",null,null,null,null,null,null,null,null,null,null,null,null,null,null,"",{"$f":"IF(YEAR(L49)>1900,Einstellungen!$C$10-YEAR(L49),\"---\")","v":"---"},"0000-0000-f-19000100",1,32,"","",1,32,"","","0000","0000","f","19000100",1900,"01","00"]
["","",null,null,null,null,null,null,null,null,null,null,null,null,null,null,"",{"$f":"IF(YEAR(L50)>1900,Einstellungen!$C$10-YEAR(L50),\"---\")","v":"---"},"0000-0000-f-19000100",1,33,"","",1,33,"","","0000","0000","f","19000100",1900,"01","00"]
["","",null,null,null,null,null,null,null,null,null,null,null,null,null,null,"",{"$f":"IF(YEAR(L51)>1900,Einstellungen!$C$10-YEAR(L51),\"---\")","v":"---"},"0000-0000-f-19000100",1,34,"","",1,34,"","","0000","0000","f","19000100",1900,"01","00"]
["","",null,null,null,null,null,null,null,null,null,null,null,null,null,null,"",{"$f":"IF(YEAR(L52)>1900,Einstellungen!$C$10-YEAR(L52),\"---\")","v":"---"},"0000-0000-f-19000100",1,35,"","",1,35,"","","0000","0000","f","19000100",1900,"01","00"]
["","",null,null,null,null,null,null,null,null,null,null,null,null,null,null,"",{"$f":"IF(YEAR(L53)>1900,Einstellungen!$C$10-YEAR(L53),\"---\")","v":"---"},"0000-0000-f-19000100",1,36,"","",1,36,"","","0000","0000","f","19000100",1900,"01","00"]
["","",null,null,null,null,null,null,null,null,null,null,null,null,null,null,"",{"$f":"IF(YEAR(L54)>1900,Einstellungen!$C$10-YEAR(L54),\"---\")","v":"---"},"0000-0000-f-19000100",1,37,"","",1,37,"","","0000","0000","f","19000100",1900,"01","00"]
["","",null,null,null,null,null,null,null,null,null,null,null,null,null,null,"",{"$f":"IF(YEAR(L55)>1900,Einstellungen!$C$10-YEAR(L55),\"---\")","v":"---"},"0000-0000-f-19000100",1,38,"","",1,38,"","","0000","0000","f","19000100",1900,"01","00"]
["","",null,null,null,null,null,null,null,null,null,null,null,null,null,null,"",{"$f":"IF(YEAR(L56)>1900,Einstellungen!$C$10-YEAR(L56),\"---\")","v":"---"},"0000-0000-f-19000100",1,39,"","",1,39,"","","0000","0000","f","19000100",1900,"01","00"]
["","",null,null,null,null,null,null,null,null,null,null,null,null,null,null,"",{"$f":"IF(YEAR(L57)>1900,Einstellungen!$C$10-YEAR(L57),\"---\")","v":"---"},"0000-0000-f-19000100",1,40,"","",1,40,"","","0000","0000","f","19000100",1900,"01","00"]
["","",null,null,null,null,null,null,null,null,null,null,null,null,null,null,"",{"$f":"IF(YEAR(L58)>1900,Einstellungen!$C$10-YEAR(L58),\"---\")","v":"---"},"0000-0000-f-19000100",1,41,"","",1,41,"","","0000","0000","f","19000100",1900,"01","00"]
["","",null,null,null,null,null,null,null,null,null,null,null,null,null,null,"",{"$f":"IF(YEAR(L59)>1900,Einstellungen!$C$10-YEAR(L59),\"---\")","v":"---"},"0000-0000-f-19000100",1,42,"","",1,42,"","","0000","0000","f","19000100",1900,"01","00"]
["","",null,null,null,null,null,null,null,null,null,null,null,null,null,null,"",{"$f":"IF(YEAR(L60)>1900,Einstellungen!$C$10-YEAR(L60),\"---\")","v":"---"},"0000-0000-f-19000100",1,43,"","",1,43,"","","0000","0000","f","19000100",1900,"01","00"]
["","",null,null,null,null,null,null,null,null,null,null,null,null,null,null,"",{"$f":"IF(YEAR(L61)>1900,Einstellungen!$C$10-YEAR(L61),\"---\")","v":"---"},"0000-0000-f-19000100",1,44,"","",1,44,"","","0000","0000","f","19000100",1900,"01","00"]
["","",null,null,null,null,null,null,null,null,null,null,null,null,null,null,"",{"$f":"IF(YEAR(L62)>1900,Einstellungen!$C$10-YEAR(L62),\"---\")","v":"---"},"0000-0000-f-19000100",1,45,"","",1,45,"","","0000","0000","f","19000100",1900,"01","00"]
["","",null,null,null,null,null,null,null,null,null,null,null,null,null,null,"",{"$f":"IF(YEAR(L63)>1900,Einstellungen!$C$10-YEAR(L63),\"---\")","v":"---"},"0000-0000-f-19000100",1,46,"","",1,46,"","","0000","0000","f","19000100",1900,"01","00"]
["","",null,null,null,null,null,null,null,null,null,null,null,null,null,null,"",{"$f":"IF(YEAR(L64)>1900,Einstellungen!$C$10-YEAR(L64),\"---\")","v":"---"},"0000-0000-f-19000100",1,47,"","",1,47,"","","0000","0000","f","19000100",1900,"01","00"]
["","",null,null,null,null,null,null,null,null,null,null,null,null,null,null,"",{"$f":"IF(YEAR(L65)>1900,Einstellungen!$C$10-YEAR(L65),\"---\")","v":"---"},"0000-0000-f-19000100",1,48,"","",1,48,"","","0000","0000","f","19000100",1900,"01","00"]
["","",null,null,null,null,null,null,null,null,null,null,null,null,null,null,"",{"$f":"IF(YEAR(L66)>1900,Einstellungen!$C$10-YEAR(L66),\"---\")","v":"---"},"0000-0000-f-19000100",1,49,"","",1,49,"","","0000","0000","f","19000100",1900,"01","00"]
["","",null,null,null,null,null,null,null,null,null,null,null,null,null,null,"",{"$f":"IF(YEAR(L67)>1900,Einstellungen!$C$10-YEAR(L67),\"---\")","v":"---"},"0000-0000-f-19000100",1,50,"","",1,50,"","","0000","0000","f","19000100",1900,"01","00"]
["","",null,null,null,null,null,null,null,null,null,null,null,null,null,null,"",{"$f":"IF(YEAR(L68)>1900,Einstellungen!$C$10-YEAR(L68),\"---\")","v":"---"},"0000-0000-f-19000100",1,51,"","",1,51,"","","0000","0000","f","19000100",1900,"01","00"]
["","",null,null,null,null,null,null,null,null,null,null,null,null,null,null,"",{"$f":"IF(YEAR(L69)>1900,Einstellungen!$C$10-YEAR(L69),\"---\")","v":"---"},"0000-0000-f-19000100",1,52,"","",1,52,"","","0000","0000","f","19000100",1900,"01","00"]
["","",null,null,null,null,null,null,null,null,null,null,null,null,null,null,"",{"$f":"IF(YEAR(L70)>1900,Einstellungen!$C$10-YEAR(L70),\"---\")","v":"---"},"0000-0000-f-19000100",1,53,"","",1,53,"","","0000","0000","f","19000100",1900,"01","00"]
["","",null,null,null,null,null,null,null,null,null,null,null,null,null,null,"",{"$f":"IF(YEAR(L71)>1900,Einstellungen!$C$10-YEAR(L71),\"---\")","v":"---"},"0000-0000-f-19000100",1,54,"","",1,54,"","","0000","0000","f","19000100",1900,"01","00"]
["","",null,null,null,null,null,null,null,null,null,null,null,null,null,null,"",{"$f":"IF(YEAR(L72)>1900,Einstellungen!$C$10-YEAR(L72),\"---\")","v":"---"},"0000-0000-f-19000100",1,55,"","",1,55,"","","0000","0000","f","19000100",1900,"01","00"]
["","",null,null,null,null,null,null,null,null,null,null,null,null,null,null,"",{"$f":"IF(YEAR(L73)>1900,Einstellungen!$C$10-YEAR(L73),\"---\")","v":"---"},"0000-0000-f-19000100",1,56,"","",1,56,"","","0000","0000","f","19000100",1900,"01","00"]
["","",null,null,null,null,null,null,null,null,null,null,null,null,null,null,"",{"$f":"IF(YEAR(L74)>1900,Einstellungen!$C$10-YEAR(L74),\"---\")","v":"---"},"0000-0000-f-19000100",1,57,"","",1,57,"","","0000","0000","f","19000100",1900,"01","00"]
["","",null,null,null,null,null,null,null,null,null,null,null,null,null,null,"",{"$f":"IF(YEAR(L75)>1900,Einstellungen!$C$10-YEAR(L75),\"---\")","v":"---"},"0000-0000-f-19000100",1,58,"","",1,58,"","","0000","0000","f","19000100",1900,"01","00"]
["","",null,null,null,null,null,null,null,null,null,null,null,null,null,null,"",{"$f":"IF(YEAR(L76)>1900,Einstellungen!$C$10-YEAR(L76),\"---\")","v":"---"},"0000-0000-f-19000100",1,59,"","",1,59,"","","0000","0000","f","19000100",1900,"01","00"]
["","",null,null,null,null,null,null,null,null,null,null,null,null,null,null,"",{"$f":"IF(YEAR(L77)>1900,Einstellungen!$C$10-YEAR(L77),\"---\")","v":"---"},"0000-0000-f-19000100",1,60,"","",1,60,"","","0000","0000","f","19000100",1900,"01","00"]
["","",null,null,null,null,null,null,null,null,null,null,null,null,null,null,"",{"$f":"IF(YEAR(L78)>1900,Einstellungen!$C$10-YEAR(L78),\"---\")","v":"---"},"0000-0000-f-19000100",1,61,"","",1,61,"","","0000","0000","f","19000100",1900,"01","00"]
["","",null,null,null,null,null,null,null,null,null,null,null,null,null,null,"",{"$f":"IF(YEAR(L79)>1900,Einstellungen!$C$10-YEAR(L79),\"---\")","v":"---"},"0000-0000-f-19000100",1,62,"","",1,62,"","","0000","0000","f","19000100",1900,"01","00"]
["","",null,null,null,null,null,null,null,null,null,null,null,null,null,null,"",{"$f":"IF(YEAR(L80)>1900,Einstellungen!$C$10-YEAR(L80),\"---\")","v":"---"},"0000-0000-f-19000100",1,63,"","",1,63,"","","0000","0000","f","19000100",1900,"01","00"]
["","",null,null,null,null,null,null,null,null,null,null,null,null,null,null,"",{"$f":"IF(YEAR(L81)>1900,Einstellungen!$C$10-YEAR(L81),\"---\")","v":"---"},"0000-0000-f-19000100",1,64,"","",1,64,"","","0000","0000","f","19000100",1900,"01","00"]
["","",null,null,null,null,null,null,null,null,null,null,null,null,null,null,{"$f":"IF(LEN(D82)>0,IF(P82=\"x\",\"\",\"x\"),\"\")","v":""},{"$f":"IF(YEAR(L82)>1900,Einstellungen!$C$10-YEAR(L82),\"---\")","v":"---"},"0000-0000-f-19000100",1,65,"","",1,65,"","","0000","0000","f","19000100",1900,"01","00"]
["","",null,null,null,null,null,null,null,null,null,null,null,null,null,null,"",{"$f":"IF(YEAR(L83)>1900,Einstellungen!$C$10-YEAR(L83),\"---\")","v":"---"},{"$f":"AB83 & \"-\" & AC83 & \"-\" & AD83 & \"-\" & AE83","v":"0000-0000-f-19000100"},{"$f":"IF(R83<=$AE$12,1,0)","v":1},{"$f":"IF(T83=1,U82+1,U82)","v":66},{"$f":"IF((M83+N83)>0,IF(T83=1,U83,\"-\"),\"\")","v":""},{"$f":"Z83 & AA83","v":""},{"$f":"IF(LEN(C83)>0, 0, T83)","v":1},{"$f":"Y82+X83","v":66},{"$f":"IF(X83=1,IF(Y83<=$Z$12,\"Q\",\"\"),\"\")","v":""},{"$f":"IF(X83=1, IF(Y83>$Z$12, IF(Y83<=($Z$12+$AA$12),\"R\",\"\"),\"\"), \"\")","v":""},{"$f":"IF(M83<1,\"0000\", IF(M83<10,\"000\"&M83, IF(M83<100,\"00\"&M83, IF(M83<1000,\"0\"&M83,\"\"& M83))))","v":"0000"},"0000",{"$f":"IF(O83=\"a\",\"a\",\"f\")","v":"f"},{"$f":"AF83&AG83&AH83","v":"19000100"},{"$f":"YEAR(L83)","v":1900},{"$f":"IF(MONTH(L83)<10,\"0\"&MONTH(L83),MONTH(L83))","v":"01"},{"$f":"IF(DAY(L83)<10,\"0\"&DAY(L83),DAY(L83))","v":"00"}]
["","",null,null,null,null,null,null,null,null,null,null,null,null,null,null,"",{"$f":"IF(YEAR(L84)>1900,Einstellungen!$C$10-YEAR(L84),\"---\")","v":"---"},"0000-0000-f-19000100",1,67,"","",1,67,"","","0000","0000","f","19000100",1900,"01","00"]
["","",null,null,null,null,null,null,null,null,null,null,null,null,null,null,"",{"$f":"IF(YEAR(L85)>1900,Einstellungen!$C$10-YEAR(L85),\"---\")","v":"---"},"0000-0000-f-19000100",1,68,"","",1,68,"","","0000","0000","f","19000100",1900,"01","00"]
["","",null,null,null,null,null,null,null,null,null,null,null,null,null,null,"",{"$f":"IF(YEAR(L86)>1900,Einstellungen!$C$10-YEAR(L86),\"---\")","v":"---"},"0000-0000-f-19000100",1,69,"","",1,69,"","","0000","0000","f","19000100",1900,"01","00"]
["","",null,null,null,null,null,null,null,null,null,null,null,null,null,null,"",{"$f":"IF(YEAR(L87)>1900,Einstellungen!$C$10-YEAR(L87),\"---\")","v":"---"},"0000-0000-f-19000100",1,70,"","",1,70,"","","0000","0000","f","19000100",1900,"01","00"]
["","",null,null,null,null,null,null,null,null,null,null,null,null,null,null,"",{"$f":"IF(YEAR(L88)>1900,Einstellungen!$C$10-YEAR(L88),\"---\")","v":"---"},"0000-0000-f-19000100",1,71,"","",1,71,"","","0000","0000","f","19000100",1900,"01","00"]
["","",null,null,null,null,null,null,null,null,null,null,null,null,null,null,"",{"$f":"IF(YEAR(L89)>1900,Einstellungen!$C$10-YEAR(L89),\"---\")","v":"---"},"0000-0000-f-19000100",1,72,"","",1,72,"","","0000","0000","f","19000100",1900,"01","00"]
["","",null,null,null,null,null,null,null,null,null,null,null,null,null,null,"",{"$f":"IF(YEAR(L90)>1900,Einstellungen!$C$10-YEAR(L90),\"---\")","v":"---"},"0000-0000-f-19000100",1,73,"","",1,73,"","","0000","0000","f","19000100",1900,"01","00"]
["","",null,null,null,null,null,null,null,null,null,null,null,null,null,null,"",{"$f":"IF(YEAR(L91)>1900,Einstellungen!$C$10-YEAR(L91),\"---\")","v":"---"},"0000-0000-f-19000100",1,74,"","",1,74,"","","0000","0000","f","19000100",1900,"01","00"]
["","",null,null,null,null,null,null,null,null,null,null,null,null,null,null,"",{"$f":"IF(YEAR(L92)>1900,Einstellungen!$C$10-YEAR(L92),\"---\")","v":"---"},"0000-0000-f-19000100",1,75,"","",1,75,"","","0000","0000","f","19000100",1900,"01","00"]
["","",null,null,null,null,null,null,null,null,null,null,null,null,null,null,"",{"$f":"IF(YEAR(L93)>1900,Einstellungen!$C$10-YEAR(L93),\"---\")","v":"---"},"0000-0000-f-19000100",1,76,"","",1,76,"","","0000","0000","f","19000100",1900,"01","00"]
["","",null,null,null,null,null,null,null,null,null,null,null,null,null,null,"",{"$f":"IF(YEAR(L94)>1900,Einstellungen!$C$10-YEAR(L94),\"---\")","v":"---"},"0000-0000-f-19000100",1,77,"","",1,77,"","","0000","0000","f","19000100",1900,"01","00"]
["","",null,null,null,null,null,null,null,null,null,null,null,null,null,null,"",{"$f":"IF(YEAR(L95)>1900,Einstellungen!$C$10-YEAR(L95),\"---\")","v":"---"},"0000-0000-f-19000100",1,78,"","",1,78,"","","0000","0000","f","19000100",1900,"01","00"]
["","",null,null,null,null,null,null,null,null,null,null,null,null,null,null,"",{"$f":"IF(YEAR(L96)>1900,Einstellungen!$C$10-YEAR(L96),\"---\")","v":"---"},"0000-0000-f-19000100",1,79,"","",1,79,"","","0000","0000","f","19000100",1900,"01","00"]
["","",null,null,null,null,null,null,null,null,null,null,null,null,null,null,"",{"$f":"IF(YEAR(L97)>1900,Einstellungen!$C$10-YEAR(L97),\"---\")","v":"---"},"0000-0000-f-19000100",1,80,"","",1,80,"","","0000","0000","f","19000100",1900,"01","00"]
["","",null,null,null,null,null,null,null,null,null,null,null,null,null,null,"",{"$f":"IF(YEAR(L98)>1900,Einstellungen!$C$10-YEAR(L98),\"---\")","v":"---"},"0000-0000-f-19000100",1,81,"","",1,81,"","","0000","0000","f","19000100",1900,"01","00"]
["","",null,null,null,null,null,null,null,null,null,null,null,null,null,null,"",{"$f":"IF(YEAR(L99)>1900,Einstellungen!$C$10-YEAR(L99),\"---\")","v":"---"},"0000-0000-f-19000100",1,82,"","",1,82,"","","0000","0000","f","19000100",1900,"01","00"]
["","",null,null,null,null,null,null,null,null,null,null,null,null,null,null,"",{"$f":"IF(YEAR(L100)>1900,Einstellungen!$C$10-YEAR(L100),\"---\")","v":"---"},"0000-0000-f-19000100",1,83,"","",1,83,"","","0000","0000","f","19000100",1900,"01","00"]
["","",null,null,null,null,null,null,null,null,null,null,null,null,null,null,"",{"$f":"IF(YEAR(L101)>1900,Einstellungen!$C$10-YEAR(L101),\"---\")","v":"---"},"0000-0000-f-19000100",1,84,"","",1,84,"","","0000","0000","f","19000100",1900,"01","00"]
["","",null,null,null,null,null,null,null,null,null,null,null,null,null,null,"",{"$f":"IF(YEAR(L102)>1900,Einstellungen!$C$10-YEAR(L102),\"---\")","v":"---"},"0000-0000-f-19000100",1,85,"","",1,85,"","","0000","0000","f","19000100",1900,"01","00"]
["","",null,null,null,null,null,null,null,null,null,null,null,null,null,null,"",{"$f":"IF(YEAR(L103)>1900,Einstellungen!$C$10-YEAR(L103),\"---\")","v":"---"},"0000-0000-f-19000100",1,86,"","",1,86,"","","0000","0000","f","19000100",1900,"01","00"]
["","",null,null,null,null,null,null,null,null,null,null,null,null,null,null,"",{"$f":"IF(YEAR(L104)>1900,Einstellungen!$C$10-YEAR(L104),\"---\")","v":"---"},"0000-0000-f-19000100",1,87,"","",1,87,"","","0000","0000","f","19000100",1900,"01","00"]
["","",null,null,null,null,null,null,null,null,null,null,null,null,null,null,"",{"$f":"IF(YEAR(L105)>1900,Einstellungen!$C$10-YEAR(L105),\"---\")","v":"---"},"0000-0000-f-19000100",1,88,"","",1,88,"","","0000","0000","f","19000100",1900,"01","00"]
["","",null,null,null,null,null,null,null,null,null,null,null,null,null,null,"",{"$f":"IF(YEAR(L106)>1900,Einstellungen!$C$10-YEAR(L106),\"---\")","v":"---"},"0000-0000-f-19000100",1,89,"","",1,89,"","","0000","0000","f","19000100",1900,"01","00"]
["","",null,null,null,null,null,null,null,null,null,null,null,null,null,null,"",{"$f":"IF(YEAR(L107)>1900,Einstellungen!$C$10-YEAR(L107),\"---\")","v":"---"},"0000-0000-f-19000100",1,90,"","",1,90,"","","0000","0000","f","19000100",1900,"01","00"]
["","",null,null,null,null,null,null,null,null,null,null,null,null,null,null,"",{"$f":"IF(YEAR(L108)>1900,Einstellungen!$C$10-YEAR(L108),\"---\")","v":"---"},"0000-0000-f-19000100",1,91,"","",1,91,"","","0000","0000","f","19000100",1900,"01","00"]
["","",null,null,null,null,null,null,null,null,null,null,null,null,null,null,"",{"$f":"IF(YEAR(L109)>1900,Einstellungen!$C$10-YEAR(L109),\"---\")","v":"---"},"0000-0000-f-19000100",1,92,"","",1,92,"","","0000","0000","f","19000100",1900,"01","00"]
["","",null,null,null,null,null,null,null,null,null,null,null,null,null,null,"",{"$f":"IF(YEAR(L110)>1900,Einstellungen!$C$10-YEAR(L110),\"---\")","v":"---"},"0000-0000-f-19000100",1,93,"","",1,93,"","","0000","0000","f","19000100",1900,"01","00"]
["","",null,null,null,null,null,null,null,null,null,null,null,null,null,null,"",{"$f":"IF(YEAR(L111)>1900,Einstellungen!$C$10-YEAR(L111),\"---\")","v":"---"},"0000-0000-f-19000100",1,94,"","",1,94,"","","0000","0000","f","19000100",1900,"01","00"]
["","",null,null,null,null,null,null,null,null,null,null,null,null,null,null,"",{"$f":"IF(YEAR(L112)>1900,Einstellungen!$C$10-YEAR(L112),\"---\")","v":"---"},"0000-0000-f-19000100",1,95,"","",1,95,"","","0000","0000","f","19000100",1900,"01","00"]
["","",null,null,null,null,null,null,null,null,null,null,null,null,null,null,"",{"$f":"IF(YEAR(L113)>1900,Einstellungen!$C$10-YEAR(L113),\"---\")","v":"---"},"0000-0000-f-19000100",1,96,"","",1,96,"","","0000","0000","f","19000100",1900,"01","00"]
["","",null,null,null,null,null,null,null,null,null,null,null,null,null,null,"",{"$f":"IF(YEAR(L114)>1900,Einstellungen!$C$10-YEAR(L114),\"---\")","v":"---"},"0000-0000-f-19000100",1,97,"","",1,97,"","","0000","0000","f","19000100",1900,"01","00"]
["","",null,null,null,null,null,null,null,null,null,null,null,null,null,null,"",{"$f":"IF(YEAR(L115)>1900,Einstellungen!$C$10-YEAR(L115),\"---\")","v":"---"},"0000-0000-f-19000100",1,98,"","",1,98,"","","0000","0000","f","19000100",1900,"01","00"]
["","",null,null,null,null,null,null,null,null,null,null,null,null,null,null,"",{"$f":"IF(YEAR(L116)>1900,Einstellungen!$C$10-YEAR(L116),\"---\")","v":"---"},"0000-0000-f-19000100",1,99,"","",1,99,"","","0000","0000","f","19000100",1900,"01","00"]
["","",null,null,null,null,null,null,null,null,null,null,null,null,null,null,"",{"$f":"IF(YEAR(L117)>1900,Einstellungen!$C$10-YEAR(L117),\"---\")","v":"---"},"0000-0000-f-19000100",1,100,"","",1,100,"","","0000","0000","f","19000100",1900,"01","00"]
["","",null,null,null,null,null,null,null,null,null,null,null,null,null,null,"",{"$f":"IF(YEAR(L118)>1900,Einstellungen!$C$10-YEAR(L118),\"---\")","v":"---"},"0000-0000-f-19000100",1,101,"","",1,101,"","","0000","0000","f","19000100",1900,"01","00"]
["","",null,null,null,null,null,null,null,null,null,null,null,null,null,null,"",{"$f":"IF(YEAR(L119)>1900,Einstellungen!$C$10-YEAR(L119),\"---\")","v":"---"},"0000-0000-f-19000100",1,102,"","",1,102,"","","0000","0000","f","19000100",1900,"01","00"]
["","",null,null,null,null,null,null,null,null,null,null,null,null,null,null,"",{"$f":"IF(YEAR(L120)>1900,Einstellungen!$C$10-YEAR(L120),\"---\")","v":"---"},"0000-0000-f-19000100",1,103,"","",1,103,"","","0000","0000","f","19000100",1900,"01","00"]
["","",null,null,null,null,null,null,null,null,null,null,null,null,null,null,"",{"$f":"IF(YEAR(L121)>1900,Einstellungen!$C$10-YEAR(L121),\"---\")","v":"---"},"0000-0000-f-19000100",1,104,"","",1,104,"","","0000","0000","f","19000100",1900,"01","00"]
["","",null,null,null,null,null,null,null,null,null,null,null,null,null,null,"",{"$f":"IF(YEAR(L122)>1900,Einstellungen!$C$10-YEAR(L122),\"---\")","v":"---"},"0000-0000-f-19000100",1,105,"","",1,105,"","","0000","0000","f","19000100",1900,"01","00"]
["","",null,null,null,null,null,null,null,null,null,null,null,null,null,null,"",{"$f":"IF(YEAR(L123)>1900,Einstellungen!$C$10-YEAR(L123),\"---\")","v":"---"},"0000-0000-f-19000100",1,106,"","",1,106,"","","0000","0000","f","19000100",1900,"01","00"]
["","",null,null,null,null,null,null,null,null,null,null,null,null,null,null,"",{"$f":"IF(YEAR(L124)>1900,Einstellungen!$C$10-YEAR(L124),\"---\")","v":"---"},"0000-0000-f-19000100",1,107,"","",1,107,"","","0000","0000","f","19000100",1900,"01","00"]
["","",null,null,null,null,null,null,null,null,null,null,null,null,null,null,"",{"$f":"IF(YEAR(L125)>1900,Einstellungen!$C$10-YEAR(L125),\"---\")","v":"---"},"0000-0000-f-19000100",1,108,"","",1,108,"","","0000","0000","f","19000100",1900,"01","00"]
["","",null,null,null,null,null,null,null,null,null,null,null,null,null,null,"",{"$f":"IF(YEAR(L126)>1900,Einstellungen!$C$10-YEAR(L126),\"---\")","v":"---"},"0000-0000-f-19000100",1,109,"","",1,109,"","","0000","0000","f","19000100",1900,"01","00"]
["","",null,null,null,null,null,null,null,null,null,null,null,null,null,null,"",{"$f":"IF(YEAR(L127)>1900,Einstellungen!$C$10-YEAR(L127),\"---\")","v":"---"},"0000-0000-f-19000100",1,110,"","",1,110,"","","0000","0000","f","19000100",1900,"01","00"]
["","",null,null,null,null,null,null,null,null,null,null,null,null,null,null,"",{"$f":"IF(YEAR(L128)>1900,Einstellungen!$C$10-YEAR(L128),\"---\")","v":"---"},"0000-0000-f-19000100",1,111,"","",1,111,"","","0000","0000","f","19000100",1900,"01","00"]
["","",null,null,null,null,null,null,null,null,null,null,null,null,null,null,"",{"$f":"IF(YEAR(L129)>1900,Einstellungen!$C$10-YEAR(L129),\"---\")","v":"---"},"0000-0000-f-19000100",1,112,"","",1,112,"","","0000","0000","f","19000100",1900,"01","00"]
["","",null,null,null,null,null,null,null,null,null,null,null,null,null,null,"",{"$f":"IF(YEAR(L130)>1900,Einstellungen!$C$10-YEAR(L130),\"---\")","v":"---"},"0000-0000-f-19000100",1,113,"","",1,113,"","","0000","0000","f","19000100",1900,"01","00"]
["","",null,null,null,null,null,null,null,null,null,null,null,null,null,null,"",{"$f":"IF(YEAR(L131)>1900,Einstellungen!$C$10-YEAR(L131),\"---\")","v":"---"},"0000-0000-f-19000100",1,114,"","",1,114,"","","0000","0000","f","19000100",1900,"01","00"]
["","",null,null,null,null,null,null,null,null,null,null,null,null,null,null,"",{"$f":"IF(YEAR(L132)>1900,Einstellungen!$C$10-YEAR(L132),\"---\")","v":"---"},"0000-0000-f-19000100",1,115,"","",1,115,"","","0000","0000","f","19000100",1900,"01","00"]
["","",null,null,null,null,null,null,null,null,null,null,null,null,null,null,"",{"$f":"IF(YEAR(L133)>1900,Einstellungen!$C$10-YEAR(L133),\"---\")","v":"---"},"0000-0000-f-19000100",1,116,"","",1,116,"","","0000","0000","f","19000100",1900,"01","00"]
["","",null,null,null,null,null,null,null,null,null,null,null,null,null,null,"",{"$f":"IF(YEAR(L134)>1900,Einstellungen!$C$10-YEAR(L134),\"---\")","v":"---"},"0000-0000-f-19000100",1,117,"","",1,117,"","","0000","0000","f","19000100",1900,"01","00"]
["","",null,null,null,null,null,null,null,null,null,null,null,null,null,null,"",{"$f":"IF(YEAR(L135)>1900,Einstellungen!$C$10-YEAR(L135),\"---\")","v":"---"},"0000-0000-f-19000100",1,118,"","",1,118,"","","0000","0000","f","19000100",1900,"01","00"]
["","",null,null,null,null,null,null,null,null,null,null,null,null,null,null,"",{"$f":"IF(YEAR(L136)>1900,Einstellungen!$C$10-YEAR(L136),\"---\")","v":"---"},"0000-0000-f-19000100",1,119,"","",1,119,"","","0000","0000","f","19000100",1900,"01","00"]
["","",null,null,null,null,null,null,null,null,null,null,null,null,null,null,"",{"$f":"IF(YEAR(L137)>1900,Einstellungen!$C$10-YEAR(L137),\"---\")","v":"---"},"0000-0000-f-19000100",1,120,"","",1,120,"","","0000","0000","f","19000100",1900,"01","00"]
["","",null,null,null,null,null,null,null,null,null,null,null,null,null,null,"",{"$f":"IF(YEAR(L138)>1900,Einstellungen!$C$10-YEAR(L138),\"---\")","v":"---"},"0000-0000-f-19000100",1,121,"","",1,121,"","","0000","0000","f","19000100",1900,"01","00"]
["","",null,null,null,null,null,null,null,null,null,null,null,null,null,null,"",{"$f":"IF(YEAR(L139)>1900,Einstellungen!$C$10-YEAR(L139),\"---\")","v":"---"},"0000-0000-f-19000100",1,122,"","",1,122,"","","0000","0000","f","19000100",1900,"01","00"]
["","",null,null,null,null,null,null,null,null,null,null,null,null,null,null,"",{"$f":"IF(YEAR(L140)>1900,Einstellungen!$C$10-YEAR(L140),\"---\")","v":"---"},"0000-0000-f-19000100",1,123,"","",1,123,"","","0000","0000","f","19000100",1900,"01","00"]
["","",null,null,null,null,null,null,null,null,null,null,null,null,null,null,"",{"$f":"IF(YEAR(L141)>1900,Einstellungen!$C$10-YEAR(L141),\"---\")","v":"---"},"0000-0000-f-19000100",1,124,"","",1,124,"","","0000","0000","f","19000100",1900,"01","00"]
["","",null,null,null,null,null,null,null,null,null,null,null,null,null,null,"",{"$f":"IF(YEAR(L142)>1900,Einstellungen!$C$10-YEAR(L142),\"---\")","v":"---"},"0000-0000-f-19000100",1,125,"","",1,125,"","","0000","0000","f","19000100",1900,"01","00"]
["","",null,null,null,null,null,null,null,null,null,null,null,null,null,null,"",{"$f":"IF(YEAR(L143)>1900,Einstellungen!$C$10-YEAR(L143),\"---\")","v":"---"},"0000-0000-f-19000100",1,126,"","",1,126,"","","0000","0000","f","19000100",1900,"01","00"]
["","",null,null,null,null,null,null,null,null,null,null,null,null,null,null,"",{"$f":"IF(YEAR(L144)>1900,Einstellungen!$C$10-YEAR(L144),\"---\")","v":"---"},"0000-0000-f-19000100",1,127,"","",1,127,"","","0000","0000","f","19000100",1900,"01","00"]
["","",null,null,null,null,null,null,null,null,null,null,null,null,null,null,"",{"$f":"IF(YEAR(L145)>1900,Einstellungen!$C$10-YEAR(L145),\"---\")","v":"---"},"0000-0000-f-19000100",1,128,"","",1,128,"","","0000","0000","f","19000100",1900,"01","00"]
["","",null,null,null,null,null,null,null,null,null,null,null,null,null,null,{"$f":"IF(LEN(D146)>0,IF(P146=\"x\",\"\",\"x\"),\"\")","v":""},{"$f":"IF(YEAR(L146)>1900,Einstellungen!$C$10-YEAR(L146),\"---\")","v":"---"},"0000-0000-f-19000100",1,129,"","",1,129,"","","0000","0000","f","19000100",1900,"01","00"]
["","",null,null,null,null,null,null,null,null,null,null,null,null,null,null,"",{"$f":"IF(YEAR(L147)>1900,Einstellungen!$C$10-YEAR(L147),\"---\")","v":"---"},{"$f":"AB147 & \"-\" & AC147 & \"-\" & AD147 & \"-\" & AE147","v":"0000-0000-f-19000100"},{"$f":"IF(R147<=$AE$12,1,0)","v":1},{"$f":"IF(T147=1,U146+1,U146)","v":130},{"$f":"IF((M147+N147)>0,IF(T147=1,U147,\"-\"),\"\")","v":""},{"$f":"Z147 & AA147","v":""},{"$f":"IF(LEN(C147)>0, 0, T147)","v":1},{"$f":"Y146+X147","v":130},{"$f":"IF(X147=1,IF(Y147<=$Z$12,\"Q\",\"\"),\"\")","v":""},{"$f":"IF(X147=1, IF(Y147>$Z$12, IF(Y147<=($Z$12+$AA$12),\"R\",\"\"),\"\"), \"\")","v":""},{"$f":"IF(M147<1,\"0000\", IF(M147<10,\"000\"&M147, IF(M147<100,\"00\"&M147, IF(M147<1000,\"0\"&M147,\"\"& M147))))","v":"0000"},"0000",{"$f":"IF(O147=\"a\",\"a\",\"f\")","v":"f"},{"$f":"AF147&AG147&AH147","v":"19000100"},{"$f":"YEAR(L147)","v":1900},{"$f":"IF(MONTH(L147)<10,\"0\"&MONTH(L147),MONTH(L147))","v":"01"},{"$f":"IF(DAY(L147)<10,\"0\"&DAY(L147),DAY(L147))","v":"00"}]
["","",null,null,null,null,null,null,null,null,null,null,null,null,null,null,"",{"$f":"IF(YEAR(L148)>1900,Einstellungen!$C$10-YEAR(L148),\"---\")","v":"---"},"0000-0000-f-19000100",1,131,"","",1,131,"","","0000","0000","f","19000100",1900,"01","00"]
["","",null,null,null,null,null,null,null,null,null,null,null,null,null,null,"",{"$f":"IF(YEAR(L149)>1900,Einstellungen!$C$10-YEAR(L149),\"---\")","v":"---"},"0000-0000-f-19000100",1,132,"","",1,132,"","","0000","0000","f","19000100",1900,"01","00"]
["","",null,null,null,null,null,null,null,null,null,null,null,null,null,null,"",{"$f":"IF(YEAR(L150)>1900,Einstellungen!$C$10-YEAR(L150),\"---\")","v":"---"},"0000-0000-f-19000100",1,133,"","",1,133,"","","0000","0000","f","19000100",1900,"01","00"]
["","",null,null,null,null,null,null,null,null,null,null,null,null,null,null,"",{"$f":"IF(YEAR(L151)>1900,Einstellungen!$C$10-YEAR(L151),\"---\")","v":"---"},"0000-0000-f-19000100",1,134,"","",1,134,"","","0000","0000","f","19000100",1900,"01","00"]
["","",null,null,null,null,null,null,null,null,null,null,null,null,null,null,"",{"$f":"IF(YEAR(L152)>1900,Einstellungen!$C$10-YEAR(L152),\"---\")","v":"---"},"0000-0000-f-19000100",1,135,"","",1,135,"","","0000","0000","f","19000100",1900,"01","00"]
["","",null,null,null,null,null,null,null,null,null,null,null,null,null,null,"",{"$f":"IF(YEAR(L153)>1900,Einstellungen!$C$10-YEAR(L153),\"---\")","v":"---"},"0000-0000-f-19000100",1,136,"","",1,136,"","","0000","0000","f","19000100",1900,"01","00"]
["","",null,null,null,null,null,null,null,null,null,null,null,null,null,null,"",{"$f":"IF(YEAR(L154)>1900,Einstellungen!$C$10-YEAR(L154),\"---\")","v":"---"},"0000-0000-f-19000100",1,137,"","",1,137,"","","0000","0000","f","19000100",1900,"01","00"]
["","",null,null,null,null,null,null,null,null,null,null,null,null,null,null,"",{"$f":"IF(YEAR(L155)>1900,Einstellungen!$C$10-YEAR(L155),\"---\")","v":"---"},"0000-0000-f-19000100",1,138,"","",1,138,"","","0000","0000","f","19000100",1900,"01","00"]
["","",null,null,null,null,null,null,null,null,null,null,null,null,null,null,"",{"$f":"IF(YEAR(L156)>1900,Einstellungen!$C$10-YEAR(L156),\"---\")","v":"---"},"0000-0000-f-19000100",1,139,"","",1,139,"","","0000","0000","f","19000100",1900,"01","00"]
["","",null,null,null,null,null,null,null,null,null,null,null,null,null,null,"",{"$f":"IF(YEAR(L157)>1900,Einstellungen!$C$10-YEAR(L157),\"---\")","v":"---"},"0000-0000-f-19000100",1,140,"","",1,140,"","","0000","0000","f","19000100",1900,"01","00"]
["","",null,null,null,null,null,null,null,null,null,null,null,null,null,null,"",{"$f":"IF(YEAR(L158)>1900,Einstellungen!$C$10-YEAR(L158),\"---\")","v":"---"},"0000-0000-f-19000100",1,141,"","",1,141,"","","0000","0000","f","19000100",1900,"01","00"]
["","",null,null,null,null,null,null,null,null,null,null,null,null,null,null,"",{"$f":"IF(YEAR(L159)>1900,Einstellungen!$C$10-YEAR(L159),\"---\")","v":"---"},"0000-0000-f-19000100",1,142,"","",1,142,"","","0000","0000","f","19000100",1900,"01","00"]
["","",null,null,null,null,null,null,null,null,null,null,null,null,null,null,"",{"$f":"IF(YEAR(L160)>1900,Einstellungen!$C$10-YEAR(L160),\"---\")","v":"---"},"0000-0000-f-19000100",1,143,"","",1,143,"","","0000","0000","f","19000100",1900,"01","00"]
["","",null,null,null,null,null,null,null,null,null,null,null,null,null,null,"",{"$f":"IF(YEAR(L161)>1900,Einstellungen!$C$10-YEAR(L161),\"---\")","v":"---"},"0000-0000-f-19000100",1,144,"","",1,144,"","","0000","0000","f","19000100",1900,"01","00"]
["","",null,null,null,null,null,null,null,null,null,null,null,null,null,null,"",{"$f":"IF(YEAR(L162)>1900,Einstellungen!$C$10-YEAR(L162),\"---\")","v":"---"},"0000-0000-f-19000100",1,145,"","",1,145,"","","0000","0000","f","19000100",1900,"01","00"]
["","",null,null,null,null,null,null,null,null,null,null,null,null,null,null,"",{"$f":"IF(YEAR(L163)>1900,Einstellungen!$C$10-YEAR(L163),\"---\")","v":"---"},"0000-0000-f-19000100",1,146,"","",1,146,"","","0000","0000","f","19000100",1900,"01","00"]
["","",null,null,null,null,null,null,null,null,null,null,null,null,null,null,"",{"$f":"IF(YEAR(L164)>1900,Einstellungen!$C$10-YEAR(L164),\"---\")","v":"---"},"0000-0000-f-19000100",1,147,"","",1,147,"","","0000","0000","f","19000100",1900,"01","00"]
["","",null,null,null,null,null,null,null,null,null,null,null,null,null,null,"",{"$f":"IF(YEAR(L165)>1900,Einstellungen!$C$10-YEAR(L165),\"---\")","v":"---"},"0000-0000-f-19000100",1,148,"","",1,148,"","","0000","0000","f","19000100",1900,"01","00"]
["","",null,null,null,null,null,null,null,null,null,null,null,null,null,null,"",{"$f":"IF(YEAR(L166)>1900,Einstellungen!$C$10-YEAR(L166),\"---\")","v":"---"},"0000-0000-f-19000100",1,149,"","",1,149,"","","0000","0000","f","19000100",1900,"01","00"]
["","",null,null,null,null,null,null,null,null,null,null,null,null,null,null,"",{"$f":"IF(YEAR(L167)>1900,Einstellungen!$C$10-YEAR(L167),\"---\")","v":"---"},"0000-0000-f-19000100",1,150,"","",1,150,"","","0000","0000","f","19000100",1900,"01","00"]
["","",null,null,null,null,null,null,null,null,null,null,null,null,null,null,"",{"$f":"IF(YEAR(L168)>1900,Einstellungen!$C$10-YEAR(L168),\"---\")","v":"---"},"0000-0000-f-19000100",1,151,"","",1,151,"","","0000","0000","f","19000100",1900,"01","00"]
["","",null,null,null,null,null,null,null,null,null,null,null,null,null,null,"",{"$f":"IF(YEAR(L169)>1900,Einstellungen!$C$10-YEAR(L169),\"---\")","v":"---"},"0000-0000-f-19000100",1,152,"","",1,152,"","","0000","0000","f","19000100",1900,"01","00"]
["","",null,null,null,null,null,null,null,null,null,null,null,null,null,null,"",{"$f":"IF(YEAR(L170)>1900,Einstellungen!$C$10-YEAR(L170),\"---\")","v":"---"},"0000-0000-f-19000100",1,153,"","",1,153,"","","0000","0000","f","19000100",1900,"01","00"]
["","",null,null,null,null,null,null,null,null,null,null,null,null,null,null,"",{"$f":"IF(YEAR(L171)>1900,Einstellungen!$C$10-YEAR(L171),\"---\")","v":"---"},"0000-0000-f-19000100",1,154,"","",1,154,"","","0000","0000","f","19000100",1900,"01","00"]
["","",null,null,null,null,null,null,null,null,null,null,null,null,null,null,"",{"$f":"IF(YEAR(L172)>1900,Einstellungen!$C$10-YEAR(L172),\"---\")","v":"---"},"0000-0000-f-19000100",1,155,"","",1,155,"","","0000","0000","f","19000100",1900,"01","00"]
["","",null,null,null,null,null,null,null,null,null,null,null,null,null,null,"",{"$f":"IF(YEAR(L173)>1900,Einstellungen!$C$10-YEAR(L173),\"---\")","v":"---"},"0000-0000-f-19000100",1,156,"","",1,156,"","","0000","0000","f","19000100",1900,"01","00"]
["","",null,null,null,null,null,null,null,null,null,null,null,null,null,null,"",{"$f":"IF(YEAR(L174)>1900,Einstellungen!$C$10-YEAR(L174),\"---\")","v":"---"},"0000-0000-f-19000100",1,157,"","",1,157,"","","0000","0000","f","19000100",1900,"01","00"]
["","",null,null,null,null,null,null,null,null,null,null,null,null,null,null,"",{"$f":"IF(YEAR(L175)>1900,Einstellungen!$C$10-YEAR(L175),\"---\")","v":"---"},"0000-0000-f-19000100",1,158,"","",1,158,"","","0000","0000","f","19000100",1900,"01","00"]
["","",null,null,null,null,null,null,null,null,null,null,null,null,null,null,"",{"$f":"IF(YEAR(L176)>1900,Einstellungen!$C$10-YEAR(L176),\"---\")","v":"---"},"0000-0000-f-19000100",1,159,"","",1,159,"","","0000","0000","f","19000100",1900,"01","00"]
["","",null,null,null,null,null,null,null,null,null,null,null,null,null,null,"",{"$f":"IF(YEAR(L177)>1900,Einstellungen!$C$10-YEAR(L177),\"---\")","v":"---"},"0000-0000-f-19000100",1,160,"","",1,160,"","","0000","0000","f","19000100",1900,"01","00"]
["","",null,null,null,null,null,null,null,null,null,null,null,null,null,null,"",{"$f":"IF(YEAR(L178)>1900,Einstellungen!$C$10-YEAR(L178),\"---\")","v":"---"},"0000-0000-f-19000100",1,161,"","",1,161,"","","0000","0000","f","19000100",1900,"01","00"]
["","",null,null,null,null,null,null,null,null,null,null,null,null,null,null,"",{"$f":"IF(YEAR(L179)>1900,Einstellungen!$C$10-YEAR(L179),\"---\")","v":"---"},"0000-0000-f-19000100",1,162,"","",1,162,"","","0000","0000","f","19000100",1900,"01","00"]
["","",null,null,null,null,null,null,null,null,null,null,null,null,null,null,"",{"$f":"IF(YEAR(L180)>1900,Einstellungen!$C$10-YEAR(L180),\"---\")","v":"---"},"0000-0000-f-19000100",1,163,"","",1,163,"","","0000","0000","f","19000100",1900,"01","00"]
["","",null,null,null,null,null,null,null,null,null,null,null,null,null,null,"",{"$f":"IF(YEAR(L181)>1900,Einstellungen!$C$10-YEAR(L181),\"---\")","v":"---"},"0000-0000-f-19000100",1,164,"","",1,164,"","","0000","0000","f","19000100",1900,"01","00"]
["","",null,null,null,null,null,null,null,null,null,null,null,null,null,null,"",{"$f":"IF(YEAR(L182)>1900,Einstellungen!$C$10-YEAR(L182),\"---\")","v":"---"},"0000-0000-f-19000100",1,165,"","",1,165,"","","0000","0000","f","19000100",1900,"01","00"]
["","",null,null,null,null,null,null,null,null,null,null,null,null,null,null,"",{"$f":"IF(YEAR(L183)>1900,Einstellungen!$C$10-YEAR(L183),\"---\")","v":"---"},"0000-0000-f-19000100",1,166,"","",1,166,"","","0000","0000","f","19000100",1900,"01","00"]
["","",null,null,null,null,null,null,null,null,null,null,null,null,null,null,"",{"$f":"IF(YEAR(L184)>1900,Einstellungen!$C$10-YEAR(L184),\"---\")","v":"---"},"0000-0000-f-19000100",1,167,"","",1,167,"","","0000","0000","f","19000100",1900,"01","00"]
["","",null,null,null,null,null,null,null,null,null,null,null,null,null,null,"",{"$f":"IF(YEAR(L185)>1900,Einstellungen!$C$10-YEAR(L185),\"---\")","v":"---"},"0000-0000-f-19000100",1,168,"","",1,168,"","","0000","0000","f","19000100",1900,"01","00"]
["","",null,null,null,null,null,null,null,null,null,null,null,null,null,null,"",{"$f":"IF(YEAR(L186)>1900,Einstellungen!$C$10-YEAR(L186),\"---\")","v":"---"},"0000-0000-f-19000100",1,169,"","",1,169,"","","0000","0000","f","19000100",1900,"01","00"]
["","",null,null,null,null,null,null,null,null,null,null,null,null,null,null,"",{"$f":"IF(YEAR(L187)>1900,Einstellungen!$C$10-YEAR(L187),\"---\")","v":"---"},"0000-0000-f-19000100",1,170,"","",1,170,"","","0000","0000","f","19000100",1900,"01","00"]
["","",null,null,null,null,null,null,null,null,null,null,null,null,null,null,"",{"$f":"IF(YEAR(L188)>1900,Einstellungen!$C$10-YEAR(L188),\"---\")","v":"---"},"0000-0000-f-19000100",1,171,"","",1,171,"","","0000","0000","f","19000100",1900,"01","00"]
["","",null,null,null,null,null,null,null,null,null,null,null,null,null,null,"",{"$f":"IF(YEAR(L189)>1900,Einstellungen!$C$10-YEAR(L189),\"---\")","v":"---"},"0000-0000-f-19000100",1,172,"","",1,172,"","","0000","0000","f","19000100",1900,"01","00"]
["","",null,null,null,null,null,null,null,null,null,null,null,null,null,null,"",{"$f":"IF(YEAR(L190)>1900,Einstellungen!$C$10-YEAR(L190),\"---\")","v":"---"},"0000-0000-f-19000100",1,173,"","",1,173,"","","0000","0000","f","19000100",1900,"01","00"]
["","",null,null,null,null,null,null,null,null,null,null,null,null,null,null,"",{"$f":"IF(YEAR(L191)>1900,Einstellungen!$C$10-YEAR(L191),\"---\")","v":"---"},"0000-0000-f-19000100",1,174,"","",1,174,"","","0000","0000","f","19000100",1900,"01","00"]
["","",null,null,null,null,null,null,null,null,null,null,null,null,null,null,"",{"$f":"IF(YEAR(L192)>1900,Einstellungen!$C$10-YEAR(L192),\"---\")","v":"---"},"0000-0000-f-19000100",1,175,"","",1,175,"","","0000","0000","f","19000100",1900,"01","00"]
["","",null,null,null,null,null,null,null,null,null,null,null,null,null,null,"",{"$f":"IF(YEAR(L193)>1900,Einstellungen!$C$10-YEAR(L193),\"---\")","v":"---"},"0000-0000-f-19000100",1,176,"","",1,176,"","","0000","0000","f","19000100",1900,"01","00"]
["","",null,null,null,null,null,null,null,null,null,null,null,null,null,null,"",{"$f":"IF(YEAR(L194)>1900,Einstellungen!$C$10-YEAR(L194),\"---\")","v":"---"},"0000-0000-f-19000100",1,177,"","",1,177,"","","0000","0000","f","19000100",1900,"01","00"]
["","",null,null,null,null,null,null,null,null,null,null,null,null,null,null,"",{"$f":"IF(YEAR(L195)>1900,Einstellungen!$C$10-YEAR(L195),\"---\")","v":"---"},"0000-0000-f-19000100",1,178,"","",1,178,"","","0000","0000","f","19000100",1900,"01","00"]
["","",null,null,null,null,null,null,null,null,null,null,null,null,null,null,"",{"$f":"IF(YEAR(L196)>1900,Einstellungen!$C$10-YEAR(L196),\"---\")","v":"---"},"0000-0000-f-19000100",1,179,"","",1,179,"","","0000","0000","f","19000100",1900,"01","00"]
["","",null,null,null,null,null,null,null,null,null,null,null,null,null,null,"",{"$f":"IF(YEAR(L197)>1900,Einstellungen!$C$10-YEAR(L197),\"---\")","v":"---"},"0000-0000-f-19000100",1,180,"","",1,180,"","","0000","0000","f","19000100",1900,"01","00"]
["","",null,null,null,null,null,null,null,null,null,null,null,null,null,null,"",{"$f":"IF(YEAR(L198)>1900,Einstellungen!$C$10-YEAR(L198),\"---\")","v":"---"},"0000-0000-f-19000100",1,181,"","",1,181,"","","0000","0000","f","19000100",1900,"01","00"]
["","",null,null,null,null,null,null,null,null,null,null,null,null,null,null,"",{"$f":"IF(YEAR(L199)>1900,Einstellungen!$C$10-YEAR(L199),\"---\")","v":"---"},"0000-0000-f-19000100",1,182,"","",1,182,"","","0000","0000","f","19000100",1900,"01","00"]
["","",null,null,null,null,null,null,null,null,null,null,null,null,null,null,"",{"$f":"IF(YEAR(L200)>1900,Einstellungen!$C$10-YEAR(L200),\"---\")","v":"---"},"0000-0000-f-19000100",1,183,"","",1,183,"","","0000","0000","f","19000100",1900,"01","00"]
["","",null,null,null,null,null,null,null,null,null,null,null,null,null,null,"",{"$f":"IF(YEAR(L201)>1900,Einstellungen!$C$10-YEAR(L201),\"---\")","v":"---"},"0000-0000-f-19000100",1,184,"","",1,184,"","","0000","0000","f","19000100",1900,"01","00"]
["","",null,null,null,null,null,null,null,null,null,null,null,null,null,null,"",{"$f":"IF(YEAR(L202)>1900,Einstellungen!$C$10-YEAR(L202),\"---\")","v":"---"},"0000-0000-f-19000100",1,185,"","",1,185,"","","0000","0000","f","19000100",1900,"01","00"]
["","",null,null,null,null,null,null,null,null,null,null,null,null,null,null,"",{"$f":"IF(YEAR(L203)>1900,Einstellungen!$C$10-YEAR(L203),\"---\")","v":"---"},"0000-0000-f-19000100",1,186,"","",1,186,"","","0000","0000","f","19000100",1900,"01","00"]
["","",null,null,null,null,null,null,null,null,null,null,null,null,null,null,"",{"$f":"IF(YEAR(L204)>1900,Einstellungen!$C$10-YEAR(L204),\"---\")","v":"---"},"0000-0000-f-19000100",1,187,"","",1,187,"","","0000","0000","f","19000100",1900,"01","00"]
["","",null,null,null,null,null,null,null,null,null,null,null,null,null,null,"",{"$f":"IF(YEAR(L205)>1900,Einstellungen!$C$10-YEAR(L205),\"---\")","v":"---"},"0000-0000-f-19000100",1,188,"","",1,188,"","","0000","0000","f","19000100",1900,"01","00"]
["","",null,null,null,null,null,null,null,null,null,null,null,null,null,null,"",{"$f":"IF(YEAR(L206)>1900,Einstellungen!$C$10-YEAR(L206),\"---\")","v":"---"},"0000-0000-f-19000100",1,189,"","",1,189,"","","0000","0000","f","19000100",1900,"01","00"]
["","",null,null,null,null,null,null,null,null,null,null,null,null,null,null,"",{"$f":"IF(YEAR(L207)>1900,Einstellungen!$C$10-YEAR(L207),\"---\")","v":"---"},"0000-0000-f-19000100",1,190,"","",1,190,"","","0000","0000","f","19000100",1900,"01","00"]
["","",null,null,null,null,null,null,null,null,null,null,null,null,null,null,"",{"$f":"IF(YEAR(L208)>1900,Einstellungen!$C$10-YEAR(L208),\"---\")","v":"---"},"0000-0000-f-19000100",1,191,"","",1,191,"","","0000","0000","f","19000100",1900,"01","00"]
["","",null,null,null,null,null,null,null,null,null,null,null,null,null,null,"",{"$f":"IF(YEAR(L209)>1900,Einstellungen!$C$10-YEAR(L209),\"---\")","v":"---"},"0000-0000-f-19000100",1,192,"","",1,192,"","","0000","0000","f","19000100",1900,"01","00"]
["","",null,null,null,null,null,null,null,null,null,null,null,null,null,null,{"$f":"IF(LEN(D210)>0,IF(P210=\"x\",\"\",\"x\"),\"\")","v":""},{"$f":"IF(YEAR(L210)>1900,Einstellungen!$C$10-YEAR(L210),\"---\")","v":"---"},"0000-0000-f-19000100",1,193,"","",1,193,"","","0000","0000","f","19000100",1900,"01","00"]
["","",null,null,null,null,null,null,null,null,null,null,null,null,null,null,"",{"$f":"IF(YEAR(L211)>1900,Einstellungen!$C$10-YEAR(L211),\"---\")","v":"---"},{"$f":"AB211 & \"-\" & AC211 & \"-\" & AD211 & \"-\" & AE211","v":"0000-0000-f-19000100"},{"$f":"IF(R211<=$AE$12,1,0)","v":1},{"$f":"IF(T211=1,U210+1,U210)","v":194},{"$f":"IF((M211+N211)>0,IF(T211=1,U211,\"-\"),\"\")","v":""},{"$f":"Z211 & AA211","v":""},{"$f":"IF(LEN(C211)>0, 0, T211)","v":1},{"$f":"Y210+X211","v":194},{"$f":"IF(X211=1,IF(Y211<=$Z$12,\"Q\",\"\"),\"\")","v":""},{"$f":"IF(X211=1, IF(Y211>$Z$12, IF(Y211<=($Z$12+$AA$12),\"R\",\"\"),\"\"), \"\")","v":""},{"$f":"IF(M211<1,\"0000\", IF(M211<10,\"000\"&M211, IF(M211<100,\"00\"&M211, IF(M211<1000,\"0\"&M211,\"\"& M211))))","v":"0000"},"0000",{"$f":"IF(O211=\"a\",\"a\",\"f\")","v":"f"},{"$f":"AF211&AG211&AH211","v":"19000100"},{"$f":"YEAR(L211)","v":1900},{"$f":"IF(MONTH(L211)<10,\"0\"&MONTH(L211),MONTH(L211))","v":"01"},{"$f":"IF(DAY(L211)<10,\"0\"&DAY(L211),DAY(L211))","v":"00"}]
["","",null,null,null,null,null,null,null,null,null,null,null,null,null,null,"",{"$f":"IF(YEAR(L212)>1900,Einstellungen!$C$10-YEAR(L212),\"---\")","v":"---"},"0000-0000-f-19000100",1,195,"","",1,195,"","","0000","0000","f","19000100",1900,"01","00"]
["","",null,null,null,null,null,null,null,null,null,null,null,null,null,null,"",{"$f":"IF(YEAR(L213)>1900,Einstellungen!$C$10-YEAR(L213),\"---\")","v":"---"},"0000-0000-f-19000100",1,196,"","",1,196,"","","0000","0000","f","19000100",1900,"01","00"]
["","",null,null,null,null,null,null,null,null,null,null,null,null,null,null,"",{"$f":"IF(YEAR(L214)>1900,Einstellungen!$C$10-YEAR(L214),\"---\")","v":"---"},"0000-0000-f-19000100",1,197,"","",1,197,"","","0000","0000","f","19000100",1900,"01","00"]
["","",null,null,null,null,null,null,null,null,null,null,null,null,null,null,"",{"$f":"IF(YEAR(L215)>1900,Einstellungen!$C$10-YEAR(L215),\"---\")","v":"---"},"0000-0000-f-19000100",1,198,"","",1,198,"","","0000","0000","f","19000100",1900,"01","00"]
["","",null,null,null,null,null,null,null,null,null,null,null,null,null,null,"",{"$f":"IF(YEAR(L216)>1900,Einstellungen!$C$10-YEAR(L216),\"---\")","v":"---"},"0000-0000-f-19000100",1,199,"","",1,199,"","","0000","0000","f","19000100",1900,"01","00"]
["","",null,null,null,null,null,null,null,null,null,null,null,null,null,null,"",{"$f":"IF(YEAR(L217)>1900,Einstellungen!$C$10-YEAR(L217),\"---\")","v":"---"},"0000-0000-f-19000100",1,200,"","",1,200,"","","0000","0000","f","19000100",1900,"01","00"]
["","",null,null,null,null,null,null,null,null,null,null,null,null,null,null,"",{"$f":"IF(YEAR(L218)>1900,Einstellungen!$C$10-YEAR(L218),\"---\")","v":"---"},"0000-0000-f-19000100",1,201,"","",1,201,"","","0000","0000","f","19000100",1900,"01","00"]
["","",null,null,null,null,null,null,null,null,null,null,null,null,null,null,"",{"$f":"IF(YEAR(L219)>1900,Einstellungen!$C$10-YEAR(L219),\"---\")","v":"---"},"0000-0000-f-19000100",1,202,"","",1,202,"","","0000","0000","f","19000100",1900,"01","00"]
["","",null,null,null,null,null,null,null,null,null,null,null,null,null,null,"",{"$f":"IF(YEAR(L220)>1900,Einstellungen!$C$10-YEAR(L220),\"---\")","v":"---"},"0000-0000-f-19000100",1,203,"","",1,203,"","","0000","0000","f","19000100",1900,"01","00"]
["","",null,null,null,null,null,null,null,null,null,null,null,null,null,null,"",{"$f":"IF(YEAR(L221)>1900,Einstellungen!$C$10-YEAR(L221),\"---\")","v":"---"},"0000-0000-f-19000100",1,204,"","",1,204,"","","0000","0000","f","19000100",1900,"01","00"]
["","",null,null,null,null,null,null,null,null,null,null,null,null,null,null,"",{"$f":"IF(YEAR(L222)>1900,Einstellungen!$C$10-YEAR(L222),\"---\")","v":"---"},"0000-0000-f-19000100",1,205,"","",1,205,"","","0000","0000","f","19000100",1900,"01","00"]
["","",null,null,null,null,null,null,null,null,null,null,null,null,null,null,"",{"$f":"IF(YEAR(L223)>1900,Einstellungen!$C$10-YEAR(L223),\"---\")","v":"---"},"0000-0000-f-19000100",1,206,"","",1,206,"","","0000","0000","f","19000100",1900,"01","00"]
["","",null,null,null,null,null,null,null,null,null,null,null,null,null,null,"",{"$f":"IF(YEAR(L224)>1900,Einstellungen!$C$10-YEAR(L224),\"---\")","v":"---"},"0000-0000-f-19000100",1,207,"","",1,207,"","","0000","0000","f","19000100",1900,"01","00"]
["","",null,null,null,null,null,null,null,null,null,null,null,null,null,null,"",{"$f":"IF(YEAR(L225)>1900,Einstellungen!$C$10-YEAR(L225),\"---\")","v":"---"},"0000-0000-f-19000100",1,208,"","",1,208,"","","0000","0000","f","19000100",1900,"01","00"]
["","",null,null,null,null,null,null,null,null,null,null,null,null,null,null,"",{"$f":"IF(YEAR(L226)>1900,Einstellungen!$C$10-YEAR(L226),\"---\")","v":"---"},"0000-0000-f-19000100",1,209,"","",1,209,"","","0000","0000","f","19000100",1900,"01","00"]
["","",null,null,null,null,null,null,null,null,null,null,null,null,null,null,"",{"$f":"IF(YEAR(L227)>1900,Einstellungen!$C$10-YEAR(L227),\"---\")","v":"---"},"0000-0000-f-19000100",1,210,"","",1,210,"","","0000","0000","f","19000100",1900,"01","00"]
["","",null,null,null,null,null,null,null,null,null,null,null,null,null,null,"",{"$f":"IF(YEAR(L228)>1900,Einstellungen!$C$10-YEAR(L228),\"---\")","v":"---"},"0000-0000-f-19000100",1,211,"","",1,211,"","","0000","0000","f","19000100",1900,"01","00"]
["","",null,null,null,null,null,null,null,null,null,null,null,null,null,null,"",{"$f":"IF(YEAR(L229)>1900,Einstellungen!$C$10-YEAR(L229),\"---\")","v":"---"},"0000-0000-f-19000100",1,212,"","",1,212,"","","0000","0000","f","19000100",1900,"01","00"]
["","",null,null,null,null,null,null,null,null,null,null,null,null,null,null,"",{"$f":"IF(YEAR(L230)>1900,Einstellungen!$C$10-YEAR(L230),\"---\")","v":"---"},"0000-0000-f-19000100",1,213,"","",1,213,"","","0000","0000","f","19000100",1900,"01","00"]
["","",null,null,null,null,null,null,null,null,null,null,null,null,null,null,"",{"$f":"IF(YEAR(L231)>1900,Einstellungen!$C$10-YEAR(L231),\"---\")","v":"---"},"0000-0000-f-19000100",1,214,"","",1,214,"","","0000","0000","f","19000100",1900,"01","00"]
["","",null,null,null,null,null,null,null,null,null,null,null,null,null,null,"",{"$f":"IF(YEAR(L232)>1900,Einstellungen!$C$10-YEAR(L232),\"---\")","v":"---"},"0000-0000-f-19000100",1,215,"","",1,215,"","","0000","0000","f","19000100",1900,"01","00"]
["","",null,null,null,null,null,null,null,null,null,null,null,null,null,null,"",{"$f":"IF(YEAR(L233)>1900,Einstellungen!$C$10-YEAR(L233),\"---\")","v":"---"},"0000-0000-f-19000100",1,216,"","",1,216,"","","0000","0000","f","19000100",1900,"01","00"]
["","",null,null,null,null,null,null,null,null,null,null,null,null,null,null,"",{"$f":"IF(YEAR(L234)>1900,Einstellungen!$C$10-YEAR(L234),\"---\")","v":"---"},"0000-0000-f-19000100",1,217,"","",1,217,"","","0000","0000","f","19000100",1900,"01","00"]
["","",null,null,null,null,null,null,null,null,null,null,null,null,null,null,"",{"$f":"IF(YEAR(L235)>1900,Einstellungen!$C$10-YEAR(L235),\"---\")","v":"---"},"0000-0000-f-19000100",1,218,"","",1,218,"","","0000","0000","f","19000100",1900,"01","00"]
["","",null,null,null,null,null,null,null,null,null,null,null,null,null,null,"",{"$f":"IF(YEAR(L236)>1900,Einstellungen!$C$10-YEAR(L236),\"---\")","v":"---"},"0000-0000-f-19000100",1,219,"","",1,219,"","","0000","0000","f","19000100",1900,"01","00"]
["","",null,null,null,null,null,null,null,null,null,null,null,null,null,null,"",{"$f":"IF(YEAR(L237)>1900,Einstellungen!$C$10-YEAR(L237),\"---\")","v":"---"},"0000-0000-f-19000100",1,220,"","",1,220,"","","0000","0000","f","19000100",1900,"01","00"]
["","",null,null,null,null,null,null,null,null,null,null,null,null,null,null,"",{"$f":"IF(YEAR(L238)>1900,Einstellungen!$C$10-YEAR(L238),\"---\")","v":"---"},"0000-0000-f-19000100",1,221,"","",1,221,"","","0000","0000","f","19000100",1900,"01","00"]
["","",null,null,null,null,null,null,null,null,null,null,null,null,null,null,"",{"$f":"IF(YEAR(L239)>1900,Einstellungen!$C$10-YEAR(L239),\"---\")","v":"---"},"0000-0000-f-19000100",1,222,"","",1,222,"","","0000","0000","f","19000100",1900,"01","00"]
["","",null,null,null,null,null,null,null,null,null,null,null,null,null,null,"",{"$f":"IF(YEAR(L240)>1900,Einstellungen!$C$10-YEAR(L240),\"---\")","v":"---"},"0000-0000-f-19000100",1,223,"","",1,223,"","","0000","0000","f","19000100",1900,"01","00"]
["","",null,null,null,null,null,null,null,null,null,null,null,null,null,null,"",{"$f":"IF(YEAR(L241)>1900,Einstellungen!$C$10-YEAR(L241),\"---\")","v":"---"},"0000-0000-f-19000100",1,224,"","",1,224,"","","0000","0000","f","19000100",1900,"01","00"]
["","",null,null,null,null,null,null,null,null,null,null,null,null,null,null,"",{"$f":"IF(YEAR(L242)>1900,Einstellungen!$C$10-YEAR(L242),\"---\")","v":"---"},"0000-0000-f-19000100",1,225,"","",1,225,"","","0000","0000","f","19000100",1900,"01","00"]
["","",null,null,null,null,null,null,null,null,null,null,null,null,null,null,"",{"$f":"IF(YEAR(L243)>1900,Einstellungen!$C$10-YEAR(L243),\"---\")","v":"---"},"0000-0000-f-19000100",1,226,"","",1,226,"","","0000","0000","f","19000100",1900,"01","00"]
["","",null,null,null,null,null,null,null,null,null,null,null,null,null,null,"",{"$f":"IF(YEAR(L244)>1900,Einstellungen!$C$10-YEAR(L244),\"---\")","v":"---"},"0000-0000-f-19000100",1,227,"","",1,227,"","","0000","0000","f","19000100",1900,"01","00"]
["","",null,null,null,null,null,null,null,null,null,null,null,null,null,null,"",{"$f":"IF(YEAR(L245)>1900,Einstellungen!$C$10-YEAR(L245),\"---\")","v":"---"},"0000-0000-f-19000100",1,228,"","",1,228,"","","0000","0000","f","19000100",1900,"01","00"]
["","",null,null,null,null,null,null,null,null,null,null,null,null,null,null,"",{"$f":"IF(YEAR(L246)>1900,Einstellungen!$C$10-YEAR(L246),\"---\")","v":"---"},"0000-0000-f-19000100",1,229,"","",1,229,"","","0000","0000","f","19000100",1900,"01","00"]
["","",null,null,null,null,null,null,null,null,null,null,null,null,null,null,"",{"$f":"IF(YEAR(L247)>1900,Einstellungen!$C$10-YEAR(L247),\"---\")","v":"---"},"0000-0000-f-19000100",1,230,"","",1,230,"","","0000","0000","f","19000100",1900,"01","00"]
["","",null,null,null,null,null,null,null,null,null,null,null,null,null,null,"",{"$f":"IF(YEAR(L248)>1900,Einstellungen!$C$10-YEAR(L248),\"---\")","v":"---"},"0000-0000-f-19000100",1,231,"","",1,231,"","","0000","0000","f","19000100",1900,"01","00"]
["","",null,null,null,null,null,null,null,null,null,null,null,null,null,null,"",{"$f":"IF(YEAR(L249)>1900,Einstellungen!$C$10-YEAR(L249),\"---\")","v":"---"},"0000-0000-f-19000100",1,232,"","",1,232,"","","0000","0000","f","19000100",1900,"01","00"]
["","",null,null,null,null,null,null,null,null,null,null,null,null,null,null,"",{"$f":"IF(YEAR(L250)>1900,Einstellungen!$C$10-YEAR(L250),\"---\")","v":"---"},"0000-0000-f-19000100",1,233,"","",1,233,"","","0000","0000","f","19000100",1900,"01","00"]
["","",null,null,null,null,null,null,null,null,null,null,null,null,null,null,"",{"$f":"IF(YEAR(L251)>1900,Einstellungen!$C$10-YEAR(L251),\"---\")","v":"---"},"0000-0000-f-19000100",1,234,"","",1,234,"","","0000","0000","f","19000100",1900,"01","00"]
["","",null,null,null,null,null,null,null,null,null,null,null,null,null,null,"",{"$f":"IF(YEAR(L252)>1900,Einstellungen!$C$10-YEAR(L252),\"---\")","v":"---"},"0000-0000-f-19000100",1,235,"","",1,235,"","","0000","0000","f","19000100",1900,"01","00"]
["","",null,null,null,null,null,null,null,null,null,null,null,null,null,null,"",{"$f":"IF(YEAR(L253)>1900,Einstellungen!$C$10-YEAR(L253),\"---\")","v":"---"},"0000-0000-f-19000100",1,236,"","",1,236,"","","0000","0000","f","19000100",1900,"01","00"]
["","",null,null,null,null,null,null,null,null,null,null,null,null,null,null,"",{"$f":"IF(YEAR(L254)>1900,Einstellungen!$C$10-YEAR(L254),\"---\")","v":"---"},"0000-0000-f-19000100",1,237,"","",1,237,"","","0000","0000","f","19000100",1900,"01","00"]
["","",null,null,null,null,null,null,null,null,null,null,null,null,null,null,"",{"$f":"IF(YEAR(L255)>1900,Einstellungen!$C$10-YEAR(L255),\"---\")","v":"---"},"0000-0000-f-19000100",1,238,"","",1,238,"","","0000","0000","f","19000100",1900,"01","00"]
["","",null,null,null,null,null,null,null,null,null,null,null,null,null,null,"",{"$f":"IF(YEAR(L256)>1900,Einstellungen!$C$10-YEAR(L256),\"---\")","v":"---"},"0000-0000-f-19000100",1,239,"","",1,239,"","","0000","0000","f","19000100",1900,"01","00"]
["","",null,null,null,null,null,null,null,null,null,null,null,null,null,null,"",{"$f":"IF(YEAR(L257)>1900,Einstellungen!$C$10-YEAR(L257),\"---\")","v":"---"},"0000-0000-f-19000100",1,240,"","",1,240,"","","0000","0000","f","19000100",1900,"01","00"]
["","",null,null,null,null,null,null,null,null,null,null,null,null,null,null,"",{"$f":"IF(YEAR(L258)>1900,Einstellungen!$C$10-YEAR(L258),\"---\")","v":"---"},"0000-0000-f-19000100",1,241,"","",1,241,"","","0000","0000","f","19000100",1900,"01","00"]
["","",null,null,null,null,null,null,null,null,null,null,null,null,null,null,"",{"$f":"IF(YEAR(L259)>1900,Einstellungen!$C$10-YEAR(L259),\"---\")","v":"---"},"0000-0000-f-19000100",1,242,"","",1,242,"","","0000","0000","f","19000100",1900,"01","00"]
["","",null,null,null,null,null,null,null,null,null,null,null,null,null,null,"",{"$f":"IF(YEAR(L260)>1900,Einstellungen!$C$10-YEAR(L260),\"---\")","v":"---"},"0000-0000-f-19000100",1,243,"","",1,243,"","","0000","0000","f","19000100",1900,"01","00"]
["","",null,null,null,null,null,null,null,null,null,null,null,null,null,null,"",{"$f":"IF(YEAR(L261)>1900,Einstellungen!$C$10-YEAR(L261),\"---\")","v":"---"},"0000-0000-f-19000100",1,244,"","",1,244,"","","0000","0000","f","19000100",1900,"01","00"]
["","",null,null,null,null,null,null,null,null,null,null,null,null,null,null,"",{"$f":"IF(YEAR(L262)>1900,Einstellungen!$C$10-YEAR(L262),\"---\")","v":"---"},"0000-0000-f-19000100",1,245,"","",1,245,"","","0000","0000","f","19000100",1900,"01","00"]
["","",null,null,null,null,null,null,null,null,null,null,null,null,null,null,"",{"$f":"IF(YEAR(L263)>1900,Einstellungen!$C$10-YEAR(L263),\"---\")","v":"---"},"0000-0000-f-19000100",1,246,"","",1,246,"","","0000","0000","f","19000100",1900,"01","00"]
["","",null,null,null,null,null,null,null,null,null,null,null,null,null,null,"",{"$f":"IF(YEAR(L264)>1900,Einstellungen!$C$10-YEAR(L264),\"---\")","v":"---"},"0000-0000-f-19000100",1,247,"","",1,247,"","","0000","0000","f","19000100",1900,"01","00"]
["","",null,null,null,null,null,null,null,null,null,null,null,null,null,null,"",{"$f":"IF(YEAR(L265)>1900,Einstellungen!$C$10-YEAR(L265),\"---\")","v":"---"},"0000-0000-f-19000100",1,248,"","",1,248,"","","0000","0000","f","19000100",1900,"01","00"]
["","",null,null,null,null,null,null,null,null,null,null,null,null,null,null,"",{"$f":"IF(YEAR(L266)>1900,Einstellungen!$C$10-YEAR(L266),\"---\")","v":"---"},"0000-0000-f-19000100",1,249,"","",1,249,"","","0000","0000","f","19000100",1900,"01","00"]
["","",null,null,null,null,null,null,null,null,null,null,null,null,null,null,"",{"$f":"IF(YEAR(L267)>1900,Einstellungen!$C$10-YEAR(L267),\"---\")","v":"---"},"0000-0000-f-19000100",1,250,"","",1,250,"","","0000","0000","f","19000100",1900,"01","00"]
["","",null,null,null,null,null,null,null,null,null,null,null,null,null,null,"",{"$f":"IF(YEAR(L268)>1900,Einstellungen!$C$10-YEAR(L268),\"---\")","v":"---"},"0000-0000-f-19000100",1,251,"","",1,251,"","","0000","0000","f","19000100",1900,"01","00"]
["","",null,null,null,null,null,null,null,null,null,null,null,null,null,null,"",{"$f":"IF(YEAR(L269)>1900,Einstellungen!$C$10-YEAR(L269),\"---\")","v":"---"},"0000-0000-f-19000100",1,252,"","",1,252,"","","0000","0000","f","19000100",1900,"01","00"]
["","",null,null,null,null,null,null,null,null,null,null,null,null,null,null,"",{"$f":"IF(YEAR(L270)>1900,Einstellungen!$C$10-YEAR(L270),\"---\")","v":"---"},"0000-0000-f-19000100",1,253,"","",1,253,"","","0000","0000","f","19000100",1900,"01","00"]
["","",null,null,null,null,null,null,null,null,null,null,null,null,null,null,"",{"$f":"IF(YEAR(L271)>1900,Einstellungen!$C$10-YEAR(L271),\"---\")","v":"---"},"0000-0000-f-19000100",1,254,"","",1,254,"","","0000","0000","f","19000100",1900,"01","00"]
["","",null,null,null,null,null,null,null,null,null,null,null,null,null,null,"",{"$f":"IF(YEAR(L272)>1900,Einstellungen!$C$10-YEAR(L272),\"---\")","v":"---"},"0000-0000-f-19000100",1,255,"","",1,255,"","","0000","0000","f","19000100",1900,"01","00"]
["","",null,null,null,null,null,null,null,null,null,null,null,null,null,null,"",{"$f":"IF(YEAR(L273)>1900,Einstellungen!$C$10-YEAR(L273),\"---\")","v":"---"},"0000-0000-f-19000100",1,256,"","",1,256,"","","0000","0000","f","19000100",1900,"01","00"]
["","",null,null,null,null,null,null,null,null,null,null,null,null,null,null,{"$f":"IF(LEN(D274)>0,IF(P274=\"x\",\"\",\"x\"),\"\")","v":""},{"$f":"IF(YEAR(L274)>1900,Einstellungen!$C$10-YEAR(L274),\"---\")","v":"---"},"0000-0000-f-19000100",1,257,"","",1,257,"","","0000","0000","f","19000100",1900,"01","00"]
["","",null,null,null,null,null,null,null,null,null,null,null,null,null,null,"",{"$f":"IF(YEAR(L275)>1900,Einstellungen!$C$10-YEAR(L275),\"---\")","v":"---"},{"$f":"AB275 & \"-\" & AC275 & \"-\" & AD275 & \"-\" & AE275","v":"0000-0000-f-19000100"},{"$f":"IF(R275<=$AE$12,1,0)","v":1},{"$f":"IF(T275=1,U274+1,U274)","v":258},{"$f":"IF((M275+N275)>0,IF(T275=1,U275,\"-\"),\"\")","v":""},{"$f":"Z275 & AA275","v":""},{"$f":"IF(LEN(C275)>0, 0, T275)","v":1},{"$f":"Y274+X275","v":258},{"$f":"IF(X275=1,IF(Y275<=$Z$12,\"Q\",\"\"),\"\")","v":""},{"$f":"IF(X275=1, IF(Y275>$Z$12, IF(Y275<=($Z$12+$AA$12),\"R\",\"\"),\"\"), \"\")","v":""},{"$f":"IF(M275<1,\"0000\", IF(M275<10,\"000\"&M275, IF(M275<100,\"00\"&M275, IF(M275<1000,\"0\"&M275,\"\"& M275))))","v":"0000"},"0000",{"$f":"IF(O275=\"a\",\"a\",\"f\")","v":"f"},{"$f":"AF275&AG275&AH275","v":"19000100"},{"$f":"YEAR(L275)","v":1900},{"$f":"IF(MONTH(L275)<10,\"0\"&MONTH(L275),MONTH(L275))","v":"01"},{"$f":"IF(DAY(L275)<10,\"0\"&DAY(L275),DAY(L275))","v":"00"}]
["","",null,null,null,null,null,null,null,null,null,null,null,null,null,null,"",{"$f":"IF(YEAR(L276)>1900,Einstellungen!$C$10-YEAR(L276),\"---\")","v":"---"},"0000-0000-f-19000100",1,259,"","",1,259,"","","0000","0000","f","19000100",1900,"01","00"]
["","",null,null,null,null,null,null,null,null,null,null,null,null,null,null,"",{"$f":"IF(YEAR(L277)>1900,Einstellungen!$C$10-YEAR(L277),\"---\")","v":"---"},"0000-0000-f-19000100",1,260,"","",1,260,"","","0000","0000","f","19000100",1900,"01","00"]
["","",null,null,null,null,null,null,null,null,null,null,null,null,null,null,"",{"$f":"IF(YEAR(L278)>1900,Einstellungen!$C$10-YEAR(L278),\"---\")","v":"---"},"0000-0000-f-19000100",1,261,"","",1,261,"","","0000","0000","f","19000100",1900,"01","00"]
["","",null,null,null,null,null,null,null,null,null,null,null,null,null,null,"",{"$f":"IF(YEAR(L279)>1900,Einstellungen!$C$10-YEAR(L279),\"---\")","v":"---"},"0000-0000-f-19000100",1,262,"","",1,262,"","","0000","0000","f","19000100",1900,"01","00"]
["","",null,null,null,null,null,null,null,null,null,null,null,null,null,null,"",{"$f":"IF(YEAR(L280)>1900,Einstellungen!$C$10-YEAR(L280),\"---\")","v":"---"},"0000-0000-f-19000100",1,263,"","",1,263,"","","0000","0000","f","19000100",1900,"01","00"]
["","",null,null,null,null,null,null,null,null,null,null,null,null,null,null,"",{"$f":"IF(YEAR(L281)>1900,Einstellungen!$C$10-YEAR(L281),\"---\")","v":"---"},"0000-0000-f-19000100",1,264,"","",1,264,"","","0000","0000","f","19000100",1900,"01","00"]
["","",null,null,null,null,null,null,null,null,null,null,null,null,null,null,"",{"$f":"IF(YEAR(L282)>1900,Einstellungen!$C$10-YEAR(L282),\"---\")","v":"---"},"0000-0000-f-19000100",1,265,"","",1,265,"","","0000","0000","f","19000100",1900,"01","00"]
["","",null,null,null,null,null,null,null,null,null,null,null,null,null,null,"",{"$f":"IF(YEAR(L283)>1900,Einstellungen!$C$10-YEAR(L283),\"---\")","v":"---"},"0000-0000-f-19000100",1,266,"","",1,266,"","","0000","0000","f","19000100",1900,"01","00"]
["","",null,null,null,null,null,null,null,null,null,null,null,null,null,null,"",{"$f":"IF(YEAR(L284)>1900,Einstellungen!$C$10-YEAR(L284),\"---\")","v":"---"},"0000-0000-f-19000100",1,267,"","",1,267,"","","0000","0000","f","19000100",1900,"01","00"]
["","",null,null,null,null,null,null,null,null,null,null,null,null,null,null,"",{"$f":"IF(YEAR(L285)>1900,Einstellungen!$C$10-YEAR(L285),\"---\")","v":"---"},"0000-0000-f-19000100",1,268,"","",1,268,"","","0000","0000","f","19000100",1900,"01","00"]
["","",null,null,null,null,null,null,null,null,null,null,null,null,null,null,"",{"$f":"IF(YEAR(L286)>1900,Einstellungen!$C$10-YEAR(L286),\"---\")","v":"---"},"0000-0000-f-19000100",1,269,"","",1,269,"","","0000","0000","f","19000100",1900,"01","00"]
["","",null,null,null,null,null,null,null,null,null,null,null,null,null,null,"",{"$f":"IF(YEAR(L287)>1900,Einstellungen!$C$10-YEAR(L287),\"---\")","v":"---"},"0000-0000-f-19000100",1,270,"","",1,270,"","","0000","0000","f","19000100",1900,"01","00"]
["","",null,null,null,null,null,null,null,null,null,null,null,null,null,null,"",{"$f":"IF(YEAR(L288)>1900,Einstellungen!$C$10-YEAR(L288),\"---\")","v":"---"},"0000-0000-f-19000100",1,271,"","",1,271,"","","0000","0000","f","19000100",1900,"01","00"]
["","",null,null,null,null,null,null,null,null,null,null,null,null,null,null,"",{"$f":"IF(YEAR(L289)>1900,Einstellungen!$C$10-YEAR(L289),\"---\")","v":"---"},"0000-0000-f-19000100",1,272,"","",1,272,"","","0000","0000","f","19000100",1900,"01","00"]
["","",null,null,null,null,null,null,null,null,null,null,null,null,null,null,"",{"$f":"IF(YEAR(L290)>1900,Einstellungen!$C$10-YEAR(L290),\"---\")","v":"---"},"0000-0000-f-19000100",1,273,"","",1,273,"","","0000","0000","f","19000100",1900,"01","00"]
["","",null,null,null,null,null,null,null,null,null,null,null,null,null,null,"",{"$f":"IF(YEAR(L291)>1900,Einstellungen!$C$10-YEAR(L291),\"---\")","v":"---"},"0000-0000-f-19000100",1,274,"","",1,274,"","","0000","0000","f","19000100",1900,"01","00"]
["","",null,null,null,null,null,null,null,null,null,null,null,null,null,null,"",{"$f":"IF(YEAR(L292)>1900,Einstellungen!$C$10-YEAR(L292),\"---\")","v":"---"},"0000-0000-f-19000100",1,275,"","",1,275,"","","0000","0000","f","19000100",1900,"01","00"]
["","",null,null,null,null,null,null,null,null,null,null,null,null,null,null,"",{"$f":"IF(YEAR(L293)>1900,Einstellungen!$C$10-YEAR(L293),\"---\")","v":"---"},"0000-0000-f-19000100",1,276,"","",1,276,"","","0000","0000","f","19000100",1900,"01","00"]
["","",null,null,null,null,null,null,null,null,null,null,null,null,null,null,"",{"$f":"IF(YEAR(L294)>1900,Einstellungen!$C$10-YEAR(L294),\"---\")","v":"---"},"0000-0000-f-19000100",1,277,"","",1,277,"","","0000","0000","f","19000100",1900,"01","00"]
["","",null,null,null,null,null,null,null,null,null,null,null,null,null,null,"",{"$f":"IF(YEAR(L295)>1900,Einstellungen!$C$10-YEAR(L295),\"---\")","v":"---"},"0000-0000-f-19000100",1,278,"","",1,278,"","","0000","0000","f","19000100",1900,"01","00"]
["","",null,null,null,null,null,null,null,null,null,null,null,null,null,null,"",{"$f":"IF(YEAR(L296)>1900,Einstellungen!$C$10-YEAR(L296),\"---\")","v":"---"},"0000-0000-f-19000100",1,279,"","",1,279,"","","0000","0000","f","19000100",1900,"01","00"]
["","",null,null,null,null,null,null,null,null,null,null,null,null,null,null,"",{"$f":"IF(YEAR(L297)>1900,Einstellungen!$C$10-YEAR(L297),\"---\")","v":"---"},"0000-0000-f-19000100",1,280,"","",1,280,"","","0000","0000","f","19000100",1900,"01","00"]
["","",null,null,null,null,null,null,null,null,null,null,null,null,null,null,"",{"$f":"IF(YEAR(L298)>1900,Einstellungen!$C$10-YEAR(L298),\"---\")","v":"---"},"0000-0000-f-19000100",1,281,"","",1,281,"","","0000","0000","f","19000100",1900,"01","00"]
["","",null,null,null,null,null,null,null,null,null,null,null,null,null,null,"",{"$f":"IF(YEAR(L299)>1900,Einstellungen!$C$10-YEAR(L299),\"---\")","v":"---"},"0000-0000-f-19000100",1,282,"","",1,282,"","","0000","0000","f","19000100",1900,"01","00"]
["","",null,null,null,null,null,null,null,null,null,null,null,null,null,null,"",{"$f":"IF(YEAR(L300)>1900,Einstellungen!$C$10-YEAR(L300),\"---\")","v":"---"},"0000-0000-f-19000100",1,283,"","",1,283,"","","0000","0000","f","19000100",1900,"01","00"]
["","",null,null,null,null,null,null,null,null,null,null,null,null,null,null,"",{"$f":"IF(YEAR(L301)>1900,Einstellungen!$C$10-YEAR(L301),\"---\")","v":"---"},"0000-0000-f-19000100",1,284,"","",1,284,"","","0000","0000","f","19000100",1900,"01","00"]
["","",null,null,null,null,null,null,null,null,null,null,null,null,null,null,"",{"$f":"IF(YEAR(L302)>1900,Einstellungen!$C$10-YEAR(L302),\"---\")","v":"---"},"0000-0000-f-19000100",1,285,"","",1,285,"","","0000","0000","f","19000100",1900,"01","00"]
["","",null,null,null,null,null,null,null,null,null,null,null,null,null,null,"",{"$f":"IF(YEAR(L303)>1900,Einstellungen!$C$10-YEAR(L303),\"---\")","v":"---"},"0000-0000-f-19000100",1,286,"","",1,286,"","","0000","0000","f","19000100",1900,"01","00"]
["","",null,null,null,null,null,null,null,null,null,null,null,null,null,null,"",{"$f":"IF(YEAR(L304)>1900,Einstellungen!$C$10-YEAR(L304),\"---\")","v":"---"},"0000-0000-f-19000100",1,287,"","",1,287,"","","0000","0000","f","19000100",1900,"01","00"]
["","",null,null,null,null,null,null,null,null,null,null,null,null,null,null,"",{"$f":"IF(YEAR(L305)>1900,Einstellungen!$C$10-YEAR(L305),\"---\")","v":"---"},"0000-0000-f-19000100",1,288,"","",1,288,"","","0000","0000","f","19000100",1900,"01","00"]
["","",null,null,null,null,null,null,null,null,null,null,null,null,null,null,"",{"$f":"IF(YEAR(L306)>1900,Einstellungen!$C$10-YEAR(L306),\"---\")","v":"---"},"0000-0000-f-19000100",1,289,"","",1,289,"","","0000","0000","f","19000100",1900,"01","00"]
["","",null,null,null,null,null,null,null,null,null,null,null,null,null,null,"",{"$f":"IF(YEAR(L307)>1900,Einstellungen!$C$10-YEAR(L307),\"---\")","v":"---"},"0000-0000-f-19000100",1,290,"","",1,290,"","","0000","0000","f","19000100",1900,"01","00"]
["","",null,null,null,null,null,null,null,null,null,null,null,null,null,null,"",{"$f":"IF(YEAR(L308)>1900,Einstellungen!$C$10-YEAR(L308),\"---\")","v":"---"},"0000-0000-f-19000100",1,291,"","",1,291,"","","0000","0000","f","19000100",1900,"01","00"]
["","",null,null,null,null,null,null,null,null,null,null,null,null,null,null,"",{"$f":"IF(YEAR(L309)>1900,Einstellungen!$C$10-YEAR(L309),\"---\")","v":"---"},"0000-0000-f-19000100",1,292,"","",1,292,"","","0000","0000","f","19000100",1900,"01","00"]
["","",null,null,null,null,null,null,null,null,null,null,null,null,null,null,"",{"$f":"IF(YEAR(L310)>1900,Einstellungen!$C$10-YEAR(L310),\"---\")","v":"---"},"0000-0000-f-19000100",1,293,"","",1,293,"","","0000","0000","f","19000100",1900,"01","00"]
["","",null,null,null,null,null,null,null,null,null,null,null,null,null,null,"",{"$f":"IF(YEAR(L311)>1900,Einstellungen!$C$10-YEAR(L311),\"---\")","v":"---"},"0000-0000-f-19000100",1,294,"","",1,294,"","","0000","0000","f","19000100",1900,"01","00"]
["","",null,null,null,null,null,null,null,null,null,null,null,null,null,null,"",{"$f":"IF(YEAR(L312)>1900,Einstellungen!$C$10-YEAR(L312),\"---\")","v":"---"},"0000-0000-f-19000100",1,295,"","",1,295,"","","0000","0000","f","19000100",1900,"01","00"]
["","",null,null,null,null,null,null,null,null,null,null,null,null,null,null,"",{"$f":"IF(YEAR(L313)>1900,Einstellungen!$C$10-YEAR(L313),\"---\")","v":"---"},"0000-0000-f-19000100",1,296,"","",1,296,"","","0000","0000","f","19000100",1900,"01","00"]
["","",null,null,null,null,null,null,null,null,null,null,null,null,null,null,"",{"$f":"IF(YEAR(L314)>1900,Einstellungen!$C$10-YEAR(L314),\"---\")","v":"---"},"0000-0000-f-19000100",1,297,"","",1,297,"","","0000","0000","f","19000100",1900,"01","00"]
["","",null,null,null,null,null,null,null,null,null,null,null,null,null,null,"",{"$f":"IF(YEAR(L315)>1900,Einstellungen!$C$10-YEAR(L315),\"---\")","v":"---"},"0000-0000-f-19000100",1,298,"","",1,298,"","","0000","0000","f","19000100",1900,"01","00"]
["","",null,null,null,null,null,null,null,null,null,null,null,null,null,null,"",{"$f":"IF(YEAR(L316)>1900,Einstellungen!$C$10-YEAR(L316),\"---\")","v":"---"},"0000-0000-f-19000100",1,299,"","",1,299,"","","0000","0000","f","19000100",1900,"01","00"]
["","",null,null,null,null,null,null,null,null,null,null,null,null,null,null,"",{"$f":"IF(YEAR(L317)>1900,Einstellungen!$C$10-YEAR(L317),\"---\")","v":"---"},"0000-0000-f-19000100",1,300,"","",1,300,"","","0000","0000","f","19000100",1900,"01","00"]
["","",null,null,null,null,null,null,null,null,null,null,null,null,null,null,"",{"$f":"IF(YEAR(L318)>1900,Einstellungen!$C$10-YEAR(L318),\"---\")","v":"---"},"0000-0000-f-19000100",1,301,"","",1,301,"","","0000","0000","f","19000100",1900,"01","00"]
["","",null,null,null,null,null,null,null,null,null,null,null,null,null,null,"",{"$f":"IF(YEAR(L319)>1900,Einstellungen!$C$10-YEAR(L319),\"---\")","v":"---"},"0000-0000-f-19000100",1,302,"","",1,302,"","","0000","0000","f","19000100",1900,"01","00"]
["","",null,null,null,null,null,null,null,null,null,null,null,null,null,null,"",{"$f":"IF(YEAR(L320)>1900,Einstellungen!$C$10-YEAR(L320),\"---\")","v":"---"},"0000-0000-f-19000100",1,303,"","",1,303,"","","0000","0000","f","19000100",1900,"01","00"]
["","",null,null,null,null,null,null,null,null,null,null,null,null,null,null,"",{"$f":"IF(YEAR(L321)>1900,Einstellungen!$C$10-YEAR(L321),\"---\")","v":"---"},"0000-0000-f-19000100",1,304,"","",1,304,"","","0000","0000","f","19000100",1900,"01","00"]
["","",null,null,null,null,null,null,null,null,null,null,null,null,null,null,"",{"$f":"IF(YEAR(L322)>1900,Einstellungen!$C$10-YEAR(L322),\"---\")","v":"---"},"0000-0000-f-19000100",1,305,"","",1,305,"","","0000","0000","f","19000100",1900,"01","00"]
["","",null,null,null,null,null,null,null,null,null,null,null,null,null,null,"",{"$f":"IF(YEAR(L323)>1900,Einstellungen!$C$10-YEAR(L323),\"---\")","v":"---"},"0000-0000-f-19000100",1,306,"","",1,306,"","","0000","0000","f","19000100",1900,"01","00"]
["","",null,null,null,null,null,null,null,null,null,null,null,null,null,null,"",{"$f":"IF(YEAR(L324)>1900,Einstellungen!$C$10-YEAR(L324),\"---\")","v":"---"},"0000-0000-f-19000100",1,307,"","",1,307,"","","0000","0000","f","19000100",1900,"01","00"]
["","",null,null,null,null,null,null,null,null,null,null,null,null,null,null,"",{"$f":"IF(YEAR(L325)>1900,Einstellungen!$C$10-YEAR(L325),\"---\")","v":"---"},"0000-0000-f-19000100",1,308,"","",1,308,"","","0000","0000","f","19000100",1900,"01","00"]
["","",null,null,null,null,null,null,null,null,null,null,null,null,null,null,"",{"$f":"IF(YEAR(L326)>1900,Einstellungen!$C$10-YEAR(L326),\"---\")","v":"---"},"0000-0000-f-19000100",1,309,"","",1,309,"","","0000","0000","f","19000100",1900,"01","00"]
["","",null,null,null,null,null,null,null,null,null,null,null,null,null,null,"",{"$f":"IF(YEAR(L327)>1900,Einstellungen!$C$10-YEAR(L327),\"---\")","v":"---"},"0000-0000-f-19000100",1,310,"","",1,310,"","","0000","0000","f","19000100",1900,"01","00"]
["","",null,null,null,null,null,null,null,null,null,null,null,null,null,null,"",{"$f":"IF(YEAR(L328)>1900,Einstellungen!$C$10-YEAR(L328),\"---\")","v":"---"},"0000-0000-f-19000100",1,311,"","",1,311,"","","0000","0000","f","19000100",1900,"01","00"]
["","",null,null,null,null,null,null,null,null,null,null,null,null,null,null,"",{"$f":"IF(YEAR(L329)>1900,Einstellungen!$C$10-YEAR(L329),\"---\")","v":"---"},"0000-0000-f-19000100",1,312,"","",1,312,"","","0000","0000","f","19000100",1900,"01","00"]
["","",null,null,null,null,null,null,null,null,null,null,null,null,null,null,"",{"$f":"IF(YEAR(L330)>1900,Einstellungen!$C$10-YEAR(L330),\"---\")","v":"---"},"0000-0000-f-19000100",1,313,"","",1,313,"","","0000","0000","f","19000100",1900,"01","00"]
["","",null,null,null,null,null,null,null,null,null,null,null,null,null,null,"",{"$f":"IF(YEAR(L331)>1900,Einstellungen!$C$10-YEAR(L331),\"---\")","v":"---"},"0000-0000-f-19000100",1,314,"","",1,314,"","","0000","0000","f","19000100",1900,"01","00"]
["","",null,null,null,null,null,null,null,null,null,null,null,null,null,null,"",{"$f":"IF(YEAR(L332)>1900,Einstellungen!$C$10-YEAR(L332),\"---\")","v":"---"},"0000-0000-f-19000100",1,315,"","",1,315,"","","0000","0000","f","19000100",1900,"01","00"]
["","",null,null,null,null,null,null,null,null,null,null,null,null,null,null,"",{"$f":"IF(YEAR(L333)>1900,Einstellungen!$C$10-YEAR(L333),\"---\")","v":"---"},"0000-0000-f-19000100",1,316,"","",1,316,"","","0000","0000","f","19000100",1900,"01","00"]
["","",null,null,null,null,null,null,null,null,null,null,null,null,null,null,"",{"$f":"IF(YEAR(L334)>1900,Einstellungen!$C$10-YEAR(L334),\"---\")","v":"---"},"0000-0000-f-19000100",1,317,"","",1,317,"","","0000","0000","f","19000100",1900,"01","00"]
["","",null,null,null,null,null,null,null,null,null,null,null,null,null,null,"",{"$f":"IF(YEAR(L335)>1900,Einstellungen!$C$10-YEAR(L335),\"---\")","v":"---"},"0000-0000-f-19000100",1,318,"","",1,318,"","","0000","0000","f","19000100",1900,"01","00"]
["","",null,null,null,null,null,null,null,null,null,null,null,null,null,null,"",{"$f":"IF(YEAR(L336)>1900,Einstellungen!$C$10-YEAR(L336),\"---\")","v":"---"},"0000-0000-f-19000100",1,319,"","",1,319,"","","0000","0000","f","19000100",1900,"01","00"]
["","",null,null,null,null,null,null,null,null,null,null,null,null,null,null,"",{"$f":"IF(YEAR(L337)>1900,Einstellungen!$C$10-YEAR(L337),\"---\")","v":"---"},"0000-0000-f-19000100",1,320,"","",1,320,"","","0000","0000","f","19000100",1900,"01","00"]
["","",null,null,null,null,null,null,null,null,null,null,null,null,null,null,{"$f":"IF(LEN(D338)>0,IF(P338=\"x\",\"\",\"x\"),\"\")","v":""},{"$f":"IF(YEAR(L338)>1900,Einstellungen!$C$10-YEAR(L338),\"---\")","v":"---"},"0000-0000-f-19000100",1,321,"","",1,321,"","","0000","0000","f","19000100",1900,"01","00"]
["","",null,null,null,null,null,null,null,null,null,null,null,null,null,null,"",{"$f":"IF(YEAR(L339)>1900,Einstellungen!$C$10-YEAR(L339),\"---\")","v":"---"},{"$f":"AB339 & \"-\" & AC339 & \"-\" & AD339 & \"-\" & AE339","v":"0000-0000-f-19000100"},{"$f":"IF(R339<=$AE$12,1,0)","v":1},{"$f":"IF(T339=1,U338+1,U338)","v":322},{"$f":"IF((M339+N339)>0,IF(T339=1,U339,\"-\"),\"\")","v":""},{"$f":"Z339 & AA339","v":""},{"$f":"IF(LEN(C339)>0, 0, T339)","v":1},{"$f":"Y338+X339","v":322},{"$f":"IF(X339=1,IF(Y339<=$Z$12,\"Q\",\"\"),\"\")","v":""},{"$f":"IF(X339=1, IF(Y339>$Z$12, IF(Y339<=($Z$12+$AA$12),\"R\",\"\"),\"\"), \"\")","v":""},{"$f":"IF(M339<1,\"0000\", IF(M339<10,\"000\"&M339, IF(M339<100,\"00\"&M339, IF(M339<1000,\"0\"&M339,\"\"& M339))))","v":"0000"},"0000",{"$f":"IF(O339=\"a\",\"a\",\"f\")","v":"f"},{"$f":"AF339&AG339&AH339","v":"19000100"},{"$f":"YEAR(L339)","v":1900},{"$f":"IF(MONTH(L339)<10,\"0\"&MONTH(L339),MONTH(L339))","v":"01"},{"$f":"IF(DAY(L339)<10,\"0\"&DAY(L339),DAY(L339))","v":"00"}]
["","",null,null,null,null,null,null,null,null,null,null,null,null,null,null,"",{"$f":"IF(YEAR(L340)>1900,Einstellungen!$C$10-YEAR(L340),\"---\")","v":"---"},"0000-0000-f-19000100",1,323,"","",1,323,"","","0000","0000","f","19000100",1900,"01","00"]
["","",null,null,null,null,null,null,null,null,null,null,null,null,null,null,"",{"$f":"IF(YEAR(L341)>1900,Einstellungen!$C$10-YEAR(L341),\"---\")","v":"---"},"0000-0000-f-19000100",1,324,"","",1,324,"","","0000","0000","f","19000100",1900,"01","00"]
["","",null,null,null,null,null,null,null,null,null,null,null,null,null,null,"",{"$f":"IF(YEAR(L342)>1900,Einstellungen!$C$10-YEAR(L342),\"---\")","v":"---"},"0000-0000-f-19000100",1,325,"","",1,325,"","","0000","0000","f","19000100",1900,"01","00"]
["","",null,null,null,null,null,null,null,null,null,null,null,null,null,null,"",{"$f":"IF(YEAR(L343)>1900,Einstellungen!$C$10-YEAR(L343),\"---\")","v":"---"},"0000-0000-f-19000100",1,326,"","",1,326,"","","0000","0000","f","19000100",1900,"01","00"]
["","",null,null,null,null,null,null,null,null,null,null,null,null,null,null,"",{"$f":"IF(YEAR(L344)>1900,Einstellungen!$C$10-YEAR(L344),\"---\")","v":"---"},"0000-0000-f-19000100",1,327,"","",1,327,"","","0000","0000","f","19000100",1900,"01","00"]
["","",null,null,null,null,null,null,null,null,null,null,null,null,null,null,"",{"$f":"IF(YEAR(L345)>1900,Einstellungen!$C$10-YEAR(L345),\"---\")","v":"---"},"0000-0000-f-19000100",1,328,"","",1,328,"","","0000","0000","f","19000100",1900,"01","00"]
["","",null,null,null,null,null,null,null,null,null,null,null,null,null,null,"",{"$f":"IF(YEAR(L346)>1900,Einstellungen!$C$10-YEAR(L346),\"---\")","v":"---"},"0000-0000-f-19000100",1,329,"","",1,329,"","","0000","0000","f","19000100",1900,"01","00"]
["","",null,null,null,null,null,null,null,null,null,null,null,null,null,null,"",{"$f":"IF(YEAR(L347)>1900,Einstellungen!$C$10-YEAR(L347),\"---\")","v":"---"},"0000-0000-f-19000100",1,330,"","",1,330,"","","0000","0000","f","19000100",1900,"01","00"]
["","",null,null,null,null,null,null,null,null,null,null,null,null,null,null,"",{"$f":"IF(YEAR(L348)>1900,Einstellungen!$C$10-YEAR(L348),\"---\")","v":"---"},"0000-0000-f-19000100",1,331,"","",1,331,"","","0000","0000","f","19000100",1900,"01","00"]
["","",null,null,null,null,null,null,null,null,null,null,null,null,null,null,"",{"$f":"IF(YEAR(L349)>1900,Einstellungen!$C$10-YEAR(L349),\"---\")","v":"---"},"0000-0000-f-19000100",1,332,"","",1,332,"","","0000","0000","f","19000100",1900,"01","00"]
["","",null,null,null,null,null,null,null,null,null,null,null,null,null,null,"",{"$f":"IF(YEAR(L350)>1900,Einstellungen!$C$10-YEAR(L350),\"---\")","v":"---"},"0000-0000-f-19000100",1,333,"","",1,333,"","","0000","0000","f","19000100",1900,"01","00"]
["","",null,null,null,null,null,null,null,null,null,null,null,null,null,null,"",{"$f":"IF(YEAR(L351)>1900,Einstellungen!$C$10-YEAR(L351),\"---\")","v":"---"},"0000-0000-f-19000100",1,334,"","",1,334,"","","0000","0000","f","19000100",1900,"01","00"]
["","",null,null,null,null,null,null,null,null,null,null,null,null,null,null,"",{"$f":"IF(YEAR(L352)>1900,Einstellungen!$C$10-YEAR(L352),\"---\")","v":"---"},"0000-0000-f-19000100",1,335,"","",1,335,"","","0000","0000","f","19000100",1900,"01","00"]
["","",null,null,null,null,null,null,null,null,null,null,null,null,null,null,"",{"$f":"IF(YEAR(L353)>1900,Einstellungen!$C$10-YEAR(L353),\"---\")","v":"---"},"0000-0000-f-19000100",1,336,"","",1,336,"","","0000","0000","f","19000100",1900,"01","00"]
["","",null,null,null,null,null,null,null,null,null,null,null,null,null,null,"",{"$f":"IF(YEAR(L354)>1900,Einstellungen!$C$10-YEAR(L354),\"---\")","v":"---"},"0000-0000-f-19000100",1,337,"","",1,337,"","","0000","0000","f","19000100",1900,"01","00"]
["","",null,null,null,null,null,null,null,null,null,null,null,null,null,null,"",{"$f":"IF(YEAR(L355)>1900,Einstellungen!$C$10-YEAR(L355),\"---\")","v":"---"},"0000-0000-f-19000100",1,338,"","",1,338,"","","0000","0000","f","19000100",1900,"01","00"]
["","",null,null,null,null,null,null,null,null,null,null,null,null,null,null,"",{"$f":"IF(YEAR(L356)>1900,Einstellungen!$C$10-YEAR(L356),\"---\")","v":"---"},"0000-0000-f-19000100",1,339,"","",1,339,"","","0000","0000","f","19000100",1900,"01","00"]
["","",null,null,null,null,null,null,null,null,null,null,null,null,null,null,"",{"$f":"IF(YEAR(L357)>1900,Einstellungen!$C$10-YEAR(L357),\"---\")","v":"---"},"0000-0000-f-19000100",1,340,"","",1,340,"","","0000","0000","f","19000100",1900,"01","00"]
["","",null,null,null,null,null,null,null,null,null,null,null,null,null,null,"",{"$f":"IF(YEAR(L358)>1900,Einstellungen!$C$10-YEAR(L358),\"---\")","v":"---"},"0000-0000-f-19000100",1,341,"","",1,341,"","","0000","0000","f","19000100",1900,"01","00"]
["","",null,null,null,null,null,null,null,null,null,null,null,null,null,null,"",{"$f":"IF(YEAR(L359)>1900,Einstellungen!$C$10-YEAR(L359),\"---\")","v":"---"},"0000-0000-f-19000100",1,342,"","",1,342,"","","0000","0000","f","19000100",1900,"01","00"]
["","",null,null,null,null,null,null,null,null,null,null,null,null,null,null,"",{"$f":"IF(YEAR(L360)>1900,Einstellungen!$C$10-YEAR(L360),\"---\")","v":"---"},"0000-0000-f-19000100",1,343,"","",1,343,"","","0000","0000","f","19000100",1900,"01","00"]
["","",null,null,null,null,null,null,null,null,null,null,null,null,null,null,"",{"$f":"IF(YEAR(L361)>1900,Einstellungen!$C$10-YEAR(L361),\"---\")","v":"---"},"0000-0000-f-19000100",1,344,"","",1,344,"","","0000","0000","f","19000100",1900,"01","00"]
["","",null,null,null,null,null,null,null,null,null,null,null,null,null,null,"",{"$f":"IF(YEAR(L362)>1900,Einstellungen!$C$10-YEAR(L362),\"---\")","v":"---"},"0000-0000-f-19000100",1,345,"","",1,345,"","","0000","0000","f","19000100",1900,"01","00"]
["","",null,null,null,null,null,null,null,null,null,null,null,null,null,null,"",{"$f":"IF(YEAR(L363)>1900,Einstellungen!$C$10-YEAR(L363),\"---\")","v":"---"},"0000-0000-f-19000100",1,346,"","",1,346,"","","0000","0000","f","19000100",1900,"01","00"]
["","",null,null,null,null,null,null,null,null,null,null,null,null,null,null,"",{"$f":"IF(YEAR(L364)>1900,Einstellungen!$C$10-YEAR(L364),\"---\")","v":"---"},"0000-0000-f-19000100",1,347,"","",1,347,"","","0000","0000","f","19000100",1900,"01","00"]
["","",null,null,null,null,null,null,null,null,null,null,null,null,null,null,"",{"$f":"IF(YEAR(L365)>1900,Einstellungen!$C$10-YEAR(L365),\"---\")","v":"---"},"0000-0000-f-19000100",1,348,"","",1,348,"","","0000","0000","f","19000100",1900,"01","00"]
["","",null,null,null,null,null,null,null,null,null,null,null,null,null,null,"",{"$f":"IF(YEAR(L366)>1900,Einstellungen!$C$10-YEAR(L366),\"---\")","v":"---"},"0000-0000-f-19000100",1,349,"","",1,349,"","","0000","0000","f","19000100",1900,"01","00"]
["","",null,null,null,null,null,null,null,null,null,null,null,null,null,null,"",{"$f":"IF(YEAR(L367)>1900,Einstellungen!$C$10-YEAR(L367),\"---\")","v":"---"},"0000-0000-f-19000100",1,350,"","",1,350,"","","0000","0000","f","19000100",1900,"01","00"]
["","",null,null,null,null,null,null,null,null,null,null,null,null,null,null,"",{"$f":"IF(YEAR(L368)>1900,Einstellungen!$C$10-YEAR(L368),\"---\")","v":"---"},"0000-0000-f-19000100",1,351,"","",1,351,"","","0000","0000","f","19000100",1900,"01","00"]
["","",null,null,null,null,null,null,null,null,null,null,null,null,null,null,"",{"$f":"IF(YEAR(L369)>1900,Einstellungen!$C$10-YEAR(L369),\"---\")","v":"---"},"0000-0000-f-19000100",1,352,"","",1,352,"","","0000","0000","f","19000100",1900,"01","00"]
["","",null,null,null,null,null,null,null,null,null,null,null,null,null,null,"",{"$f":"IF(YEAR(L370)>1900,Einstellungen!$C$10-YEAR(L370),\"---\")","v":"---"},"0000-0000-f-19000100",1,353,"","",1,353,"","","0000","0000","f","19000100",1900,"01","00"]
["","",null,null,null,null,null,null,null,null,null,null,null,null,null,null,"",{"$f":"IF(YEAR(L371)>1900,Einstellungen!$C$10-YEAR(L371),\"---\")","v":"---"},"0000-0000-f-19000100",1,354,"","",1,354,"","","0000","0000","f","19000100",1900,"01","00"]
["","",null,null,null,null,null,null,null,null,null,null,null,null,null,null,"",{"$f":"IF(YEAR(L372)>1900,Einstellungen!$C$10-YEAR(L372),\"---\")","v":"---"},"0000-0000-f-19000100",1,355,"","",1,355,"","","0000","0000","f","19000100",1900,"01","00"]
["","",null,null,null,null,null,null,null,null,null,null,null,null,null,null,"",{"$f":"IF(YEAR(L373)>1900,Einstellungen!$C$10-YEAR(L373),\"---\")","v":"---"},"0000-0000-f-19000100",1,356,"","",1,356,"","","0000","0000","f","19000100",1900,"01","00"]
["","",null,null,null,null,null,null,null,null,null,null,null,null,null,null,"",{"$f":"IF(YEAR(L374)>1900,Einstellungen!$C$10-YEAR(L374),\"---\")","v":"---"},"0000-0000-f-19000100",1,357,"","",1,357,"","","0000","0000","f","19000100",1900,"01","00"]
["","",null,null,null,null,null,null,null,null,null,null,null,null,null,null,"",{"$f":"IF(YEAR(L375)>1900,Einstellungen!$C$10-YEAR(L375),\"---\")","v":"---"},"0000-0000-f-19000100",1,358,"","",1,358,"","","0000","0000","f","19000100",1900,"01","00"]
["","",null,null,null,null,null,null,null,null,null,null,null,null,null,null,"",{"$f":"IF(YEAR(L376)>1900,Einstellungen!$C$10-YEAR(L376),\"---\")","v":"---"},"0000-0000-f-19000100",1,359,"","",1,359,"","","0000","0000","f","19000100",1900,"01","00"]
["","",null,null,null,null,null,null,null,null,null,null,null,null,null,null,"",{"$f":"IF(YEAR(L377)>1900,Einstellungen!$C$10-YEAR(L377),\"---\")","v":"---"},"0000-0000-f-19000100",1,360,"","",1,360,"","","0000","0000","f","19000100",1900,"01","00"]
["","",null,null,null,null,null,null,null,null,null,null,null,null,null,null,"",{"$f":"IF(YEAR(L378)>1900,Einstellungen!$C$10-YEAR(L378),\"---\")","v":"---"},"0000-0000-f-19000100",1,361,"","",1,361,"","","0000","0000","f","19000100",1900,"01","00"]
["","",null,null,null,null,null,null,null,null,null,null,null,null,null,null,"",{"$f":"IF(YEAR(L379)>1900,Einstellungen!$C$10-YEAR(L379),\"---\")","v":"---"},"0000-0000-f-19000100",1,362,"","",1,362,"","","0000","0000","f","19000100",1900,"01","00"]
["","",null,null,null,null,null,null,null,null,null,null,null,null,null,null,"",{"$f":"IF(YEAR(L380)>1900,Einstellungen!$C$10-YEAR(L380),\"---\")","v":"---"},"0000-0000-f-19000100",1,363,"","",1,363,"","","0000","0000","f","19000100",1900,"01","00"]
["","",null,null,null,null,null,null,null,null,null,null,null,null,null,null,"",{"$f":"IF(YEAR(L381)>1900,Einstellungen!$C$10-YEAR(L381),\"---\")","v":"---"},"0000-0000-f-19000100",1,364,"","",1,364,"","","0000","0000","f","19000100",1900,"01","00"]
["","",null,null,null,null,null,null,null,null,null,null,null,null,null,null,"",{"$f":"IF(YEAR(L382)>1900,Einstellungen!$C$10-YEAR(L382),\"---\")","v":"---"},"0000-0000-f-19000100",1,365,"","",1,365,"","","0000","0000","f","19000100",1900,"01","00"]
["","",null,null,null,null,null,null,null,null,null,null,null,null,null,null,"",{"$f":"IF(YEAR(L383)>1900,Einstellungen!$C$10-YEAR(L383),\"---\")","v":"---"},"0000-0000-f-19000100",1,366,"","",1,366,"","","0000","0000","f","19000100",1900,"01","00"]
["","",null,null,null,null,null,null,null,null,null,null,null,null,null,null,"",{"$f":"IF(YEAR(L384)>1900,Einstellungen!$C$10-YEAR(L384),\"---\")","v":"---"},"0000-0000-f-19000100",1,367,"","",1,367,"","","0000","0000","f","19000100",1900,"01","00"]
["","",null,null,null,null,null,null,null,null,null,null,null,null,null,null,"",{"$f":"IF(YEAR(L385)>1900,Einstellungen!$C$10-YEAR(L385),\"---\")","v":"---"},"0000-0000-f-19000100",1,368,"","",1,368,"","","0000","0000","f","19000100",1900,"01","00"]
["","",null,null,null,null,null,null,null,null,null,null,null,null,null,null,"",{"$f":"IF(YEAR(L386)>1900,Einstellungen!$C$10-YEAR(L386),\"---\")","v":"---"},"0000-0000-f-19000100",1,369,"","",1,369,"","","0000","0000","f","19000100",1900,"01","00"]
["","",null,null,null,null,null,null,null,null,null,null,null,null,null,null,"",{"$f":"IF(YEAR(L387)>1900,Einstellungen!$C$10-YEAR(L387),\"---\")","v":"---"},"0000-0000-f-19000100",1,370,"","",1,370,"","","0000","0000","f","19000100",1900,"01","00"]
["","",null,null,null,null,null,null,null,null,null,null,null,null,null,null,"",{"$f":"IF(YEAR(L388)>1900,Einstellungen!$C$10-YEAR(L388),\"---\")","v":"---"},"0000-0000-f-19000100",1,371,"","",1,371,"","","0000","0000","f","19000100",1900,"01","00"]
["","",null,null,null,null,null,null,null,null,null,null,null,null,null,null,"",{"$f":"IF(YEAR(L389)>1900,Einstellungen!$C$10-YEAR(L389),\"---\")","v":"---"},"0000-0000-f-19000100",1,372,"","",1,372,"","","0000","0000","f","19000100",1900,"01","00"]
["","",null,null,null,null,null,null,null,null,null,null,null,null,null,null,"",{"$f":"IF(YEAR(L390)>1900,Einstellungen!$C$10-YEAR(L390),\"---\")","v":"---"},"0000-0000-f-19000100",1,373,"","",1,373,"","","0000","0000","f","19000100",1900,"01","00"]
["","",null,null,null,null,null,null,null,null,null,null,null,null,null,null,"",{"$f":"IF(YEAR(L391)>1900,Einstellungen!$C$10-YEAR(L391),\"---\")","v":"---"},"0000-0000-f-19000100",1,374,"","",1,374,"","","0000","0000","f","19000100",1900,"01","00"]
["","",null,null,null,null,null,null,null,null,null,null,null,null,null,null,"",{"$f":"IF(YEAR(L392)>1900,Einstellungen!$C$10-YEAR(L392),\"---\")","v":"---"},"0000-0000-f-19000100",1,375,"","",1,375,"","","0000","0000","f","19000100",1900,"01","00"]
["","",null,null,null,null,null,null,null,null,null,null,null,null,null,null,"",{"$f":"IF(YEAR(L393)>1900,Einstellungen!$C$10-YEAR(L393),\"---\")","v":"---"},"0000-0000-f-19000100",1,376,"","",1,376,"","","0000","0000","f","19000100",1900,"01","00"]
["","",null,null,null,null,null,null,null,null,null,null,null,null,null,null,"",{"$f":"IF(YEAR(L394)>1900,Einstellungen!$C$10-YEAR(L394),\"---\")","v":"---"},"0000-0000-f-19000100",1,377,"","",1,377,"","","0000","0000","f","19000100",1900,"01","00"]
["","",null,null,null,null,null,null,null,null,null,null,null,null,null,null,"",{"$f":"IF(YEAR(L395)>1900,Einstellungen!$C$10-YEAR(L395),\"---\")","v":"---"},"0000-0000-f-19000100",1,378,"","",1,378,"","","0000","0000","f","19000100",1900,"01","00"]
["","",null,null,null,null,null,null,null,null,null,null,null,null,null,null,"",{"$f":"IF(YEAR(L396)>1900,Einstellungen!$C$10-YEAR(L396),\"---\")","v":"---"},"0000-0000-f-19000100",1,379,"","",1,379,"","","0000","0000","f","19000100",1900,"01","00"]
["","",null,null,null,null,null,null,null,null,null,null,null,null,null,null,"",{"$f":"IF(YEAR(L397)>1900,Einstellungen!$C$10-YEAR(L397),\"---\")","v":"---"},"0000-0000-f-19000100",1,380,"","",1,380,"","","0000","0000","f","19000100",1900,"01","00"]
["","",null,null,null,null,null,null,null,null,null,null,null,null,null,null,"",{"$f":"IF(YEAR(L398)>1900,Einstellungen!$C$10-YEAR(L398),\"---\")","v":"---"},"0000-0000-f-19000100",1,381,"","",1,381,"","","0000","0000","f","19000100",1900,"01","00"]
["","",null,null,null,null,null,null,null,null,null,null,null,null,null,null,"",{"$f":"IF(YEAR(L399)>1900,Einstellungen!$C$10-YEAR(L399),\"---\")","v":"---"},"0000-0000-f-19000100",1,382,"","",1,382,"","","0000","0000","f","19000100",1900,"01","00"]
["","",null,null,null,null,null,null,null,null,null,null,null,null,null,null,"",{"$f":"IF(YEAR(L400)>1900,Einstellungen!$C$10-YEAR(L400),\"---\")","v":"---"},"0000-0000-f-19000100",1,383,"","",1,383,"","","0000","0000","f","19000100",1900,"01","00"]
["","",null,null,null,null,null,null,null,null,null,null,null,null,null,null,"",{"$f":"IF(YEAR(L401)>1900,Einstellungen!$C$10-YEAR(L401),\"---\")","v":"---"},"0000-0000-f-19000100",1,384,"","",1,384,"","","0000","0000","f","19000100",1900,"01","00"]
["","",null,null,null,null,null,null,null,null,null,null,null,null,null,null,{"$f":"IF(LEN(D402)>0,IF(P402=\"x\",\"\",\"x\"),\"\")","v":""},{"$f":"IF(YEAR(L402)>1900,Einstellungen!$C$10-YEAR(L402),\"---\")","v":"---"},"0000-0000-f-19000100",1,385,"","",1,385,"","","0000","0000","f","19000100",1900,"01","00"]
["","",null,null,null,null,null,null,null,null,null,null,null,null,null,null,"",{"$f":"IF(YEAR(L403)>1900,Einstellungen!$C$10-YEAR(L403),\"---\")","v":"---"},{"$f":"AB403 & \"-\" & AC403 & \"-\" & AD403 & \"-\" & AE403","v":"0000-0000-f-19000100"},{"$f":"IF(R403<=$AE$12,1,0)","v":1},{"$f":"IF(T403=1,U402+1,U402)","v":386},{"$f":"IF((M403+N403)>0,IF(T403=1,U403,\"-\"),\"\")","v":""},{"$f":"Z403 & AA403","v":""},{"$f":"IF(LEN(C403)>0, 0, T403)","v":1},{"$f":"Y402+X403","v":386},{"$f":"IF(X403=1,IF(Y403<=$Z$12,\"Q\",\"\"),\"\")","v":""},{"$f":"IF(X403=1, IF(Y403>$Z$12, IF(Y403<=($Z$12+$AA$12),\"R\",\"\"),\"\"), \"\")","v":""},{"$f":"IF(M403<1,\"0000\", IF(M403<10,\"000\"&M403, IF(M403<100,\"00\"&M403, IF(M403<1000,\"0\"&M403,\"\"& M403))))","v":"0000"},"0000",{"$f":"IF(O403=\"a\",\"a\",\"f\")","v":"f"},{"$f":"AF403&AG403&AH403","v":"19000100"},{"$f":"YEAR(L403)","v":1900},{"$f":"IF(MONTH(L403)<10,\"0\"&MONTH(L403),MONTH(L403))","v":"01"},{"$f":"IF(DAY(L403)<10,\"0\"&DAY(L403),DAY(L403))","v":"00"}]
["","",null,null,null,null,null,null,null,null,null,null,null,null,null,null,"",{"$f":"IF(YEAR(L404)>1900,Einstellungen!$C$10-YEAR(L404),\"---\")","v":"---"},"0000-0000-f-19000100",1,387,"","",1,387,"","","0000","0000","f","19000100",1900,"01","00"]
["","",null,null,null,null,null,null,null,null,null,null,null,null,null,null,"",{"$f":"IF(YEAR(L405)>1900,Einstellungen!$C$10-YEAR(L405),\"---\")","v":"---"},"0000-0000-f-19000100",1,388,"","",1,388,"","","0000","0000","f","19000100",1900,"01","00"]
["","",null,null,null,null,null,null,null,null,null,null,null,null,null,null,"",{"$f":"IF(YEAR(L406)>1900,Einstellungen!$C$10-YEAR(L406),\"---\")","v":"---"},"0000-0000-f-19000100",1,389,"","",1,389,"","","0000","0000","f","19000100",1900,"01","00"]
["","",null,null,null,null,null,null,null,null,null,null,null,null,null,null,"",{"$f":"IF(YEAR(L407)>1900,Einstellungen!$C$10-YEAR(L407),\"---\")","v":"---"},"0000-0000-f-19000100",1,390,"","",1,390,"","","0000","0000","f","19000100",1900,"01","00"]
["","",null,null,null,null,null,null,null,null,null,null,null,null,null,null,"",{"$f":"IF(YEAR(L408)>1900,Einstellungen!$C$10-YEAR(L408),\"---\")","v":"---"},"0000-0000-f-19000100",1,391,"","",1,391,"","","0000","0000","f","19000100",1900,"01","00"]
["","",null,null,null,null,null,null,null,null,null,null,null,null,null,null,"",{"$f":"IF(YEAR(L409)>1900,Einstellungen!$C$10-YEAR(L409),\"---\")","v":"---"},"0000-0000-f-19000100",1,392,"","",1,392,"","","0000","0000","f","19000100",1900,"01","00"]
["","",null,null,null,null,null,null,null,null,null,null,null,null,null,null,"",{"$f":"IF(YEAR(L410)>1900,Einstellungen!$C$10-YEAR(L410),\"---\")","v":"---"},"0000-0000-f-19000100",1,393,"","",1,393,"","","0000","0000","f","19000100",1900,"01","00"]
["","",null,null,null,null,null,null,null,null,null,null,null,null,null,null,"",{"$f":"IF(YEAR(L411)>1900,Einstellungen!$C$10-YEAR(L411),\"---\")","v":"---"},"0000-0000-f-19000100",1,394,"","",1,394,"","","0000","0000","f","19000100",1900,"01","00"]
["","",null,null,null,null,null,null,null,null,null,null,null,null,null,null,"",{"$f":"IF(YEAR(L412)>1900,Einstellungen!$C$10-YEAR(L412),\"---\")","v":"---"},"0000-0000-f-19000100",1,395,"","",1,395,"","","0000","0000","f","19000100",1900,"01","00"]
["","",null,null,null,null,null,null,null,null,null,null,null,null,null,null,"",{"$f":"IF(YEAR(L413)>1900,Einstellungen!$C$10-YEAR(L413),\"---\")","v":"---"},"0000-0000-f-19000100",1,396,"","",1,396,"","","0000","0000","f","19000100",1900,"01","00"]
["","",null,null,null,null,null,null,null,null,null,null,null,null,null,null,"",{"$f":"IF(YEAR(L414)>1900,Einstellungen!$C$10-YEAR(L414),\"---\")","v":"---"},"0000-0000-f-19000100",1,397,"","",1,397,"","","0000","0000","f","19000100",1900,"01","00"]
["","",null,null,null,null,null,null,null,null,null,null,null,null,null,null,"",{"$f":"IF(YEAR(L415)>1900,Einstellungen!$C$10-YEAR(L415),\"---\")","v":"---"},"0000-0000-f-19000100",1,398,"","",1,398,"","","0000","0000","f","19000100",1900,"01","00"]
["","",null,null,null,null,null,null,null,null,null,null,null,null,null,null,"",{"$f":"IF(YEAR(L416)>1900,Einstellungen!$C$10-YEAR(L416),\"---\")","v":"---"},"0000-0000-f-19000100",1,399,"","",1,399,"","","0000","0000","f","19000100",1900,"01","00"]
["","",null,null,null,null,null,null,null,null,null,null,null,null,null,null,"",{"$f":"IF(YEAR(L417)>1900,Einstellungen!$C$10-YEAR(L417),\"---\")","v":"---"},"0000-0000-f-19000100",1,400,"","",1,400,"","","0000","0000","f","19000100",1900,"01","00"]
["","",null,null,null,null,null,null,null,null,null,null,null,null,null,null,"",{"$f":"IF(YEAR(L418)>1900,Einstellungen!$C$10-YEAR(L418),\"---\")","v":"---"},"0000-0000-f-19000100",1,401,"","",1,401,"","","0000","0000","f","19000100",1900,"01","00"]
["","",null,null,null,null,null,null,null,null,null,null,null,null,null,null,"",{"$f":"IF(YEAR(L419)>1900,Einstellungen!$C$10-YEAR(L419),\"---\")","v":"---"},"0000-0000-f-19000100",1,402,"","",1,402,"","","0000","0000","f","19000100",1900,"01","00"]
["","",null,null,null,null,null,null,null,null,null,null,null,null,null,null,"",{"$f":"IF(YEAR(L420)>1900,Einstellungen!$C$10-YEAR(L420),\"---\")","v":"---"},"0000-0000-f-19000100",1,403,"","",1,403,"","","0000","0000","f","19000100",1900,"01","00"]
["","",null,null,null,null,null,null,null,null,null,null,null,null,null,null,"",{"$f":"IF(YEAR(L421)>1900,Einstellungen!$C$10-YEAR(L421),\"---\")","v":"---"},"0000-0000-f-19000100",1,404,"","",1,404,"","","0000","0000","f","19000100",1900,"01","00"]
["","",null,null,null,null,null,null,null,null,null,null,null,null,null,null,"",{"$f":"IF(YEAR(L422)>1900,Einstellungen!$C$10-YEAR(L422),\"---\")","v":"---"},"0000-0000-f-19000100",1,405,"","",1,405,"","","0000","0000","f","19000100",1900,"01","00"]
["","",null,null,null,null,null,null,null,null,null,null,null,null,null,null,"",{"$f":"IF(YEAR(L423)>1900,Einstellungen!$C$10-YEAR(L423),\"---\")","v":"---"},"0000-0000-f-19000100",1,406,"","",1,406,"","","0000","0000","f","19000100",1900,"01","00"]
["","",null,null,null,null,null,null,null,null,null,null,null,null,null,null,"",{"$f":"IF(YEAR(L424)>1900,Einstellungen!$C$10-YEAR(L424),\"---\")","v":"---"},"0000-0000-f-19000100",1,407,"","",1,407,"","","0000","0000","f","19000100",1900,"01","00"]
["","",null,null,null,null,null,null,null,null,null,null,null,null,null,null,"",{"$f":"IF(YEAR(L425)>1900,Einstellungen!$C$10-YEAR(L425),\"---\")","v":"---"},"0000-0000-f-19000100",1,408,"","",1,408,"","","0000","0000","f","19000100",1900,"01","00"]
["","",null,null,null,null,null,null,null,null,null,null,null,null,null,null,"",{"$f":"IF(YEAR(L426)>1900,Einstellungen!$C$10-YEAR(L426),\"---\")","v":"---"},"0000-0000-f-19000100",1,409,"","",1,409,"","","0000","0000","f","19000100",1900,"01","00"]
["","",null,null,null,null,null,null,null,null,null,null,null,null,null,null,"",{"$f":"IF(YEAR(L427)>1900,Einstellungen!$C$10-YEAR(L427),\"---\")","v":"---"},"0000-0000-f-19000100",1,410,"","",1,410,"","","0000","0000","f","19000100",1900,"01","00"]
["","",null,null,null,null,null,null,null,null,null,null,null,null,null,null,"",{"$f":"IF(YEAR(L428)>1900,Einstellungen!$C$10-YEAR(L428),\"---\")","v":"---"},"0000-0000-f-19000100",1,411,"","",1,411,"","","0000","0000","f","19000100",1900,"01","00"]
["","",null,null,null,null,null,null,null,null,null,null,null,null,null,null,"",{"$f":"IF(YEAR(L429)>1900,Einstellungen!$C$10-YEAR(L429),\"---\")","v":"---"},"0000-0000-f-19000100",1,412,"","",1,412,"","","0000","0000","f","19000100",1900,"01","00"]
["","",null,null,null,null,null,null,null,null,null,null,null,null,null,null,"",{"$f":"IF(YEAR(L430)>1900,Einstellungen!$C$10-YEAR(L430),\"---\")","v":"---"},"0000-0000-f-19000100",1,413,"","",1,413,"","","0000","0000","f","19000100",1900,"01","00"]
["","",null,null,null,null,null,null,null,null,null,null,null,null,null,null,"",{"$f":"IF(YEAR(L431)>1900,Einstellungen!$C$10-YEAR(L431),\"---\")","v":"---"},"0000-0000-f-19000100",1,414,"","",1,414,"","","0000","0000","f","19000100",1900,"01","00"]
["","",null,null,null,null,null,null,null,null,null,null,null,null,null,null,"",{"$f":"IF(YEAR(L432)>1900,Einstellungen!$C$10-YEAR(L432),\"---\")","v":"---"},"0000-0000-f-19000100",1,415,"","",1,415,"","","0000","0000","f","19000100",1900,"01","00"]
["","",null,null,null,null,null,null,null,null,null,null,null,null,null,null,"",{"$f":"IF(YEAR(L433)>1900,Einstellungen!$C$10-YEAR(L433),\"---\")","v":"---"},"0000-0000-f-19000100",1,416,"","",1,416,"","","0000","0000","f","19000100",1900,"01","00"]
["","",null,null,null,null,null,null,null,null,null,null,null,null,null,null,"",{"$f":"IF(YEAR(L434)>1900,Einstellungen!$C$10-YEAR(L434),\"---\")","v":"---"},"0000-0000-f-19000100",1,417,"","",1,417,"","","0000","0000","f","19000100",1900,"01","00"]
["","",null,null,null,null,null,null,null,null,null,null,null,null,null,null,"",{"$f":"IF(YEAR(L435)>1900,Einstellungen!$C$10-YEAR(L435),\"---\")","v":"---"},"0000-0000-f-19000100",1,418,"","",1,418,"","","0000","0000","f","19000100",1900,"01","00"]
["","",null,null,null,null,null,null,null,null,null,null,null,null,null,null,"",{"$f":"IF(YEAR(L436)>1900,Einstellungen!$C$10-YEAR(L436),\"---\")","v":"---"},"0000-0000-f-19000100",1,419,"","",1,419,"","","0000","0000","f","19000100",1900,"01","00"]
["","",null,null,null,null,null,null,null,null,null,null,null,null,null,null,"",{"$f":"IF(YEAR(L437)>1900,Einstellungen!$C$10-YEAR(L437),\"---\")","v":"---"},"0000-0000-f-19000100",1,420,"","",1,420,"","","0000","0000","f","19000100",1900,"01","00"]
["","",null,null,null,null,null,null,null,null,null,null,null,null,null,null,"",{"$f":"IF(YEAR(L438)>1900,Einstellungen!$C$10-YEAR(L438),\"---\")","v":"---"},"0000-0000-f-19000100",1,421,"","",1,421,"","","0000","0000","f","19000100",1900,"01","00"]
["","",null,null,null,null,null,null,null,null,null,null,null,null,null,null,"",{"$f":"IF(YEAR(L439)>1900,Einstellungen!$C$10-YEAR(L439),\"---\")","v":"---"},"0000-0000-f-19000100",1,422,"","",1,422,"","","0000","0000","f","19000100",1900,"01","00"]
["","",null,null,null,null,null,null,null,null,null,null,null,null,null,null,"",{"$f":"IF(YEAR(L440)>1900,Einstellungen!$C$10-YEAR(L440),\"---\")","v":"---"},"0000-0000-f-19000100",1,423,"","",1,423,"","","0000","0000","f","19000100",1900,"01","00"]
["","",null,null,null,null,null,null,null,null,null,null,null,null,null,null,"",{"$f":"IF(YEAR(L441)>1900,Einstellungen!$C$10-YEAR(L441),\"---\")","v":"---"},"0000-0000-f-19000100",1,424,"","",1,424,"","","0000","0000","f","19000100",1900,"01","00"]
["","",null,null,null,null,null,null,null,null,null,null,null,null,null,null,"",{"$f":"IF(YEAR(L442)>1900,Einstellungen!$C$10-YEAR(L442),\"---\")","v":"---"},"0000-0000-f-19000100",1,425,"","",1,425,"","","0000","0000","f","19000100",1900,"01","00"]
["","",null,null,null,null,null,null,null,null,null,null,null,null,null,null,"",{"$f":"IF(YEAR(L443)>1900,Einstellungen!$C$10-YEAR(L443),\"---\")","v":"---"},"0000-0000-f-19000100",1,426,"","",1,426,"","","0000","0000","f","19000100",1900,"01","00"]
["","",null,null,null,null,null,null,null,null,null,null,null,null,null,null,"",{"$f":"IF(YEAR(L444)>1900,Einstellungen!$C$10-YEAR(L444),\"---\")","v":"---"},"0000-0000-f-19000100",1,427,"","",1,427,"","","0000","0000","f","19000100",1900,"01","00"]
["","",null,null,null,null,null,null,null,null,null,null,null,null,null,null,"",{"$f":"IF(YEAR(L445)>1900,Einstellungen!$C$10-YEAR(L445),\"---\")","v":"---"},"0000-0000-f-19000100",1,428,"","",1,428,"","","0000","0000","f","19000100",1900,"01","00"]
["","",null,null,null,null,null,null,null,null,null,null,null,null,null,null,"",{"$f":"IF(YEAR(L446)>1900,Einstellungen!$C$10-YEAR(L446),\"---\")","v":"---"},"0000-0000-f-19000100",1,429,"","",1,429,"","","0000","0000","f","19000100",1900,"01","00"]
["","",null,null,null,null,null,null,null,null,null,null,null,null,null,null,"",{"$f":"IF(YEAR(L447)>1900,Einstellungen!$C$10-YEAR(L447),\"---\")","v":"---"},"0000-0000-f-19000100",1,430,"","",1,430,"","","0000","0000","f","19000100",1900,"01","00"]
["","",null,null,null,null,null,null,null,null,null,null,null,null,null,null,"",{"$f":"IF(YEAR(L448)>1900,Einstellungen!$C$10-YEAR(L448),\"---\")","v":"---"},"0000-0000-f-19000100",1,431,"","",1,431,"","","0000","0000","f","19000100",1900,"01","00"]
["","",null,null,null,null,null,null,null,null,null,null,null,null,null,null,"",{"$f":"IF(YEAR(L449)>1900,Einstellungen!$C$10-YEAR(L449),\"---\")","v":"---"},"0000-0000-f-19000100",1,432,"","",1,432,"","","0000","0000","f","19000100",1900,"01","00"]
["","",null,null,null,null,null,null,null,null,null,null,null,null,null,null,"",{"$f":"IF(YEAR(L450)>1900,Einstellungen!$C$10-YEAR(L450),\"---\")","v":"---"},"0000-0000-f-19000100",1,433,"","",1,433,"","","0000","0000","f","19000100",1900,"01","00"]
["","",null,null,null,null,null,null,null,null,null,null,null,null,null,null,"",{"$f":"IF(YEAR(L451)>1900,Einstellungen!$C$10-YEAR(L451),\"---\")","v":"---"},"0000-0000-f-19000100",1,434,"","",1,434,"","","0000","0000","f","19000100",1900,"01","00"]
["","",null,null,null,null,null,null,null,null,null,null,null,null,null,null,"",{"$f":"IF(YEAR(L452)>1900,Einstellungen!$C$10-YEAR(L452),\"---\")","v":"---"},"0000-0000-f-19000100",1,435,"","",1,435,"","","0000","0000","f","19000100",1900,"01","00"]
["","",null,null,null,null,null,null,null,null,null,null,null,null,null,null,"",{"$f":"IF(YEAR(L453)>1900,Einstellungen!$C$10-YEAR(L453),\"---\")","v":"---"},"0000-0000-f-19000100",1,436,"","",1,436,"","","0000","0000","f","19000100",1900,"01","00"]
["","",null,null,null,null,null,null,null,null,null,null,null,null,null,null,"",{"$f":"IF(YEAR(L454)>1900,Einstellungen!$C$10-YEAR(L454),\"---\")","v":"---"},"0000-0000-f-19000100",1,437,"","",1,437,"","","0000","0000","f","19000100",1900,"01","00"]
["","",null,null,null,null,null,null,null,null,null,null,null,null,null,null,"",{"$f":"IF(YEAR(L455)>1900,Einstellungen!$C$10-YEAR(L455),\"---\")","v":"---"},"0000-0000-f-19000100",1,438,"","",1,438,"","","0000","0000","f","19000100",1900,"01","00"]
["","",null,null,null,null,null,null,null,null,null,null,null,null,null,null,"",{"$f":"IF(YEAR(L456)>1900,Einstellungen!$C$10-YEAR(L456),\"---\")","v":"---"},"0000-0000-f-19000100",1,439,"","",1,439,"","","0000","0000","f","19000100",1900,"01","00"]
["","",null,null,null,null,null,null,null,null,null,null,null,null,null,null,"",{"$f":"IF(YEAR(L457)>1900,Einstellungen!$C$10-YEAR(L457),\"---\")","v":"---"},"0000-0000-f-19000100",1,440,"","",1,440,"","","0000","0000","f","19000100",1900,"01","00"]
["","",null,null,null,null,null,null,null,null,null,null,null,null,null,null,"",{"$f":"IF(YEAR(L458)>1900,Einstellungen!$C$10-YEAR(L458),\"---\")","v":"---"},"0000-0000-f-19000100",1,441,"","",1,441,"","","0000","0000","f","19000100",1900,"01","00"]
["","",null,null,null,null,null,null,null,null,null,null,null,null,null,null,"",{"$f":"IF(YEAR(L459)>1900,Einstellungen!$C$10-YEAR(L459),\"---\")","v":"---"},"0000-0000-f-19000100",1,442,"","",1,442,"","","0000","0000","f","19000100",1900,"01","00"]
["","",null,null,null,null,null,null,null,null,null,null,null,null,null,null,"",{"$f":"IF(YEAR(L460)>1900,Einstellungen!$C$10-YEAR(L460),\"---\")","v":"---"},"0000-0000-f-19000100",1,443,"","",1,443,"","","0000","0000","f","19000100",1900,"01","00"]
["","",null,null,null,null,null,null,null,null,null,null,null,null,null,null,"",{"$f":"IF(YEAR(L461)>1900,Einstellungen!$C$10-YEAR(L461),\"---\")","v":"---"},"0000-0000-f-19000100",1,444,"","",1,444,"","","0000","0000","f","19000100",1900,"01","00"]
["","",null,null,null,null,null,null,null,null,null,null,null,null,null,null,"",{"$f":"IF(YEAR(L462)>1900,Einstellungen!$C$10-YEAR(L462),\"---\")","v":"---"},"0000-0000-f-19000100",1,445,"","",1,445,"","","0000","0000","f","19000100",1900,"01","00"]
["","",null,null,null,null,null,null,null,null,null,null,null,null,null,null,"",{"$f":"IF(YEAR(L463)>1900,Einstellungen!$C$10-YEAR(L463),\"---\")","v":"---"},"0000-0000-f-19000100",1,446,"","",1,446,"","","0000","0000","f","19000100",1900,"01","00"]
["","",null,null,null,null,null,null,null,null,null,null,null,null,null,null,"",{"$f":"IF(YEAR(L464)>1900,Einstellungen!$C$10-YEAR(L464),\"---\")","v":"---"},"0000-0000-f-19000100",1,447,"","",1,447,"","","0000","0000","f","19000100",1900,"01","00"]
["","",null,null,null,null,null,null,null,null,null,null,null,null,null,null,"",{"$f":"IF(YEAR(L465)>1900,Einstellungen!$C$10-YEAR(L465),\"---\")","v":"---"},"0000-0000-f-19000100",1,448,"","",1,448,"","","0000","0000","f","19000100",1900,"01","00"]
["","",null,null,null,null,null,null,null,null,null,null,null,null,null,null,{"$f":"IF(LEN(D466)>0,IF(P466=\"x\",\"\",\"x\"),\"\")","v":""},{"$f":"IF(YEAR(L466)>1900,Einstellungen!$C$10-YEAR(L466),\"---\")","v":"---"},"0000-0000-f-19000100",1,449,"","",1,449,"","","0000","0000","f","19000100",1900,"01","00"]
["","",null,null,null,null,null,null,null,null,null,null,null,null,null,null,"",{"$f":"IF(YEAR(L467)>1900,Einstellungen!$C$10-YEAR(L467),\"---\")","v":"---"},{"$f":"AB467 & \"-\" & AC467 & \"-\" & AD467 & \"-\" & AE467","v":"0000-0000-f-19000100"},{"$f":"IF(R467<=$AE$12,1,0)","v":1},{"$f":"IF(T467=1,U466+1,U466)","v":450},{"$f":"IF((M467+N467)>0,IF(T467=1,U467,\"-\"),\"\")","v":""},{"$f":"Z467 & AA467","v":""},{"$f":"IF(LEN(C467)>0, 0, T467)","v":1},{"$f":"Y466+X467","v":450},{"$f":"IF(X467=1,IF(Y467<=$Z$12,\"Q\",\"\"),\"\")","v":""},{"$f":"IF(X467=1, IF(Y467>$Z$12, IF(Y467<=($Z$12+$AA$12),\"R\",\"\"),\"\"), \"\")","v":""},{"$f":"IF(M467<1,\"0000\", IF(M467<10,\"000\"&M467, IF(M467<100,\"00\"&M467, IF(M467<1000,\"0\"&M467,\"\"& M467))))","v":"0000"},"0000",{"$f":"IF(O467=\"a\",\"a\",\"f\")","v":"f"},{"$f":"AF467&AG467&AH467","v":"19000100"},{"$f":"YEAR(L467)","v":1900},{"$f":"IF(MONTH(L467)<10,\"0\"&MONTH(L467),MONTH(L467))","v":"01"},{"$f":"IF(DAY(L467)<10,\"0\"&DAY(L467),DAY(L467))","v":"00"}]
["","",null,null,null,null,null,null,null,null,null,null,null,null,null,null,"",{"$f":"IF(YEAR(L468)>1900,Einstellungen!$C$10-YEAR(L468),\"---\")","v":"---"},"0000-0000-f-19000100",1,451,"","",1,451,"","","0000","0000","f","19000100",1900,"01","00"]
["","",null,null,null,null,null,null,null,null,null,null,null,null,null,null,"",{"$f":"IF(YEAR(L469)>1900,Einstellungen!$C$10-YEAR(L469),\"---\")","v":"---"},"0000-0000-f-19000100",1,452,"","",1,452,"","","0000","0000","f","19000100",1900,"01","00"]
["","",null,null,null,null,null,null,null,null,null,null,null,null,null,null,"",{"$f":"IF(YEAR(L470)>1900,Einstellungen!$C$10-YEAR(L470),\"---\")","v":"---"},"0000-0000-f-19000100",1,453,"","",1,453,"","","0000","0000","f","19000100",1900,"01","00"]
["","",null,null,null,null,null,null,null,null,null,null,null,null,null,null,"",{"$f":"IF(YEAR(L471)>1900,Einstellungen!$C$10-YEAR(L471),\"---\")","v":"---"},"0000-0000-f-19000100",1,454,"","",1,454,"","","0000","0000","f","19000100",1900,"01","00"]
["","",null,null,null,null,null,null,null,null,null,null,null,null,null,null,"",{"$f":"IF(YEAR(L472)>1900,Einstellungen!$C$10-YEAR(L472),\"---\")","v":"---"},"0000-0000-f-19000100",1,455,"","",1,455,"","","0000","0000","f","19000100",1900,"01","00"]
["","",null,null,null,null,null,null,null,null,null,null,null,null,null,null,"",{"$f":"IF(YEAR(L473)>1900,Einstellungen!$C$10-YEAR(L473),\"---\")","v":"---"},"0000-0000-f-19000100",1,456,"","",1,456,"","","0000","0000","f","19000100",1900,"01","00"]
["","",null,null,null,null,null,null,null,null,null,null,null,null,null,null,"",{"$f":"IF(YEAR(L474)>1900,Einstellungen!$C$10-YEAR(L474),\"---\")","v":"---"},"0000-0000-f-19000100",1,457,"","",1,457,"","","0000","0000","f","19000100",1900,"01","00"]
["","",null,null,null,null,null,null,null,null,null,null,null,null,null,null,"",{"$f":"IF(YEAR(L475)>1900,Einstellungen!$C$10-YEAR(L475),\"---\")","v":"---"},"0000-0000-f-19000100",1,458,"","",1,458,"","","0000","0000","f","19000100",1900,"01","00"]
["","",null,null,null,null,null,null,null,null,null,null,null,null,null,null,"",{"$f":"IF(YEAR(L476)>1900,Einstellungen!$C$10-YEAR(L476),\"---\")","v":"---"},"0000-0000-f-19000100",1,459,"","",1,459,"","","0000","0000","f","19000100",1900,"01","00"]
["","",null,null,null,null,null,null,null,null,null,null,null,null,null,null,"",{"$f":"IF(YEAR(L477)>1900,Einstellungen!$C$10-YEAR(L477),\"---\")","v":"---"},"0000-0000-f-19000100",1,460,"","",1,460,"","","0000","0000","f","19000100",1900,"01","00"]
["","",null,null,null,null,null,null,null,null,null,null,null,null,null,null,"",{"$f":"IF(YEAR(L478)>1900,Einstellungen!$C$10-YEAR(L478),\"---\")","v":"---"},"0000-0000-f-19000100",1,461,"","",1,461,"","","0000","0000","f","19000100",1900,"01","00"]
["","",null,null,null,null,null,null,null,null,null,null,null,null,null,null,"",{"$f":"IF(YEAR(L479)>1900,Einstellungen!$C$10-YEAR(L479),\"---\")","v":"---"},"0000-0000-f-19000100",1,462,"","",1,462,"","","0000","0000","f","19000100",1900,"01","00"]
["","",null,null,null,null,null,null,null,null,null,null,null,null,null,null,"",{"$f":"IF(YEAR(L480)>1900,Einstellungen!$C$10-YEAR(L480),\"---\")","v":"---"},"0000-0000-f-19000100",1,463,"","",1,463,"","","0000","0000","f","19000100",1900,"01","00"]
["","",null,null,null,null,null,null,null,null,null,null,null,null,null,null,"",{"$f":"IF(YEAR(L481)>1900,Einstellungen!$C$10-YEAR(L481),\"---\")","v":"---"},"0000-0000-f-19000100",1,464,"","",1,464,"","","0000","0000","f","19000100",1900,"01","00"]
["","",null,null,null,null,null,null,null,null,null,null,null,null,null,null,"",{"$f":"IF(YEAR(L482)>1900,Einstellungen!$C$10-YEAR(L482),\"---\")","v":"---"},"0000-0000-f-19000100",1,465,"","",1,465,"","","0000","0000","f","19000100",1900,"01","00"]
["","",null,null,null,null,null,null,null,null,null,null,null,null,null,null,"",{"$f":"IF(YEAR(L483)>1900,Einstellungen!$C$10-YEAR(L483),\"---\")","v":"---"},"0000-0000-f-19000100",1,466,"","",1,466,"","","0000","0000","f","19000100",1900,"01","00"]
["","",null,null,null,null,null,null,null,null,null,null,null,null,null,null,"",{"$f":"IF(YEAR(L484)>1900,Einstellungen!$C$10-YEAR(L484),\"---\")","v":"---"},"0000-0000-f-19000100",1,467,"","",1,467,"","","0000","0000","f","19000100",1900,"01","00"]
["","",null,null,null,null,null,null,null,null,null,null,null,null,null,null,"",{"$f":"IF(YEAR(L485)>1900,Einstellungen!$C$10-YEAR(L485),\"---\")","v":"---"},"0000-0000-f-19000100",1,468,"","",1,468,"","","0000","0000","f","19000100",1900,"01","00"]
["","",null,null,null,null,null,null,null,null,null,null,null,null,null,null,"",{"$f":"IF(YEAR(L486)>1900,Einstellungen!$C$10-YEAR(L486),\"---\")","v":"---"},"0000-0000-f-19000100",1,469,"","",1,469,"","","0000","0000","f","19000100",1900,"01","00"]
["","",null,null,null,null,null,null,null,null,null,null,null,null,null,null,"",{"$f":"IF(YEAR(L487)>1900,Einstellungen!$C$10-YEAR(L487),\"---\")","v":"---"},"0000-0000-f-19000100",1,470,"","",1,470,"","","0000","0000","f","19000100",1900,"01","00"]
["","",null,null,null,null,null,null,null,null,null,null,null,null,null,null,"",{"$f":"IF(YEAR(L488)>1900,Einstellungen!$C$10-YEAR(L488),\"---\")","v":"---"},"0000-0000-f-19000100",1,471,"","",1,471,"","","0000","0000","f","19000100",1900,"01","00"]
["","",null,null,null,null,null,null,null,null,null,null,null,null,null,null,"",{"$f":"IF(YEAR(L489)>1900,Einstellungen!$C$10-YEAR(L489),\"---\")","v":"---"},"0000-0000-f-19000100",1,472,"","",1,472,"","","0000","0000","f","19000100",1900,"01","00"]
["","",null,null,null,null,null,null,null,null,null,null,null,null,null,null,"",{"$f":"IF(YEAR(L490)>1900,Einstellungen!$C$10-YEAR(L490),\"---\")","v":"---"},"0000-0000-f-19000100",1,473,"","",1,473,"","","0000","0000","f","19000100",1900,"01","00"]
["","",null,null,null,null,null,null,null,null,null,null,null,null,null,null,"",{"$f":"IF(YEAR(L491)>1900,Einstellungen!$C$10-YEAR(L491),\"---\")","v":"---"},"0000-0000-f-19000100",1,474,"","",1,474,"","","0000","0000","f","19000100",1900,"01","00"]
["","",null,null,null,null,null,null,null,null,null,null,null,null,null,null,"",{"$f":"IF(YEAR(L492)>1900,Einstellungen!$C$10-YEAR(L492),\"---\")","v":"---"},"0000-0000-f-19000100",1,475,"","",1,475,"","","0000","0000","f","19000100",1900,"01","00"]
["","",null,null,null,null,null,null,null,null,null,null,null,null,null,null,"",{"$f":"IF(YEAR(L493)>1900,Einstellungen!$C$10-YEAR(L493),\"---\")","v":"---"},"0000-0000-f-19000100",1,476,"","",1,476,"","","0000","0000","f","19000100",1900,"01","00"]
["","",null,null,null,null,null,null,null,null,null,null,null,null,null,null,"",{"$f":"IF(YEAR(L494)>1900,Einstellungen!$C$10-YEAR(L494),\"---\")","v":"---"},"0000-0000-f-19000100",1,477,"","",1,477,"","","0000","0000","f","19000100",1900,"01","00"]
["","",null,null,null,null,null,null,null,null,null,null,null,null,null,null,"",{"$f":"IF(YEAR(L495)>1900,Einstellungen!$C$10-YEAR(L495),\"---\")","v":"---"},"0000-0000-f-19000100",1,478,"","",1,478,"","","0000","0000","f","19000100",1900,"01","00"]
["","",null,null,null,null,null,null,null,null,null,null,null,null,null,null,"",{"$f":"IF(YEAR(L496)>1900,Einstellungen!$C$10-YEAR(L496),\"---\")","v":"---"},"0000-0000-f-19000100",1,479,"","",1,479,"","","0000","0000","f","19000100",1900,"01","00"]
["","",null,null,null,null,null,null,null,null,null,null,null,null,null,null,"",{"$f":"IF(YEAR(L497)>1900,Einstellungen!$C$10-YEAR(L497),\"---\")","v":"---"},"0000-0000-f-19000100",1,480,"","",1,480,"","","0000","0000","f","19000100",1900,"01","00"]
["","",null,null,null,null,null,null,null,null,null,null,null,null,null,null,"",{"$f":"IF(YEAR(L498)>1900,Einstellungen!$C$10-YEAR(L498),\"---\")","v":"---"},"0000-0000-f-19000100",1,481,"","",1,481,"","","0000","0000","f","19000100",1900,"01","00"]
["","",null,null,null,null,null,null,null,null,null,null,null,null,null,null,"",{"$f":"IF(YEAR(L499)>1900,Einstellungen!$C$10-YEAR(L499),\"---\")","v":"---"},"0000-0000-f-19000100",1,482,"","",1,482,"","","0000","0000","f","19000100",1900,"01","00"]
["","",null,null,null,null,null,null,null,null,null,null,null,null,null,null,"",{"$f":"IF(YEAR(L500)>1900,Einstellungen!$C$10-YEAR(L500),\"---\")","v":"---"},"0000-0000-f-19000100",1,483,"","",1,483,"","","0000","0000","f","19000100",1900,"01","00"]
["","",null,null,null,null,null,null,null,null,null,null,null,null,null,null,"",{"$f":"IF(YEAR(L501)>1900,Einstellungen!$C$10-YEAR(L501),\"---\")","v":"---"},"0000-0000-f-19000100",1,484,"","",1,484,"","","0000","0000","f","19000100",1900,"01","00"]
["","",null,null,null,null,null,null,null,null,null,null,null,null,null,null,"",{"$f":"IF(YEAR(L502)>1900,Einstellungen!$C$10-YEAR(L502),\"---\")","v":"---"},"0000-0000-f-19000100",1,485,"","",1,485,"","","0000","0000","f","19000100",1900,"01","00"]
["","",null,null,null,null,null,null,null,null,null,null,null,null,null,null,"",{"$f":"IF(YEAR(L503)>1900,Einstellungen!$C$10-YEAR(L503),\"---\")","v":"---"},"0000-0000-f-19000100",1,486,"","",1,486,"","","0000","0000","f","19000100",1900,"01","00"]
["","",null,null,null,null,null,null,null,null,null,null,null,null,null,null,"",{"$f":"IF(YEAR(L504)>1900,Einstellungen!$C$10-YEAR(L504),\"---\")","v":"---"},"0000-0000-f-19000100",1,487,"","",1,487,"","","0000","0000","f","19000100",1900,"01","00"]
["","",null,null,null,null,null,null,null,null,null,null,null,null,null,null,"",{"$f":"IF(YEAR(L505)>1900,Einstellungen!$C$10-YEAR(L505),\"---\")","v":"---"},"0000-0000-f-19000100",1,488,"","",1,488,"","","0000","0000","f","19000100",1900,"01","00"]
["","",null,null,null,null,null,null,null,null,null,null,null,null,null,null,"",{"$f":"IF(YEAR(L506)>1900,Einstellungen!$C$10-YEAR(L506),\"---\")","v":"---"},"0000-0000-f-19000100",1,489,"","",1,489,"","","0000","0000","f","19000100",1900,"01","00"]
["","",null,null,null,null,null,null,null,null,null,null,null,null,null,null,"",{"$f":"IF(YEAR(L507)>1900,Einstellungen!$C$10-YEAR(L507),\"---\")","v":"---"},"0000-0000-f-19000100",1,490,"","",1,490,"","","0000","0000","f","19000100",1900,"01","00"]
["","",null,null,null,null,null,null,null,null,null,null,null,null,null,null,"",{"$f":"IF(YEAR(L508)>1900,Einstellungen!$C$10-YEAR(L508),\"---\")","v":"---"},"0000-0000-f-19000100",1,491,"","",1,491,"","","0000","0000","f","19000100",1900,"01","00"]
["","",null,null,null,null,null,null,null,null,null,null,null,null,null,null,"",{"$f":"IF(YEAR(L509)>1900,Einstellungen!$C$10-YEAR(L509),\"---\")","v":"---"},"0000-0000-f-19000100",1,492,"","",1,492,"","","0000","0000","f","19000100",1900,"01","00"]
["","",null,null,null,null,null,null,null,null,null,null,null,null,null,null,"",{"$f":"IF(YEAR(L510)>1900,Einstellungen!$C$10-YEAR(L510),\"---\")","v":"---"},"0000-0000-f-19000100",1,493,"","",1,493,"","","0000","0000","f","19000100",1900,"01","00"]
["","",null,null,null,null,null,null,null,null,null,null,null,null,null,null,"",{"$f":"IF(YEAR(L511)>1900,Einstellungen!$C$10-YEAR(L511),\"---\")","v":"---"},"0000-0000-f-19000100",1,494,"","",1,494,"","","0000","0000","f","19000100",1900,"01","00"]
["","",null,null,null,null,null,null,null,null,null,null,null,null,null,null,"",{"$f":"IF(YEAR(L512)>1900,Einstellungen!$C$10-YEAR(L512),\"---\")","v":"---"},"0000-0000-f-19000100",1,495,"","",1,495,"","","0000","0000","f","19000100",1900,"01","00"]
["","",null,null,null,null,null,null,null,null,null,null,null,null,null,null,"",{"$f":"IF(YEAR(L513)>1900,Einstellungen!$C$10-YEAR(L513),\"---\")","v":"---"},"0000-0000-f-19000100",1,496,"","",1,496,"","","0000","0000","f","19000100",1900,"01","00"]
["","",null,null,null,null,null,null,null,null,null,null,null,null,null,null,"",{"$f":"IF(YEAR(L514)>1900,Einstellungen!$C$10-YEAR(L514),\"---\")","v":"---"},"0000-0000-f-19000100",1,497,"","",1,497,"","","0000","0000","f","19000100",1900,"01","00"]
["","",null,null,null,null,null,null,null,null,null,null,null,null,null,null,"",{"$f":"IF(YEAR(L515)>1900,Einstellungen!$C$10-YEAR(L515),\"---\")","v":"---"},"0000-0000-f-19000100",1,498,"","",1,498,"","","0000","0000","f","19000100",1900,"01","00"]
["","",null,null,null,null,null,null,null,null,null,null,null,null,null,null,"",{"$f":"IF(YEAR(L516)>1900,Einstellungen!$C$10-YEAR(L516),\"---\")","v":"---"},"0000-0000-f-19000100",1,499,"","",1,499,"","","0000","0000","f","19000100",1900,"01","00"]
["","",null,null,null,null,null,null,null,null,null,null,null,null,null,null,"",{"$f":"IF(YEAR(L517)>1900,Einstellungen!$C$10-YEAR(L517),\"---\")","v":"---"},"0000-0000-f-19000100",1,500,"","",1,500,"","","0000","0000","f","19000100",1900,"01","00"]
["","",null,null,null,null,null,null,null,null,null,null,null,null,null,null,"",{"$f":"IF(YEAR(L518)>1900,Einstellungen!$C$10-YEAR(L518),\"---\")","v":"---"},"0000-0000-f-19000100",1,501,"","",1,501,"","","0000","0000","f","19000100",1900,"01","00"]
["","",null,null,null,null,null,null,null,null,null,null,null,null,null,null,"",{"$f":"IF(YEAR(L519)>1900,Einstellungen!$C$10-YEAR(L519),\"---\")","v":"---"},"0000-0000-f-19000100",1,502,"","",1,502,"","","0000","0000","f","19000100",1900,"01","00"]
["","",null,null,null,null,null,null,null,null,null,null,null,null,null,null,"",{"$f":"IF(YEAR(L520)>1900,Einstellungen!$C$10-YEAR(L520),\"---\")","v":"---"},"0000-0000-f-19000100",1,503,"","",1,503,"","","0000","0000","f","19000100",1900,"01","00"]
["","",null,null,null,null,null,null,null,null,null,null,null,null,null,null,"",{"$f":"IF(YEAR(L521)>1900,Einstellungen!$C$10-YEAR(L521),\"---\")","v":"---"},"0000-0000-f-19000100",1,504,"","",1,504,"","","0000","0000","f","19000100",1900,"01","00"]
["","",null,null,null,null,null,null,null,null,null,null,null,null,null,null,"",{"$f":"IF(YEAR(L522)>1900,Einstellungen!$C$10-YEAR(L522),\"---\")","v":"---"},"0000-0000-f-19000100",1,505,"","",1,505,"","","0000","0000","f","19000100",1900,"01","00"]
["","",null,null,null,null,null,null,null,null,null,null,null,null,null,null,"",{"$f":"IF(YEAR(L523)>1900,Einstellungen!$C$10-YEAR(L523),\"---\")","v":"---"},"0000-0000-f-19000100",1,506,"","",1,506,"","","0000","0000","f","19000100",1900,"01","00"]
["","",null,null,null,null,null,null,null,null,null,null,null,null,null,null,"",{"$f":"IF(YEAR(L524)>1900,Einstellungen!$C$10-YEAR(L524),\"---\")","v":"---"},"0000-0000-f-19000100",1,507,"","",1,507,"","","0000","0000","f","19000100",1900,"01","00"]
["","",null,null,null,null,null,null,null,null,null,null,null,null,null,null,"",{"$f":"IF(YEAR(L525)>1900,Einstellungen!$C$10-YEAR(L525),\"---\")","v":"---"},"0000-0000-f-19000100",1,508,"","",1,508,"","","0000","0000","f","19000100",1900,"01","00"]
["","",null,null,null,null,null,null,null,null,null,null,null,null,null,null,"",{"$f":"IF(YEAR(L526)>1900,Einstellungen!$C$10-YEAR(L526),\"---\")","v":"---"},"0000-0000-f-19000100",1,509,"","",1,509,"","","0000","0000","f","19000100",1900,"01","00"]
["","",null,null,null,null,null,null,null,null,null,null,null,null,null,null,"",{"$f":"IF(YEAR(L527)>1900,Einstellungen!$C$10-YEAR(L527),\"---\")","v":"---"},"0000-0000-f-19000100",1,510,"","",1,510,"","","0000","0000","f","19000100",1900,"01","00"]
["","",null,null,null,null,null,null,null,null,null,null,null,null,null,null,"",{"$f":"IF(YEAR(L528)>1900,Einstellungen!$C$10-YEAR(L528),\"---\")","v":"---"},"0000-0000-f-19000100",1,511,"","",1,511,"","","0000","0000","f","19000100",1900,"01","00"]
["","",null,null,null,null,null,null,null,null,null,null,null,null,null,null,"",{"$f":"IF(YEAR(L529)>1900,Einstellungen!$C$10-YEAR(L529),\"---\")","v":"---"},"0000-0000-f-19000100",1,512,"","",1,512,"","","0000","0000","f","19000100",1900,"01","00"]
["","",null,null,null,null,null,null,null,null,null,null,null,null,null,null,{"$f":"IF(LEN(D530)>0,IF(P530=\"x\",\"\",\"x\"),\"\")","v":""},{"$f":"IF(YEAR(L530)>1900,Einstellungen!$C$10-YEAR(L530),\"---\")","v":"---"},"0000-0000-f-19000100",1,513,"","",1,513,"","","0000","0000","f","19000100",1900,"01","00"]
["","",null,null,null,null,null,null,null,null,null,null,null,null,null,null,"",{"$f":"IF(YEAR(L531)>1900,Einstellungen!$C$10-YEAR(L531),\"---\")","v":"---"},{"$f":"AB531 & \"-\" & AC531 & \"-\" & AD531 & \"-\" & AE531","v":"0000-0000-f-19000100"},{"$f":"IF(R531<=$AE$12,1,0)","v":1},{"$f":"IF(T531=1,U530+1,U530)","v":514},{"$f":"IF((M531+N531)>0,IF(T531=1,U531,\"-\"),\"\")","v":""},{"$f":"Z531 & AA531","v":""},{"$f":"IF(LEN(C531)>0, 0, T531)","v":1},{"$f":"Y530+X531","v":514},{"$f":"IF(X531=1,IF(Y531<=$Z$12,\"Q\",\"\"),\"\")","v":""},{"$f":"IF(X531=1, IF(Y531>$Z$12, IF(Y531<=($Z$12+$AA$12),\"R\",\"\"),\"\"), \"\")","v":""},{"$f":"IF(M531<1,\"0000\", IF(M531<10,\"000\"&M531, IF(M531<100,\"00\"&M531, IF(M531<1000,\"0\"&M531,\"\"& M531))))","v":"0000"},"0000",{"$f":"IF(O531=\"a\",\"a\",\"f\")","v":"f"},{"$f":"AF531&AG531&AH531","v":"19000100"},{"$f":"YEAR(L531)","v":1900},{"$f":"IF(MONTH(L531)<10,\"0\"&MONTH(L531),MONTH(L531))","v":"01"},{"$f":"IF(DAY(L531)<10,\"0\"&DAY(L531),DAY(L531))","v":"00"}]
["","",null,null,null,null,null,null,null,null,null,null,null,null,null,null,"",{"$f":"IF(YEAR(L532)>1900,Einstellungen!$C$10-YEAR(L532),\"---\")","v":"---"},"0000-0000-f-19000100",1,515,"","",1,515,"","","0000","0000","f","19000100",1900,"01","00"]
["","",null,null,null,null,null,null,null,null,null,null,null,null,null,null,"",{"$f":"IF(YEAR(L533)>1900,Einstellungen!$C$10-YEAR(L533),\"---\")","v":"---"},"0000-0000-f-19000100",1,516,"","",1,516,"","","0000","0000","f","19000100",1900,"01","00"]
["","",null,null,null,null,null,null,null,null,null,null,null,null,null,null,"",{"$f":"IF(YEAR(L534)>1900,Einstellungen!$C$10-YEAR(L534),\"---\")","v":"---"},"0000-0000-f-19000100",1,517,"","",1,517,"","","0000","0000","f","19000100",1900,"01","00"]
["","",null,null,null,null,null,null,null,null,null,null,null,null,null,null,"",{"$f":"IF(YEAR(L535)>1900,Einstellungen!$C$10-YEAR(L535),\"---\")","v":"---"},"0000-0000-f-19000100",1,518,"","",1,518,"","","0000","0000","f","19000100",1900,"01","00"]
["","",null,null,null,null,null,null,null,null,null,null,null,null,null,null,"",{"$f":"IF(YEAR(L536)>1900,Einstellungen!$C$10-YEAR(L536),\"---\")","v":"---"},"0000-0000-f-19000100",1,519,"","",1,519,"","","0000","0000","f","19000100",1900,"01","00"]
["","",null,null,null,null,null,null,null,null,null,null,null,null,null,null,"",{"$f":"IF(YEAR(L537)>1900,Einstellungen!$C$10-YEAR(L537),\"---\")","v":"---"},"0000-0000-f-19000100",1,520,"","",1,520,"","","0000","0000","f","19000100",1900,"01","00"]
["","",null,null,null,null,null,null,null,null,null,null,null,null,null,null,"",{"$f":"IF(YEAR(L538)>1900,Einstellungen!$C$10-YEAR(L538),\"---\")","v":"---"},"0000-0000-f-19000100",1,521,"","",1,521,"","","0000","0000","f","19000100",1900,"01","00"]
["","",null,null,null,null,null,null,null,null,null,null,null,null,null,null,"",{"$f":"IF(YEAR(L539)>1900,Einstellungen!$C$10-YEAR(L539),\"---\")","v":"---"},"0000-0000-f-19000100",1,522,"","",1,522,"","","0000","0000","f","19000100",1900,"01","00"]
["","",null,null,null,null,null,null,null,null,null,null,null,null,null,null,"",{"$f":"IF(YEAR(L540)>1900,Einstellungen!$C$10-YEAR(L540),\"---\")","v":"---"},"0000-0000-f-19000100",1,523,"","",1,523,"","","0000","0000","f","19000100",1900,"01","00"]
["","",null,null,null,null,null,null,null,null,null,null,null,null,null,null,"",{"$f":"IF(YEAR(L541)>1900,Einstellungen!$C$10-YEAR(L541),\"---\")","v":"---"},"0000-0000-f-19000100",1,524,"","",1,524,"","","0000","0000","f","19000100",1900,"01","00"]
["","",null,null,null,null,null,null,null,null,null,null,null,null,null,null,"",{"$f":"IF(YEAR(L542)>1900,Einstellungen!$C$10-YEAR(L542),\"---\")","v":"---"},"0000-0000-f-19000100",1,525,"","",1,525,"","","0000","0000","f","19000100",1900,"01","00"]
["","",null,null,null,null,null,null,null,null,null,null,null,null,null,null,"",{"$f":"IF(YEAR(L543)>1900,Einstellungen!$C$10-YEAR(L543),\"---\")","v":"---"},"0000-0000-f-19000100",1,526,"","",1,526,"","","0000","0000","f","19000100",1900,"01","00"]
["","",null,null,null,null,null,null,null,null,null,null,null,null,null,null,"",{"$f":"IF(YEAR(L544)>1900,Einstellungen!$C$10-YEAR(L544),\"---\")","v":"---"},"0000-0000-f-19000100",1,527,"","",1,527,"","","0000","0000","f","19000100",1900,"01","00"]
["","",null,null,null,null,null,null,null,null,null,null,null,null,null,null,"",{"$f":"IF(YEAR(L545)>1900,Einstellungen!$C$10-YEAR(L545),\"---\")","v":"---"},"0000-0000-f-19000100",1,528,"","",1,528,"","","0000","0000","f","19000100",1900,"01","00"]
["","",null,null,null,null,null,null,null,null,null,null,null,null,null,null,"",{"$f":"IF(YEAR(L546)>1900,Einstellungen!$C$10-YEAR(L546),\"---\")","v":"---"},"0000-0000-f-19000100",1,529,"","",1,529,"","","0000","0000","f","19000100",1900,"01","00"]
["","",null,null,null,null,null,null,null,null,null,null,null,null,null,null,"",{"$f":"IF(YEAR(L547)>1900,Einstellungen!$C$10-YEAR(L547),\"---\")","v":"---"},"0000-0000-f-19000100",1,530,"","",1,530,"","","0000","0000","f","19000100",1900,"01","00"]
["","",null,null,null,null,null,null,null,null,null,null,null,null,null,null,"",{"$f":"IF(YEAR(L548)>1900,Einstellungen!$C$10-YEAR(L548),\"---\")","v":"---"},"0000-0000-f-19000100",1,531,"","",1,531,"","","0000","0000","f","19000100",1900,"01","00"]
["","",null,null,null,null,null,null,null,null,null,null,null,null,null,null,"",{"$f":"IF(YEAR(L549)>1900,Einstellungen!$C$10-YEAR(L549),\"---\")","v":"---"},"0000-0000-f-19000100",1,532,"","",1,532,"","","0000","0000","f","19000100",1900,"01","00"]
["","",null,null,null,null,null,null,null,null,null,null,null,null,null,null,"",{"$f":"IF(YEAR(L550)>1900,Einstellungen!$C$10-YEAR(L550),\"---\")","v":"---"},"0000-0000-f-19000100",1,533,"","",1,533,"","","0000","0000","f","19000100",1900,"01","00"]
["","",null,null,null,null,null,null,null,null,null,null,null,null,null,null,"",{"$f":"IF(YEAR(L551)>1900,Einstellungen!$C$10-YEAR(L551),\"---\")","v":"---"},"0000-0000-f-19000100",1,534,"","",1,534,"","","0000","0000","f","19000100",1900,"01","00"]
["","",null,null,null,null,null,null,null,null,null,null,null,null,null,null,"",{"$f":"IF(YEAR(L552)>1900,Einstellungen!$C$10-YEAR(L552),\"---\")","v":"---"},"0000-0000-f-19000100",1,535,"","",1,535,"","","0000","0000","f","19000100",1900,"01","00"]
["","",null,null,null,null,null,null,null,null,null,null,null,null,null,null,"",{"$f":"IF(YEAR(L553)>1900,Einstellungen!$C$10-YEAR(L553),\"---\")","v":"---"},"0000-0000-f-19000100",1,536,"","",1,536,"","","0000","0000","f","19000100",1900,"01","00"]
["","",null,null,null,null,null,null,null,null,null,null,null,null,null,null,"",{"$f":"IF(YEAR(L554)>1900,Einstellungen!$C$10-YEAR(L554),\"---\")","v":"---"},"0000-0000-f-19000100",1,537,"","",1,537,"","","0000","0000","f","19000100",1900,"01","00"]
["","",null,null,null,null,null,null,null,null,null,null,null,null,null,null,"",{"$f":"IF(YEAR(L555)>1900,Einstellungen!$C$10-YEAR(L555),\"---\")","v":"---"},"0000-0000-f-19000100",1,538,"","",1,538,"","","0000","0000","f","19000100",1900,"01","00"]
["","",null,null,null,null,null,null,null,null,null,null,null,null,null,null,"",{"$f":"IF(YEAR(L556)>1900,Einstellungen!$C$10-YEAR(L556),\"---\")","v":"---"},"0000-0000-f-19000100",1,539,"","",1,539,"","","0000","0000","f","19000100",1900,"01","00"]
["","",null,null,null,null,null,null,null,null,null,null,null,null,null,null,"",{"$f":"IF(YEAR(L557)>1900,Einstellungen!$C$10-YEAR(L557),\"---\")","v":"---"},"0000-0000-f-19000100",1,540,"","",1,540,"","","0000","0000","f","19000100",1900,"01","00"]
["","",null,null,null,null,null,null,null,null,null,null,null,null,null,null,"",{"$f":"IF(YEAR(L558)>1900,Einstellungen!$C$10-YEAR(L558),\"---\")","v":"---"},"0000-0000-f-19000100",1,541,"","",1,541,"","","0000","0000","f","19000100",1900,"01","00"]
["","",null,null,null,null,null,null,null,null,null,null,null,null,null,null,"",{"$f":"IF(YEAR(L559)>1900,Einstellungen!$C$10-YEAR(L559),\"---\")","v":"---"},"0000-0000-f-19000100",1,542,"","",1,542,"","","0000","0000","f","19000100",1900,"01","00"]
["","",null,null,null,null,null,null,null,null,null,null,null,null,null,null,"",{"$f":"IF(YEAR(L560)>1900,Einstellungen!$C$10-YEAR(L560),\"---\")","v":"---"},"0000-0000-f-19000100",1,543,"","",1,543,"","","0000","0000","f","19000100",1900,"01","00"]
["","",null,null,null,null,null,null,null,null,null,null,null,null,null,null,"",{"$f":"IF(YEAR(L561)>1900,Einstellungen!$C$10-YEAR(L561),\"---\")","v":"---"},"0000-0000-f-19000100",1,544,"","",1,544,"","","0000","0000","f","19000100",1900,"01","00"]
["","",null,null,null,null,null,null,null,null,null,null,null,null,null,null,"",{"$f":"IF(YEAR(L562)>1900,Einstellungen!$C$10-YEAR(L562),\"---\")","v":"---"},"0000-0000-f-19000100",1,545,"","",1,545,"","","0000","0000","f","19000100",1900,"01","00"]
["","",null,null,null,null,null,null,null,null,null,null,null,null,null,null,"",{"$f":"IF(YEAR(L563)>1900,Einstellungen!$C$10-YEAR(L563),\"---\")","v":"---"},"0000-0000-f-19000100",1,546,"","",1,546,"","","0000","0000","f","19000100",1900,"01","00"]
["","",null,null,null,null,null,null,null,null,null,null,null,null,null,null,"",{"$f":"IF(YEAR(L564)>1900,Einstellungen!$C$10-YEAR(L564),\"---\")","v":"---"},"0000-0000-f-19000100",1,547,"","",1,547,"","","0000","0000","f","19000100",1900,"01","00"]
["","",null,null,null,null,null,null,null,null,null,null,null,null,null,null,"",{"$f":"IF(YEAR(L565)>1900,Einstellungen!$C$10-YEAR(L565),\"---\")","v":"---"},"0000-0000-f-19000100",1,548,"","",1,548,"","","0000","0000","f","19000100",1900,"01","00"]
["","",null,null,null,null,null,null,null,null,null,null,null,null,null,null,"",{"$f":"IF(YEAR(L566)>1900,Einstellungen!$C$10-YEAR(L566),\"---\")","v":"---"},"0000-0000-f-19000100",1,549,"","",1,549,"","","0000","0000","f","19000100",1900,"01","00"]
["","",null,null,null,null,null,null,null,null,null,null,null,null,null,null,"",{"$f":"IF(YEAR(L567)>1900,Einstellungen!$C$10-YEAR(L567),\"---\")","v":"---"},"0000-0000-f-19000100",1,550,"","",1,550,"","","0000","0000","f","19000100",1900,"01","00"]
["","",null,null,null,null,null,null,null,null,null,null,null,null,null,null,"",{"$f":"IF(YEAR(L568)>1900,Einstellungen!$C$10-YEAR(L568),\"---\")","v":"---"},"0000-0000-f-19000100",1,551,"","",1,551,"","","0000","0000","f","19000100",1900,"01","00"]
["","",null,null,null,null,null,null,null,null,null,null,null,null,null,null,"",{"$f":"IF(YEAR(L569)>1900,Einstellungen!$C$10-YEAR(L569),\"---\")","v":"---"},"0000-0000-f-19000100",1,552,"","",1,552,"","","0000","0000","f","19000100",1900,"01","00"]
["","",null,null,null,null,null,null,null,null,null,null,null,null,null,null,"",{"$f":"IF(YEAR(L570)>1900,Einstellungen!$C$10-YEAR(L570),\"---\")","v":"---"},"0000-0000-f-19000100",1,553,"","",1,553,"","","0000","0000","f","19000100",1900,"01","00"]
["","",null,null,null,null,null,null,null,null,null,null,null,null,null,null,"",{"$f":"IF(YEAR(L571)>1900,Einstellungen!$C$10-YEAR(L571),\"---\")","v":"---"},"0000-0000-f-19000100",1,554,"","",1,554,"","","0000","0000","f","19000100",1900,"01","00"]
["","",null,null,null,null,null,null,null,null,null,null,null,null,null,null,"",{"$f":"IF(YEAR(L572)>1900,Einstellungen!$C$10-YEAR(L572),\"---\")","v":"---"},"0000-0000-f-19000100",1,555,"","",1,555,"","","0000","0000","f","19000100",1900,"01","00"]
["","",null,null,null,null,null,null,null,null,null,null,null,null,null,null,"",{"$f":"IF(YEAR(L573)>1900,Einstellungen!$C$10-YEAR(L573),\"---\")","v":"---"},"0000-0000-f-19000100",1,556,"","",1,556,"","","0000","0000","f","19000100",1900,"01","00"]
["","",null,null,null,null,null,null,null,null,null,null,null,null,null,null,"",{"$f":"IF(YEAR(L574)>1900,Einstellungen!$C$10-YEAR(L574),\"---\")","v":"---"},"0000-0000-f-19000100",1,557,"","",1,557,"","","0000","0000","f","19000100",1900,"01","00"]
["","",null,null,null,null,null,null,null,null,null,null,null,null,null,null,"",{"$f":"IF(YEAR(L575)>1900,Einstellungen!$C$10-YEAR(L575),\"---\")","v":"---"},"0000-0000-f-19000100",1,558,"","",1,558,"","","0000","0000","f","19000100",1900,"01","00"]
["","",null,null,null,null,null,null,null,null,null,null,null,null,null,null,"",{"$f":"IF(YEAR(L576)>1900,Einstellungen!$C$10-YEAR(L576),\"---\")","v":"---"},"0000-0000-f-19000100",1,559,"","",1,559,"","","0000","0000","f","19000100",1900,"01","00"]
["","",null,null,null,null,null,null,null,null,null,null,null,null,null,null,"",{"$f":"IF(YEAR(L577)>1900,Einstellungen!$C$10-YEAR(L577),\"---\")","v":"---"},"0000-0000-f-19000100",1,560,"","",1,560,"","","0000","0000","f","19000100",1900,"01","00"]
["","",null,null,null,null,null,null,null,null,null,null,null,null,null,null,"",{"$f":"IF(YEAR(L578)>1900,Einstellungen!$C$10-YEAR(L578),\"---\")","v":"---"},"0000-0000-f-19000100",1,561,"","",1,561,"","","0000","0000","f","19000100",1900,"01","00"]
["","",null,null,null,null,null,null,null,null,null,null,null,null,null,null,"",{"$f":"IF(YEAR(L579)>1900,Einstellungen!$C$10-YEAR(L579),\"---\")","v":"---"},"0000-0000-f-19000100",1,562,"","",1,562,"","","0000","0000","f","19000100",1900,"01","00"]
["","",null,null,null,null,null,null,null,null,null,null,null,null,null,null,"",{"$f":"IF(YEAR(L580)>1900,Einstellungen!$C$10-YEAR(L580),\"---\")","v":"---"},"0000-0000-f-19000100",1,563,"","",1,563,"","","0000","0000","f","19000100",1900,"01","00"]
["","",null,null,null,null,null,null,null,null,null,null,null,null,null,null,"",{"$f":"IF(YEAR(L581)>1900,Einstellungen!$C$10-YEAR(L581),\"---\")","v":"---"},"0000-0000-f-19000100",1,564,"","",1,564,"","","0000","0000","f","19000100",1900,"01","00"]
["","",null,null,null,null,null,null,null,null,null,null,null,null,null,null,"",{"$f":"IF(YEAR(L582)>1900,Einstellungen!$C$10-YEAR(L582),\"---\")","v":"---"},"0000-0000-f-19000100",1,565,"","",1,565,"","","0000","0000","f","19000100",1900,"01","00"]
["","",null,null,null,null,null,null,null,null,null,null,null,null,null,null,"",{"$f":"IF(YEAR(L583)>1900,Einstellungen!$C$10-YEAR(L583),\"---\")","v":"---"},"0000-0000-f-19000100",1,566,"","",1,566,"","","0000","0000","f","19000100",1900,"01","00"]
["","",null,null,null,null,null,null,null,null,null,null,null,null,null,null,"",{"$f":"IF(YEAR(L584)>1900,Einstellungen!$C$10-YEAR(L584),\"---\")","v":"---"},"0000-0000-f-19000100",1,567,"","",1,567,"","","0000","0000","f","19000100",1900,"01","00"]
["","",null,null,null,null,null,null,null,null,null,null,null,null,null,null,"",{"$f":"IF(YEAR(L585)>1900,Einstellungen!$C$10-YEAR(L585),\"---\")","v":"---"},"0000-0000-f-19000100",1,568,"","",1,568,"","","0000","0000","f","19000100",1900,"01","00"]
["","",null,null,null,null,null,null,null,null,null,null,null,null,null,null,"",{"$f":"IF(YEAR(L586)>1900,Einstellungen!$C$10-YEAR(L586),\"---\")","v":"---"},"0000-0000-f-19000100",1,569,"","",1,569,"","","0000","0000","f","19000100",1900,"01","00"]
["","",null,null,null,null,null,null,null,null,null,null,null,null,null,null,"",{"$f":"IF(YEAR(L587)>1900,Einstellungen!$C$10-YEAR(L587),\"---\")","v":"---"},"0000-0000-f-19000100",1,570,"","",1,570,"","","0000","0000","f","19000100",1900,"01","00"]
["","",null,null,null,null,null,null,null,null,null,null,null,null,null,null,"",{"$f":"IF(YEAR(L588)>1900,Einstellungen!$C$10-YEAR(L588),\"---\")","v":"---"},"0000-0000-f-19000100",1,571,"","",1,571,"","","0000","0000","f","19000100",1900,"01","00"]
["","",null,null,null,null,null,null,null,null,null,null,null,null,null,null,"",{"$f":"IF(YEAR(L589)>1900,Einstellungen!$C$10-YEAR(L589),\"---\")","v":"---"},"0000-0000-f-19000100",1,572,"","",1,572,"","","0000","0000","f","19000100",1900,"01","00"]
["","",null,null,null,null,null,null,null,null,null,null,null,null,null,null,"",{"$f":"IF(YEAR(L590)>1900,Einstellungen!$C$10-YEAR(L590),\"---\")","v":"---"},"0000-0000-f-19000100",1,573,"","",1,573,"","","0000","0000","f","19000100",1900,"01","00"]
["","",null,null,null,null,null,null,null,null,null,null,null,null,null,null,"",{"$f":"IF(YEAR(L591)>1900,Einstellungen!$C$10-YEAR(L591),\"---\")","v":"---"},"0000-0000-f-19000100",1,574,"","",1,574,"","","0000","0000","f","19000100",1900,"01","00"]
["","",null,null,null,null,null,null,null,null,null,null,null,null,null,null,"",{"$f":"IF(YEAR(L592)>1900,Einstellungen!$C$10-YEAR(L592),\"---\")","v":"---"},"0000-0000-f-19000100",1,575,"","",1,575,"","","0000","0000","f","19000100",1900,"01","00"]
["","",null,null,null,null,null,null,null,null,null,null,null,null,null,null,"",{"$f":"IF(YEAR(L593)>1900,Einstellungen!$C$10-YEAR(L593),\"---\")","v":"---"},"0000-0000-f-19000100",1,576,"","",1,576,"","","0000","0000","f","19000100",1900,"01","00"]
["","",null,null,null,null,null,null,null,null,null,null,null,null,null,null,{"$f":"IF(LEN(D594)>0,IF(P594=\"x\",\"\",\"x\"),\"\")","v":""},{"$f":"IF(YEAR(L594)>1900,Einstellungen!$C$10-YEAR(L594),\"---\")","v":"---"},"0000-0000-f-19000100",1,577,"","",1,577,"","","0000","0000","f","19000100",1900,"01","00"]
["","",null,null,null,null,null,null,null,null,null,null,null,null,null,null,"",{"$f":"IF(YEAR(L595)>1900,Einstellungen!$C$10-YEAR(L595),\"---\")","v":"---"},{"$f":"AB595 & \"-\" & AC595 & \"-\" & AD595 & \"-\" & AE595","v":"0000-0000-f-19000100"},{"$f":"IF(R595<=$AE$12,1,0)","v":1},{"$f":"IF(T595=1,U594+1,U594)","v":578},{"$f":"IF((M595+N595)>0,IF(T595=1,U595,\"-\"),\"\")","v":""},{"$f":"Z595 & AA595","v":""},{"$f":"IF(LEN(C595)>0, 0, T595)","v":1},{"$f":"Y594+X595","v":578},{"$f":"IF(X595=1,IF(Y595<=$Z$12,\"Q\",\"\"),\"\")","v":""},{"$f":"IF(X595=1, IF(Y595>$Z$12, IF(Y595<=($Z$12+$AA$12),\"R\",\"\"),\"\"), \"\")","v":""},{"$f":"IF(M595<1,\"0000\", IF(M595<10,\"000\"&M595, IF(M595<100,\"00\"&M595, IF(M595<1000,\"0\"&M595,\"\"& M595))))","v":"0000"},"0000",{"$f":"IF(O595=\"a\",\"a\",\"f\")","v":"f"},{"$f":"AF595&AG595&AH595","v":"19000100"},{"$f":"YEAR(L595)","v":1900},{"$f":"IF(MONTH(L595)<10,\"0\"&MONTH(L595),MONTH(L595))","v":"01"},{"$f":"IF(DAY(L595)<10,\"0\"&DAY(L595),DAY(L595))","v":"00"}]
["","",null,null,null,null,null,null,null,null,null,null,null,null,null,null,"",{"$f":"IF(YEAR(L596)>1900,Einstellungen!$C$10-YEAR(L596),\"---\")","v":"---"},"0000-0000-f-19000100",1,579,"","",1,579,"","","0000","0000","f","19000100",1900,"01","00"]
["","",null,null,null,null,null,null,null,null,null,null,null,null,null,null,"",{"$f":"IF(YEAR(L597)>1900,Einstellungen!$C$10-YEAR(L597),\"---\")","v":"---"},"0000-0000-f-19000100",1,580,"","",1,580,"","","0000","0000","f","19000100",1900,"01","00"]
["","",null,null,null,null,null,null,null,null,null,null,null,null,null,null,"",{"$f":"IF(YEAR(L598)>1900,Einstellungen!$C$10-YEAR(L598),\"---\")","v":"---"},"0000-0000-f-19000100",1,581,"","",1,581,"","","0000","0000","f","19000100",1900,"01","00"]
["","",null,null,null,null,null,null,null,null,null,null,null,null,null,null,"",{"$f":"IF(YEAR(L599)>1900,Einstellungen!$C$10-YEAR(L599),\"---\")","v":"---"},"0000-0000-f-19000100",1,582,"","",1,582,"","","0000","0000","f","19000100",1900,"01","00"]
["","",null,null,null,null,null,null,null,null,null,null,null,null,null,null,"",{"$f":"IF(YEAR(L600)>1900,Einstellungen!$C$10-YEAR(L600),\"---\")","v":"---"},"0000-0000-f-19000100",1,583,"","",1,583,"","","0000","0000","f","19000100",1900,"01","00"]
["","",null,null,null,null,null,null,null,null,null,null,null,null,null,null,"",{"$f":"IF(YEAR(L601)>1900,Einstellungen!$C$10-YEAR(L601),\"---\")","v":"---"},"0000-0000-f-19000100",1,584,"","",1,584,"","","0000","0000","f","19000100",1900,"01","00"]
["","",null,null,null,null,null,null,null,null,null,null,null,null,null,null,"",{"$f":"IF(YEAR(L602)>1900,Einstellungen!$C$10-YEAR(L602),\"---\")","v":"---"},"0000-0000-f-19000100",1,585,"","",1,585,"","","0000","0000","f","19000100",1900,"01","00"]
["","",null,null,null,null,null,null,null,null,null,null,null,null,null,null,"",{"$f":"IF(YEAR(L603)>1900,Einstellungen!$C$10-YEAR(L603),\"---\")","v":"---"},"0000-0000-f-19000100",1,586,"","",1,586,"","","0000","0000","f","19000100",1900,"01","00"]
["","",null,null,null,null,null,null,null,null,null,null,null,null,null,null,"",{"$f":"IF(YEAR(L604)>1900,Einstellungen!$C$10-YEAR(L604),\"---\")","v":"---"},"0000-0000-f-19000100",1,587,"","",1,587,"","","0000","0000","f","19000100",1900,"01","00"]
["","",null,null,null,null,null,null,null,null,null,null,null,null,null,null,"",{"$f":"IF(YEAR(L605)>1900,Einstellungen!$C$10-YEAR(L605),\"---\")","v":"---"},"0000-0000-f-19000100",1,588,"","",1,588,"","","0000","0000","f","19000100",1900,"01","00"]
["","",null,null,null,null,null,null,null,null,null,null,null,null,null,null,"",{"$f":"IF(YEAR(L606)>1900,Einstellungen!$C$10-YEAR(L606),\"---\")","v":"---"},"0000-0000-f-19000100",1,589,"","",1,589,"","","0000","0000","f","19000100",1900,"01","00"]
["","",null,null,null,null,null,null,null,null,null,null,null,null,null,null,"",{"$f":"IF(YEAR(L607)>1900,Einstellungen!$C$10-YEAR(L607),\"---\")","v":"---"},"0000-0000-f-19000100",1,590,"","",1,590,"","","0000","0000","f","19000100",1900,"01","00"]
["","",null,null,null,null,null,null,null,null,null,null,null,null,null,null,"",{"$f":"IF(YEAR(L608)>1900,Einstellungen!$C$10-YEAR(L608),\"---\")","v":"---"},"0000-0000-f-19000100",1,591,"","",1,591,"","","0000","0000","f","19000100",1900,"01","00"]
["","",null,null,null,null,null,null,null,null,null,null,null,null,null,null,"",{"$f":"IF(YEAR(L609)>1900,Einstellungen!$C$10-YEAR(L609),\"---\")","v":"---"},"0000-0000-f-19000100",1,592,"","",1,592,"","","0000","0000","f","19000100",1900,"01","00"]
["","",null,null,null,null,null,null,null,null,null,null,null,null,null,null,"",{"$f":"IF(YEAR(L610)>1900,Einstellungen!$C$10-YEAR(L610),\"---\")","v":"---"},"0000-0000-f-19000100",1,593,"","",1,593,"","","0000","0000","f","19000100",1900,"01","00"]
["","",null,null,null,null,null,null,null,null,null,null,null,null,null,null,"",{"$f":"IF(YEAR(L611)>1900,Einstellungen!$C$10-YEAR(L611),\"---\")","v":"---"},"0000-0000-f-19000100",1,594,"","",1,594,"","","0000","0000","f","19000100",1900,"01","00"]
["","",null,null,null,null,null,null,null,null,null,null,null,null,null,null,"",{"$f":"IF(YEAR(L612)>1900,Einstellungen!$C$10-YEAR(L612),\"---\")","v":"---"},"0000-0000-f-19000100",1,595,"","",1,595,"","","0000","0000","f","19000100",1900,"01","00"]
["","",null,null,null,null,null,null,null,null,null,null,null,null,null,null,"",{"$f":"IF(YEAR(L613)>1900,Einstellungen!$C$10-YEAR(L613),\"---\")","v":"---"},"0000-0000-f-19000100",1,596,"","",1,596,"","","0000","0000","f","19000100",1900,"01","00"]
["","",null,null,null,null,null,null,null,null,null,null,null,null,null,null,"",{"$f":"IF(YEAR(L614)>1900,Einstellungen!$C$10-YEAR(L614),\"---\")","v":"---"},"0000-0000-f-19000100",1,597,"","",1,597,"","","0000","0000","f","19000100",1900,"01","00"]
["","",null,null,null,null,null,null,null,null,null,null,null,null,null,null,"",{"$f":"IF(YEAR(L615)>1900,Einstellungen!$C$10-YEAR(L615),\"---\")","v":"---"},"0000-0000-f-19000100",1,598,"","",1,598,"","","0000","0000","f","19000100",1900,"01","00"]
["","",null,null,null,null,null,null,null,null,null,null,null,null,null,null,"",{"$f":"IF(YEAR(L616)>1900,Einstellungen!$C$10-YEAR(L616),\"---\")","v":"---"},"0000-0000-f-19000100",1,599,"","",1,599,"","","0000","0000","f","19000100",1900,"01","00"]
["","",null,null,null,null,null,null,null,null,null,null,null,null,null,null,"",{"$f":"IF(YEAR(L617)>1900,Einstellungen!$C$10-YEAR(L617),\"---\")","v":"---"},"0000-0000-f-19000100",1,600,"","",1,600,"","","0000","0000","f","19000100",1900,"01","00"]
["","",null,null,null,null,null,null,null,null,null,null,null,null,null,null,"",{"$f":"IF(YEAR(L618)>1900,Einstellungen!$C$10-YEAR(L618),\"---\")","v":"---"},"0000-0000-f-19000100",1,601,"","",1,601,"","","0000","0000","f","19000100",1900,"01","00"]
["","",null,null,null,null,null,null,null,null,null,null,null,null,null,null,"",{"$f":"IF(YEAR(L619)>1900,Einstellungen!$C$10-YEAR(L619),\"---\")","v":"---"},"0000-0000-f-19000100",1,602,"","",1,602,"","","0000","0000","f","19000100",1900,"01","00"]
["","",null,null,null,null,null,null,null,null,null,null,null,null,null,null,"",{"$f":"IF(YEAR(L620)>1900,Einstellungen!$C$10-YEAR(L620),\"---\")","v":"---"},"0000-0000-f-19000100",1,603,"","",1,603,"","","0000","0000","f","19000100",1900,"01","00"]
["","",null,null,null,null,null,null,null,null,null,null,null,null,null,null,"",{"$f":"IF(YEAR(L621)>1900,Einstellungen!$C$10-YEAR(L621),\"---\")","v":"---"},"0000-0000-f-19000100",1,604,"","",1,604,"","","0000","0000","f","19000100",1900,"01","00"]
["","",null,null,null,null,null,null,null,null,null,null,null,null,null,null,"",{"$f":"IF(YEAR(L622)>1900,Einstellungen!$C$10-YEAR(L622),\"---\")","v":"---"},"0000-0000-f-19000100",1,605,"","",1,605,"","","0000","0000","f","19000100",1900,"01","00"]
["","",null,null,null,null,null,null,null,null,null,null,null,null,null,null,"",{"$f":"IF(YEAR(L623)>1900,Einstellungen!$C$10-YEAR(L623),\"---\")","v":"---"},"0000-0000-f-19000100",1,606,"","",1,606,"","","0000","0000","f","19000100",1900,"01","00"]
["","",null,null,null,null,null,null,null,null,null,null,null,null,null,null,"",{"$f":"IF(YEAR(L624)>1900,Einstellungen!$C$10-YEAR(L624),\"---\")","v":"---"},"0000-0000-f-19000100",1,607,"","",1,607,"","","0000","0000","f","19000100",1900,"01","00"]
["","",null,null,null,null,null,null,null,null,null,null,null,null,null,null,"",{"$f":"IF(YEAR(L625)>1900,Einstellungen!$C$10-YEAR(L625),\"---\")","v":"---"},"0000-0000-f-19000100",1,608,"","",1,608,"","","0000","0000","f","19000100",1900,"01","00"]
["","",null,null,null,null,null,null,null,null,null,null,null,null,null,null,"",{"$f":"IF(YEAR(L626)>1900,Einstellungen!$C$10-YEAR(L626),\"---\")","v":"---"},"0000-0000-f-19000100",1,609,"","",1,609,"","","0000","0000","f","19000100",1900,"01","00"]
["","",null,null,null,null,null,null,null,null,null,null,null,null,null,null,"",{"$f":"IF(YEAR(L627)>1900,Einstellungen!$C$10-YEAR(L627),\"---\")","v":"---"},"0000-0000-f-19000100",1,610,"","",1,610,"","","0000","0000","f","19000100",1900,"01","00"]
["","",null,null,null,null,null,null,null,null,null,null,null,null,null,null,"",{"$f":"IF(YEAR(L628)>1900,Einstellungen!$C$10-YEAR(L628),\"---\")","v":"---"},"0000-0000-f-19000100",1,611,"","",1,611,"","","0000","0000","f","19000100",1900,"01","00"]
["","",null,null,null,null,null,null,null,null,null,null,null,null,null,null,"",{"$f":"IF(YEAR(L629)>1900,Einstellungen!$C$10-YEAR(L629),\"---\")","v":"---"},"0000-0000-f-19000100",1,612,"","",1,612,"","","0000","0000","f","19000100",1900,"01","00"]
["","",null,null,null,null,null,null,null,null,null,null,null,null,null,null,"",{"$f":"IF(YEAR(L630)>1900,Einstellungen!$C$10-YEAR(L630),\"---\")","v":"---"},"0000-0000-f-19000100",1,613,"","",1,613,"","","0000","0000","f","19000100",1900,"01","00"]
["","",null,null,null,null,null,null,null,null,null,null,null,null,null,null,"",{"$f":"IF(YEAR(L631)>1900,Einstellungen!$C$10-YEAR(L631),\"---\")","v":"---"},"0000-0000-f-19000100",1,614,"","",1,614,"","","0000","0000","f","19000100",1900,"01","00"]
["","",null,null,null,null,null,null,null,null,null,null,null,null,null,null,"",{"$f":"IF(YEAR(L632)>1900,Einstellungen!$C$10-YEAR(L632),\"---\")","v":"---"},"0000-0000-f-19000100",1,615,"","",1,615,"","","0000","0000","f","19000100",1900,"01","00"]
["","",null,null,null,null,null,null,null,null,null,null,null,null,null,null,"",{"$f":"IF(YEAR(L633)>1900,Einstellungen!$C$10-YEAR(L633),\"---\")","v":"---"},"0000-0000-f-19000100",1,616,"","",1,616,"","","0000","0000","f","19000100",1900,"01","00"]
["","",null,null,null,null,null,null,null,null,null,null,null,null,null,null,"",{"$f":"IF(YEAR(L634)>1900,Einstellungen!$C$10-YEAR(L634),\"---\")","v":"---"},"0000-0000-f-19000100",1,617,"","",1,617,"","","0000","0000","f","19000100",1900,"01","00"]
["","",null,null,null,null,null,null,null,null,null,null,null,null,null,null,"",{"$f":"IF(YEAR(L635)>1900,Einstellungen!$C$10-YEAR(L635),\"---\")","v":"---"},"0000-0000-f-19000100",1,618,"","",1,618,"","","0000","0000","f","19000100",1900,"01","00"]
["","",null,null,null,null,null,null,null,null,null,null,null,null,null,null,"",{"$f":"IF(YEAR(L636)>1900,Einstellungen!$C$10-YEAR(L636),\"---\")","v":"---"},"0000-0000-f-19000100",1,619,"","",1,619,"","","0000","0000","f","19000100",1900,"01","00"]
["","",null,null,null,null,null,null,null,null,null,null,null,null,null,null,"",{"$f":"IF(YEAR(L637)>1900,Einstellungen!$C$10-YEAR(L637),\"---\")","v":"---"},"0000-0000-f-19000100",1,620,"","",1,620,"","","0000","0000","f","19000100",1900,"01","00"]
["","",null,null,null,null,null,null,null,null,null,null,null,null,null,null,"",{"$f":"IF(YEAR(L638)>1900,Einstellungen!$C$10-YEAR(L638),\"---\")","v":"---"},"0000-0000-f-19000100",1,621,"","",1,621,"","","0000","0000","f","19000100",1900,"01","00"]
["","",null,null,null,null,null,null,null,null,null,null,null,null,null,null,"",{"$f":"IF(YEAR(L639)>1900,Einstellungen!$C$10-YEAR(L639),\"---\")","v":"---"},"0000-0000-f-19000100",1,622,"","",1,622,"","","0000","0000","f","19000100",1900,"01","00"]
["","",null,null,null,null,null,null,null,null,null,null,null,null,null,null,"",{"$f":"IF(YEAR(L640)>1900,Einstellungen!$C$10-YEAR(L640),\"---\")","v":"---"},"0000-0000-f-19000100",1,623,"","",1,623,"","","0000","0000","f","19000100",1900,"01","00"]
["","",null,null,null,null,null,null,null,null,null,null,null,null,null,null,"",{"$f":"IF(YEAR(L641)>1900,Einstellungen!$C$10-YEAR(L641),\"---\")","v":"---"},"0000-0000-f-19000100",1,624,"","",1,624,"","","0000","0000","f","19000100",1900,"01","00"]
["","",null,null,null,null,null,null,null,null,null,null,null,null,null,null,"",{"$f":"IF(YEAR(L642)>1900,Einstellungen!$C$10-YEAR(L642),\"---\")","v":"---"},"0000-0000-f-19000100",1,625,"","",1,625,"","","0000","0000","f","19000100",1900,"01","00"]
["","",null,null,null,null,null,null,null,null,null,null,null,null,null,null,"",{"$f":"IF(YEAR(L643)>1900,Einstellungen!$C$10-YEAR(L643),\"---\")","v":"---"},"0000-0000-f-19000100",1,626,"","",1,626,"","","0000","0000","f","19000100",1900,"01","00"]
["","",null,null,null,null,null,null,null,null,null,null,null,null,null,null,"",{"$f":"IF(YEAR(L644)>1900,Einstellungen!$C$10-YEAR(L644),\"---\")","v":"---"},"0000-0000-f-19000100",1,627,"","",1,627,"","","0000","0000","f","19000100",1900,"01","00"]
["","",null,null,null,null,null,null,null,null,null,null,null,null,null,null,"",{"$f":"IF(YEAR(L645)>1900,Einstellungen!$C$10-YEAR(L645),\"---\")","v":"---"},"0000-0000-f-19000100",1,628,"","",1,628,"","","0000","0000","f","19000100",1900,"01","00"]
["","",null,null,null,null,null,null,null,null,null,null,null,null,null,null,"",{"$f":"IF(YEAR(L646)>1900,Einstellungen!$C$10-YEAR(L646),\"---\")","v":"---"},"0000-0000-f-19000100",1,629,"","",1,629,"","","0000","0000","f","19000100",1900,"01","00"]
["","",null,null,null,null,null,null,null,null,null,null,null,null,null,null,"",{"$f":"IF(YEAR(L647)>1900,Einstellungen!$C$10-YEAR(L647),\"---\")","v":"---"},"0000-0000-f-19000100",1,630,"","",1,630,"","","0000","0000","f","19000100",1900,"01","00"]
["","",null,null,null,null,null,null,null,null,null,null,null,null,null,null,"",{"$f":"IF(YEAR(L648)>1900,Einstellungen!$C$10-YEAR(L648),\"---\")","v":"---"},"0000-0000-f-19000100",1,631,"","",1,631,"","","0000","0000","f","19000100",1900,"01","00"]
["","",null,null,null,null,null,null,null,null,null,null,null,null,null,null,"",{"$f":"IF(YEAR(L649)>1900,Einstellungen!$C$10-YEAR(L649),\"---\")","v":"---"},"0000-0000-f-19000100",1,632,"","",1,632,"","","0000","0000","f","19000100",1900,"01","00"]
["","",null,null,null,null,null,null,null,null,null,null,null,null,null,null,"",{"$f":"IF(YEAR(L650)>1900,Einstellungen!$C$10-YEAR(L650),\"---\")","v":"---"},"0000-0000-f-19000100",1,633,"","",1,633,"","","0000","0000","f","19000100",1900,"01","00"]
["","",null,null,null,null,null,null,null,null,null,null,null,null,null,null,"",{"$f":"IF(YEAR(L651)>1900,Einstellungen!$C$10-YEAR(L651),\"---\")","v":"---"},"0000-0000-f-19000100",1,634,"","",1,634,"","","0000","0000","f","19000100",1900,"01","00"]
["","",null,null,null,null,null,null,null,null,null,null,null,null,null,null,"",{"$f":"IF(YEAR(L652)>1900,Einstellungen!$C$10-YEAR(L652),\"---\")","v":"---"},"0000-0000-f-19000100",1,635,"","",1,635,"","","0000","0000","f","19000100",1900,"01","00"]
["","",null,null,null,null,null,null,null,null,null,null,null,null,null,null,"",{"$f":"IF(YEAR(L653)>1900,Einstellungen!$C$10-YEAR(L653),\"---\")","v":"---"},"0000-0000-f-19000100",1,636,"","",1,636,"","","0000","0000","f","19000100",1900,"01","00"]
["","",null,null,null,null,null,null,null,null,null,null,null,null,null,null,"",{"$f":"IF(YEAR(L654)>1900,Einstellungen!$C$10-YEAR(L654),\"---\")","v":"---"},"0000-0000-f-19000100",1,637,"","",1,637,"","","0000","0000","f","19000100",1900,"01","00"]
["","",null,null,null,null,null,null,null,null,null,null,null,null,null,null,"",{"$f":"IF(YEAR(L655)>1900,Einstellungen!$C$10-YEAR(L655),\"---\")","v":"---"},"0000-0000-f-19000100",1,638,"","",1,638,"","","0000","0000","f","19000100",1900,"01","00"]
["","",null,null,null,null,null,null,null,null,null,null,null,null,null,null,"",{"$f":"IF(YEAR(L656)>1900,Einstellungen!$C$10-YEAR(L656),\"---\")","v":"---"},"0000-0000-f-19000100",1,639,"","",1,639,"","","0000","0000","f","19000100",1900,"01","00"]
["","",null,null,null,null,null,null,null,null,null,null,null,null,null,null,"",{"$f":"IF(YEAR(L657)>1900,Einstellungen!$C$10-YEAR(L657),\"---\")","v":"---"},"0000-0000-f-19000100",1,640,"","",1,640,"","","0000","0000","f","19000100",1900,"01","00"]
["","",null,null,null,null,null,null,null,null,null,null,null,null,null,null,{"$f":"IF(LEN(D658)>0,IF(P658=\"x\",\"\",\"x\"),\"\")","v":""},{"$f":"IF(YEAR(L658)>1900,Einstellungen!$C$10-YEAR(L658),\"---\")","v":"---"},"0000-0000-f-19000100",1,641,"","",1,641,"","","0000","0000","f","19000100",1900,"01","00"]
["","",null,null,null,null,null,null,null,null,null,null,null,null,null,null,"",{"$f":"IF(YEAR(L659)>1900,Einstellungen!$C$10-YEAR(L659),\"---\")","v":"---"},{"$f":"AB659 & \"-\" & AC659 & \"-\" & AD659 & \"-\" & AE659","v":"0000-0000-f-19000100"},{"$f":"IF(R659<=$AE$12,1,0)","v":1},{"$f":"IF(T659=1,U658+1,U658)","v":642},{"$f":"IF((M659+N659)>0,IF(T659=1,U659,\"-\"),\"\")","v":""},{"$f":"Z659 & AA659","v":""},{"$f":"IF(LEN(C659)>0, 0, T659)","v":1},{"$f":"Y658+X659","v":642},{"$f":"IF(X659=1,IF(Y659<=$Z$12,\"Q\",\"\"),\"\")","v":""},{"$f":"IF(X659=1, IF(Y659>$Z$12, IF(Y659<=($Z$12+$AA$12),\"R\",\"\"),\"\"), \"\")","v":""},{"$f":"IF(M659<1,\"0000\", IF(M659<10,\"000\"&M659, IF(M659<100,\"00\"&M659, IF(M659<1000,\"0\"&M659,\"\"& M659))))","v":"0000"},"0000",{"$f":"IF(O659=\"a\",\"a\",\"f\")","v":"f"},{"$f":"AF659&AG659&AH659","v":"19000100"},{"$f":"YEAR(L659)","v":1900},{"$f":"IF(MONTH(L659)<10,\"0\"&MONTH(L659),MONTH(L659))","v":"01"},{"$f":"IF(DAY(L659)<10,\"0\"&DAY(L659),DAY(L659))","v":"00"}]
["","",null,null,null,null,null,null,null,null,null,null,null,null,null,null,"",{"$f":"IF(YEAR(L660)>1900,Einstellungen!$C$10-YEAR(L660),\"---\")","v":"---"},"0000-0000-f-19000100",1,643,"","",1,643,"","","0000","0000","f","19000100",1900,"01","00"]
["","",null,null,null,null,null,null,null,null,null,null,null,null,null,null,"",{"$f":"IF(YEAR(L661)>1900,Einstellungen!$C$10-YEAR(L661),\"---\")","v":"---"},"0000-0000-f-19000100",1,644,"","",1,644,"","","0000","0000","f","19000100",1900,"01","00"]
["","",null,null,null,null,null,null,null,null,null,null,null,null,null,null,"",{"$f":"IF(YEAR(L662)>1900,Einstellungen!$C$10-YEAR(L662),\"---\")","v":"---"},"0000-0000-f-19000100",1,645,"","",1,645,"","","0000","0000","f","19000100",1900,"01","00"]
["","",null,null,null,null,null,null,null,null,null,null,null,null,null,null,"",{"$f":"IF(YEAR(L663)>1900,Einstellungen!$C$10-YEAR(L663),\"---\")","v":"---"},"0000-0000-f-19000100",1,646,"","",1,646,"","","0000","0000","f","19000100",1900,"01","00"]
["","",null,null,null,null,null,null,null,null,null,null,null,null,null,null,"",{"$f":"IF(YEAR(L664)>1900,Einstellungen!$C$10-YEAR(L664),\"---\")","v":"---"},"0000-0000-f-19000100",1,647,"","",1,647,"","","0000","0000","f","19000100",1900,"01","00"]
["","",null,null,null,null,null,null,null,null,null,null,null,null,null,null,"",{"$f":"IF(YEAR(L665)>1900,Einstellungen!$C$10-YEAR(L665),\"---\")","v":"---"},"0000-0000-f-19000100",1,648,"","",1,648,"","","0000","0000","f","19000100",1900,"01","00"]
["","",null,null,null,null,null,null,null,null,null,null,null,null,null,null,"",{"$f":"IF(YEAR(L666)>1900,Einstellungen!$C$10-YEAR(L666),\"---\")","v":"---"},"0000-0000-f-19000100",1,649,"","",1,649,"","","0000","0000","f","19000100",1900,"01","00"]
["","",null,null,null,null,null,null,null,null,null,null,null,null,null,null,"",{"$f":"IF(YEAR(L667)>1900,Einstellungen!$C$10-YEAR(L667),\"---\")","v":"---"},"0000-0000-f-19000100",1,650,"","",1,650,"","","0000","0000","f","19000100",1900,"01","00"]
["","",null,null,null,null,null,null,null,null,null,null,null,null,null,null,"",{"$f":"IF(YEAR(L668)>1900,Einstellungen!$C$10-YEAR(L668),\"---\")","v":"---"},"0000-0000-f-19000100",1,651,"","",1,651,"","","0000","0000","f","19000100",1900,"01","00"]
["","",null,null,null,null,null,null,null,null,null,null,null,null,null,null,"",{"$f":"IF(YEAR(L669)>1900,Einstellungen!$C$10-YEAR(L669),\"---\")","v":"---"},"0000-0000-f-19000100",1,652,"","",1,652,"","","0000","0000","f","19000100",1900,"01","00"]
["","",null,null,null,null,null,null,null,null,null,null,null,null,null,null,"",{"$f":"IF(YEAR(L670)>1900,Einstellungen!$C$10-YEAR(L670),\"---\")","v":"---"},"0000-0000-f-19000100",1,653,"","",1,653,"","","0000","0000","f","19000100",1900,"01","00"]
["","",null,null,null,null,null,null,null,null,null,null,null,null,null,null,"",{"$f":"IF(YEAR(L671)>1900,Einstellungen!$C$10-YEAR(L671),\"---\")","v":"---"},"0000-0000-f-19000100",1,654,"","",1,654,"","","0000","0000","f","19000100",1900,"01","00"]
["","",null,null,null,null,null,null,null,null,null,null,null,null,null,null,"",{"$f":"IF(YEAR(L672)>1900,Einstellungen!$C$10-YEAR(L672),\"---\")","v":"---"},"0000-0000-f-19000100",1,655,"","",1,655,"","","0000","0000","f","19000100",1900,"01","00"]
["","",null,null,null,null,null,null,null,null,null,null,null,null,null,null,"",{"$f":"IF(YEAR(L673)>1900,Einstellungen!$C$10-YEAR(L673),\"---\")","v":"---"},"0000-0000-f-19000100",1,656,"","",1,656,"","","0000","0000","f","19000100",1900,"01","00"]
["","",null,null,null,null,null,null,null,null,null,null,null,null,null,null,"",{"$f":"IF(YEAR(L674)>1900,Einstellungen!$C$10-YEAR(L674),\"---\")","v":"---"},"0000-0000-f-19000100",1,657,"","",1,657,"","","0000","0000","f","19000100",1900,"01","00"]
["","",null,null,null,null,null,null,null,null,null,null,null,null,null,null,"",{"$f":"IF(YEAR(L675)>1900,Einstellungen!$C$10-YEAR(L675),\"---\")","v":"---"},"0000-0000-f-19000100",1,658,"","",1,658,"","","0000","0000","f","19000100",1900,"01","00"]
["","",null,null,null,null,null,null,null,null,null,null,null,null,null,null,"",{"$f":"IF(YEAR(L676)>1900,Einstellungen!$C$10-YEAR(L676),\"---\")","v":"---"},"0000-0000-f-19000100",1,659,"","",1,659,"","","0000","0000","f","19000100",1900,"01","00"]
["","",null,null,null,null,null,null,null,null,null,null,null,null,null,null,"",{"$f":"IF(YEAR(L677)>1900,Einstellungen!$C$10-YEAR(L677),\"---\")","v":"---"},"0000-0000-f-19000100",1,660,"","",1,660,"","","0000","0000","f","19000100",1900,"01","00"]
["","",null,null,null,null,null,null,null,null,null,null,null,null,null,null,"",{"$f":"IF(YEAR(L678)>1900,Einstellungen!$C$10-YEAR(L678),\"---\")","v":"---"},"0000-0000-f-19000100",1,661,"","",1,661,"","","0000","0000","f","19000100",1900,"01","00"]
["","",null,null,null,null,null,null,null,null,null,null,null,null,null,null,"",{"$f":"IF(YEAR(L679)>1900,Einstellungen!$C$10-YEAR(L679),\"---\")","v":"---"},"0000-0000-f-19000100",1,662,"","",1,662,"","","0000","0000","f","19000100",1900,"01","00"]
["","",null,null,null,null,null,null,null,null,null,null,null,null,null,null,"",{"$f":"IF(YEAR(L680)>1900,Einstellungen!$C$10-YEAR(L680),\"---\")","v":"---"},"0000-0000-f-19000100",1,663,"","",1,663,"","","0000","0000","f","19000100",1900,"01","00"]
["","",null,null,null,null,null,null,null,null,null,null,null,null,null,null,"",{"$f":"IF(YEAR(L681)>1900,Einstellungen!$C$10-YEAR(L681),\"---\")","v":"---"},"0000-0000-f-19000100",1,664,"","",1,664,"","","0000","0000","f","19000100",1900,"01","00"]
["","",null,null,null,null,null,null,null,null,null,null,null,null,null,null,"",{"$f":"IF(YEAR(L682)>1900,Einstellungen!$C$10-YEAR(L682),\"---\")","v":"---"},"0000-0000-f-19000100",1,665,"","",1,665,"","","0000","0000","f","19000100",1900,"01","00"]
["","",null,null,null,null,null,null,null,null,null,null,null,null,null,null,"",{"$f":"IF(YEAR(L683)>1900,Einstellungen!$C$10-YEAR(L683),\"---\")","v":"---"},"0000-0000-f-19000100",1,666,"","",1,666,"","","0000","0000","f","19000100",1900,"01","00"]
["","",null,null,null,null,null,null,null,null,null,null,null,null,null,null,"",{"$f":"IF(YEAR(L684)>1900,Einstellungen!$C$10-YEAR(L684),\"---\")","v":"---"},"0000-0000-f-19000100",1,667,"","",1,667,"","","0000","0000","f","19000100",1900,"01","00"]
["","",null,null,null,null,null,null,null,null,null,null,null,null,null,null,"",{"$f":"IF(YEAR(L685)>1900,Einstellungen!$C$10-YEAR(L685),\"---\")","v":"---"},"0000-0000-f-19000100",1,668,"","",1,668,"","","0000","0000","f","19000100",1900,"01","00"]
["","",null,null,null,null,null,null,null,null,null,null,null,null,null,null,"",{"$f":"IF(YEAR(L686)>1900,Einstellungen!$C$10-YEAR(L686),\"---\")","v":"---"},"0000-0000-f-19000100",1,669,"","",1,669,"","","0000","0000","f","19000100",1900,"01","00"]
["","",null,null,null,null,null,null,null,null,null,null,null,null,null,null,"",{"$f":"IF(YEAR(L687)>1900,Einstellungen!$C$10-YEAR(L687),\"---\")","v":"---"},"0000-0000-f-19000100",1,670,"","",1,670,"","","0000","0000","f","19000100",1900,"01","00"]
["","",null,null,null,null,null,null,null,null,null,null,null,null,null,null,"",{"$f":"IF(YEAR(L688)>1900,Einstellungen!$C$10-YEAR(L688),\"---\")","v":"---"},"0000-0000-f-19000100",1,671,"","",1,671,"","","0000","0000","f","19000100",1900,"01","00"]
["","",null,null,null,null,null,null,null,null,null,null,null,null,null,null,"",{"$f":"IF(YEAR(L689)>1900,Einstellungen!$C$10-YEAR(L689),\"---\")","v":"---"},"0000-0000-f-19000100",1,672,"","",1,672,"","","0000","0000","f","19000100",1900,"01","00"]
["","",null,null,null,null,null,null,null,null,null,null,null,null,null,null,"",{"$f":"IF(YEAR(L690)>1900,Einstellungen!$C$10-YEAR(L690),\"---\")","v":"---"},"0000-0000-f-19000100",1,673,"","",1,673,"","","0000","0000","f","19000100",1900,"01","00"]
["","",null,null,null,null,null,null,null,null,null,null,null,null,null,null,"",{"$f":"IF(YEAR(L691)>1900,Einstellungen!$C$10-YEAR(L691),\"---\")","v":"---"},"0000-0000-f-19000100",1,674,"","",1,674,"","","0000","0000","f","19000100",1900,"01","00"]
["","",null,null,null,null,null,null,null,null,null,null,null,null,null,null,"",{"$f":"IF(YEAR(L692)>1900,Einstellungen!$C$10-YEAR(L692),\"---\")","v":"---"},"0000-0000-f-19000100",1,675,"","",1,675,"","","0000","0000","f","19000100",1900,"01","00"]
["","",null,null,null,null,null,null,null,null,null,null,null,null,null,null,"",{"$f":"IF(YEAR(L693)>1900,Einstellungen!$C$10-YEAR(L693),\"---\")","v":"---"},"0000-0000-f-19000100",1,676,"","",1,676,"","","0000","0000","f","19000100",1900,"01","00"]
["","",null,null,null,null,null,null,null,null,null,null,null,null,null,null,"",{"$f":"IF(YEAR(L694)>1900,Einstellungen!$C$10-YEAR(L694),\"---\")","v":"---"},"0000-0000-f-19000100",1,677,"","",1,677,"","","0000","0000","f","19000100",1900,"01","00"]
["","",null,null,null,null,null,null,null,null,null,null,null,null,null,null,"",{"$f":"IF(YEAR(L695)>1900,Einstellungen!$C$10-YEAR(L695),\"---\")","v":"---"},"0000-0000-f-19000100",1,678,"","",1,678,"","","0000","0000","f","19000100",1900,"01","00"]
["","",null,null,null,null,null,null,null,null,null,null,null,null,null,null,"",{"$f":"IF(YEAR(L696)>1900,Einstellungen!$C$10-YEAR(L696),\"---\")","v":"---"},"0000-0000-f-19000100",1,679,"","",1,679,"","","0000","0000","f","19000100",1900,"01","00"]
["","",null,null,null,null,null,null,null,null,null,null,null,null,null,null,"",{"$f":"IF(YEAR(L697)>1900,Einstellungen!$C$10-YEAR(L697),\"---\")","v":"---"},"0000-0000-f-19000100",1,680,"","",1,680,"","","0000","0000","f","19000100",1900,"01","00"]
["","",null,null,null,null,null,null,null,null,null,null,null,null,null,null,"",{"$f":"IF(YEAR(L698)>1900,Einstellungen!$C$10-YEAR(L698),\"---\")","v":"---"},"0000-0000-f-19000100",1,681,"","",1,681,"","","0000","0000","f","19000100",1900,"01","00"]
["","",null,null,null,null,null,null,null,null,null,null,null,null,null,null,"",{"$f":"IF(YEAR(L699)>1900,Einstellungen!$C$10-YEAR(L699),\"---\")","v":"---"},"0000-0000-f-19000100",1,682,"","",1,682,"","","0000","0000","f","19000100",1900,"01","00"]
["","",null,null,null,null,null,null,null,null,null,null,null,null,null,null,"",{"$f":"IF(YEAR(L700)>1900,Einstellungen!$C$10-YEAR(L700),\"---\")","v":"---"},"0000-0000-f-19000100",1,683,"","",1,683,"","","0000","0000","f","19000100",1900,"01","00"]
["","",null,null,null,null,null,null,null,null,null,null,null,null,null,null,"",{"$f":"IF(YEAR(L701)>1900,Einstellungen!$C$10-YEAR(L701),\"---\")","v":"---"},"0000-0000-f-19000100",1,684,"","",1,684,"","","0000","0000","f","19000100",1900,"01","00"]
["","",null,null,null,null,null,null,null,null,null,null,null,null,null,null,"",{"$f":"IF(YEAR(L702)>1900,Einstellungen!$C$10-YEAR(L702),\"---\")","v":"---"},"0000-0000-f-19000100",1,685,"","",1,685,"","","0000","0000","f","19000100",1900,"01","00"]
["","",null,null,null,null,null,null,null,null,null,null,null,null,null,null,"",{"$f":"IF(YEAR(L703)>1900,Einstellungen!$C$10-YEAR(L703),\"---\")","v":"---"},"0000-0000-f-19000100",1,686,"","",1,686,"","","0000","0000","f","19000100",1900,"01","00"]
["","",null,null,null,null,null,null,null,null,null,null,null,null,null,null,"",{"$f":"IF(YEAR(L704)>1900,Einstellungen!$C$10-YEAR(L704),\"---\")","v":"---"},"0000-0000-f-19000100",1,687,"","",1,687,"","","0000","0000","f","19000100",1900,"01","00"]
["","",null,null,null,null,null,null,null,null,null,null,null,null,null,null,"",{"$f":"IF(YEAR(L705)>1900,Einstellungen!$C$10-YEAR(L705),\"---\")","v":"---"},"0000-0000-f-19000100",1,688,"","",1,688,"","","0000","0000","f","19000100",1900,"01","00"]
["","",null,null,null,null,null,null,null,null,null,null,null,null,null,null,"",{"$f":"IF(YEAR(L706)>1900,Einstellungen!$C$10-YEAR(L706),\"---\")","v":"---"},"0000-0000-f-19000100",1,689,"","",1,689,"","","0000","0000","f","19000100",1900,"01","00"]
["","",null,null,null,null,null,null,null,null,null,null,null,null,null,null,"",{"$f":"IF(YEAR(L707)>1900,Einstellungen!$C$10-YEAR(L707),\"---\")","v":"---"},"0000-0000-f-19000100",1,690,"","",1,690,"","","0000","0000","f","19000100",1900,"01","00"]
["","",null,null,null,null,null,null,null,null,null,null,null,null,null,null,"",{"$f":"IF(YEAR(L708)>1900,Einstellungen!$C$10-YEAR(L708),\"---\")","v":"---"},"0000-0000-f-19000100",1,691,"","",1,691,"","","0000","0000","f","19000100",1900,"01","00"]
["","",null,null,null,null,null,null,null,null,null,null,null,null,null,null,"",{"$f":"IF(YEAR(L709)>1900,Einstellungen!$C$10-YEAR(L709),\"---\")","v":"---"},"0000-0000-f-19000100",1,692,"","",1,692,"","","0000","0000","f","19000100",1900,"01","00"]
["","",null,null,null,null,null,null,null,null,null,null,null,null,null,null,"",{"$f":"IF(YEAR(L710)>1900,Einstellungen!$C$10-YEAR(L710),\"---\")","v":"---"},"0000-0000-f-19000100",1,693,"","",1,693,"","","0000","0000","f","19000100",1900,"01","00"]
["","",null,null,null,null,null,null,null,null,null,null,null,null,null,null,"",{"$f":"IF(YEAR(L711)>1900,Einstellungen!$C$10-YEAR(L711),\"---\")","v":"---"},"0000-0000-f-19000100",1,694,"","",1,694,"","","0000","0000","f","19000100",1900,"01","00"]
["","",null,null,null,null,null,null,null,null,null,null,null,null,null,null,"",{"$f":"IF(YEAR(L712)>1900,Einstellungen!$C$10-YEAR(L712),\"---\")","v":"---"},"0000-0000-f-19000100",1,695,"","",1,695,"","","0000","0000","f","19000100",1900,"01","00"]
["","",null,null,null,null,null,null,null,null,null,null,null,null,null,null,"",{"$f":"IF(YEAR(L713)>1900,Einstellungen!$C$10-YEAR(L713),\"---\")","v":"---"},"0000-0000-f-19000100",1,696,"","",1,696,"","","0000","0000","f","19000100",1900,"01","00"]
["","",null,null,null,null,null,null,null,null,null,null,null,null,null,null,"",{"$f":"IF(YEAR(L714)>1900,Einstellungen!$C$10-YEAR(L714),\"---\")","v":"---"},"0000-0000-f-19000100",1,697,"","",1,697,"","","0000","0000","f","19000100",1900,"01","00"]
["","",null,null,null,null,null,null,null,null,null,null,null,null,null,null,"",{"$f":"IF(YEAR(L715)>1900,Einstellungen!$C$10-YEAR(L715),\"---\")","v":"---"},"0000-0000-f-19000100",1,698,"","",1,698,"","","0000","0000","f","19000100",1900,"01","00"]
["","",null,null,null,null,null,null,null,null,null,null,null,null,null,null,"",{"$f":"IF(YEAR(L716)>1900,Einstellungen!$C$10-YEAR(L716),\"---\")","v":"---"},"0000-0000-f-19000100",1,699,"","",1,699,"","","0000","0000","f","19000100",1900,"01","00"]
["","",null,null,null,null,null,null,null,null,null,null,null,null,null,null,"",{"$f":"IF(YEAR(L717)>1900,Einstellungen!$C$10-YEAR(L717),\"---\")","v":"---"},"0000-0000-f-19000100",1,700,"","",1,700,"","","0000","0000","f","19000100",1900,"01","00"]

{"sheet":"Rangliste_04","index":5,"n_rows":717,"n_cols":35,"rows_kept":717,"cut":false,"hidden":false,"merged":[[7,0,7,4],[9,15,9,16],[10,15,10,16],[11,15,11,16],[1,0,1,4],[3,11,3,12],[3,13,3,16],[6,0,6,3],[6,10,6,16],[1,10,1,16]]}
[null,null,null,null,null,null,null,null,null,null,null,null,null,null,null,null,null,">>",null,null,null,null,null,null,null,null,null,null,null,null,null,null,null,null,"<<"]
["Zürcher Schiesssportverband\nZHSV   -   www.ZHSV.ch",null,null,null,null,null,null,null,null,null,"Zürcher Kantonaler Armbrustschützenverband\nZKAV   -   www.ZKAV.ch"]
[{"$f":"Einstellungen!$A$2","v":"44. Goldiger Züri-Träffer 2023"},null,null,null,null,null,null,null,null,null,null,null,null,null,null,null,{"$f":"Einstellungen!$I$2","v":"Qualifikation"}]
[{"$f":"Einstellungen!$I$4","v":"Version V8/25.12.2022"},null,null,null,null,null,null,null,null,null,null,"Rangliste per:",null,{"$f":"Einstellungen!$I$19","v":"00:00:00"},null,null,null,null,null,"Erste Rangzeile:",null,18]
[]
["Disziplin:",null,null,null,"Alter:",null,null,"Jahrgänge:",null,null,"Organisator:",null,null,null,null,null,null,null,null,"Letzte Rangzeile:",null,{"$f":"V4+P10-1","v":17}]
[{"$f":"Einstellungen!$I$16","v":"keine"},null,null,null,{"$f":"Einstellungen!$I$17","v":"---"},null,null,{"$f":"IF(Einstellungen!$C$35<>Einstellungen!$C$36,Einstellungen!$C$35 & \" - \" & Einstellungen!$C$36, Einstellungen!$C$35)","v":"---"},null,null,{"$f":"Einstellungen!$G$10","v":0},null,null,null,null,null,null,null,null,"Print-Select:",null,{"$f":"\"A2:Q\"&V6","v":"A2:Q17"}]
[{"$f":"Einstellungen!$I$32","v":0}]
[]
["Final:","Q",null,"= qualifiziert",null,null,null,null,null,null,null,null,"Teilnehmer:",null,null,{"$f":"SUM(P11:P12)","v":0},null,null,null,"Hilfsfeld",null,null,null,null,null,"Anz. Q","Anz. R",null,null,"Alter","Alter"]
[null,"R",null,"= Reserve",null,null,null,null,null,null,null,null,"- Mädchen:",null,null,{"$f":"COUNTIF(P18:P717,\"x\")","v":0},null,null,null,null,null,null,null,null,null,null,null,null,null,"von","bis"]
[null,null,"K","= Kadermitglied (keine Finalteilnahme)",null,null,null,null,null,null,null,null,"- Jungen:",null,null,{"$f":"COUNTIF(Q18:Q717,\"x\")","v":0},null,null,null,{"$f":"\"---\"","v":"---"},null,null,null,null,null,{"$f":"Einstellungen!$I$24","v":0},{"$f":"Einstellungen!$I$26","v":0},null,null,{"$f":"Einstellungen!$I$33","v":"---"},{"$f":"Einstellungen!$I$34","v":"---"}]
[null,null,"A","= abgemeldet (keine Finalteilnahme)"]
[]
["Rang","Final",{"$f":"Einstellungen!$I$42","v":0},"Name","Vorname","Adresse","PLZ","Wohnort","Telefon","eMail","Verein","Geburts-\nDatum\n(tt.mm.jjjj)",{"$f":"Einstellungen!$I$37","v":""},{"$f":"Einstellungen!$I$38","v":""},{"$f":"Einstellungen!$I$39","v":""},{"$f":"Einstellungen!$I$40","v":""},{"$f":"Einstellungen!$I$41","v":0},"Alter","Total","Rang_Ber","Rang_Set","Rang_OK","Final","mögliche Final\nTeilnahme","Anzahl\nmöglicher Final\nTeilnahmen","Q_OK","R_OK","Treffer","Punkte","Stellung","Alter","Geb.-Jahr","Geb.-Monat","Geb.-Tag"]
[]
[null,null,null,null,null,null,null,null,null,null,null,null,null,null,null,null,null,null,null,null,0,null,null,null,0]
["","",null,null,null,null,null,null,null,null,null,null,null,null,null,null,{"$f":"IF(LEN(D18)>0,IF(P18=\"x\",\"\",\"x\"),\"\")","v":""},{"$f":"IF(YEAR(L18)>1900,Einstellungen!$C$10-YEAR(L18),\"---\")","v":"---"},{"$f":"AB18 & \"-\" & AC18 & \"-\" & AD18 & \"-\" & AE18","v":"0000-0000-f-19000100"},{"$f":"IF(R18<=$AE$12,1,0)","v":1},{"$f":"IF(T18=1,U17+1,U17)","v":1},{"$f":"IF((M18+N18)>0,IF(T18=1,U18,\"-\"),\"\")","v":""},{"$f":"Z18 & AA18","v":""},{"$f":"IF(LEN(C18)>0, 0, T18)","v":1},{"$f":"Y17+X18","v":1},{"$f":"IF(X18=1,IF(Y18<=$Z$12,\"Q\",\"\"),\"\")","v":""},{"$f":"IF(X18=1, IF(Y18>$Z$12, IF(Y18<=($Z$12+$AA$12),\"R\",\"\"),\"\"), \"\")","v":""},{"$f":"IF(M18<1,\"0000\", IF(M18<10,\"000\"&M18, IF(M18<100,\"00\"&M18, IF(M18<1000,\"0\"&M18,\"\"& M18))))","v":"0000"},{"$f":"IF(N18<1,\"0000\", IF(N18<10,\"000\"&N18, IF(N18<100,\"00\"&N18, IF(N18<1000,\"0\"&N18,\"\"& N18))))","v":"0000"},{"$f":"IF(O18=\"a\",\"a\",\"f\")","v":"f"},{"$f":"AF18&AG18&AH18","v":"19000100"},{"$f":"YEAR(L18)","v":1900},{"$f":"IF(MONTH(L18)<10,\"0\"&MONTH(L18),MONTH(L18))","v":"01"},{"$f":"IF(DAY(L18)<10,\"0\"&DAY(L18),DAY(L18))","v":"00"}]
["","",null,null,null,null,null,null,null,null,null,null,null,null,null,null,"",{"$f":"IF(YEAR(L19)>1900,Einstellungen!$C$10-YEAR(L19),\"---\")","v":"---"},{"$f":"AB19 & \"-\" & AC19 & \"-\" & AD19 & \"-\" & AE19","v":"0000-0000-f-19000100"},{"$f":"IF(R19<=$AE$12,1,0)","v":1},{"$f":"IF(T19=1,U18+1,U18)","v":2},{"$f":"IF((M19+N19)>0,IF(T19=1,U19,\"-\"),\"\")","v":""},{"$f":"Z19 & AA19","v":""},{"$f":"IF(LEN(C19)>0, 0, T19)","v":1},{"$f":"Y18+X19","v":2},{"$f":"IF(X19=1,IF(Y19<=$Z$12,\"Q\",\"\"),\"\")","v":""},{"$f":"IF(X19=1, IF(Y19>$Z$12, IF(Y19<=($Z$12+$AA$12),\"R\",\"\"),\"\"), \"\")","v":""},{"$f":"IF(M19<1,\"0000\", IF(M19<10,\"000\"&M19, IF(M19<100,\"00\"&M19, IF(M19<1000,\"0\"&M19,\"\"& M19))))","v":"0000"},"0000",{"$f":"IF(O19=\"a\",\"a\",\"f\")","v":"f"},{"$f":"AF19&AG19&AH19","v":"19000100"},{"$f":"YEAR(L19)","v":1900},{"$f":"IF(MONTH(L19)<10,\"0\"&MONTH(L19),MONTH(L19))","v":"01"},{"$f":"IF(DAY(L19)<10,\"0\"&DAY(L19),DAY(L19))","v":"00"}]
["","",null,null,null,null,null,null,null,null,null,null,null,null,null,null,"",{"$f":"IF(YEAR(L20)>1900,Einstellungen!$C$10-YEAR(L20),\"---\")","v":"---"},"0000-0000-f-19000100",1,3,"","",1,3,"","","0000","0000","f","19000100",1900,"01","00"]
["","",null,null,null,null,null,null,null,null,null,null,null,null,null,null,"",{"$f":"IF(YEAR(L21)>1900,Einstellungen!$C$10-YEAR(L21),\"---\")","v":"---"},"0000-0000-f-19000100",1,4,"","",1,4,"","","0000","0000","f","19000100",1900,"01","00"]
["","",null,null,null,null,null,null,null,null,null,null,null,null,null,null,"",{"$f":"IF(YEAR(L22)>1900,Einstellungen!$C$10-YEAR(L22),\"---\")","v":"---"},"0000-0000-f-19000100",1,5,"","",1,5,"","","0000","0000","f","19000100",1900,"01","00"]
["","",null,null,null,null,null,null,null,null,null,null,null,null,null,null,"",{"$f":"IF(YEAR(L23)>1900,Einstellungen!$C$10-YEAR(L23),\"---\")","v":"---"},"0000-0000-f-19000100",1,6,"","",1,6,"","","0000","0000","f","19000100",1900,"01","00"]
["","",null,null,null,null,null,null,null,null,null,null,null,null,null,null,"",{"$f":"IF(YEAR(L24)>1900,Einstellungen!$C$10-YEAR(L24),\"---\")","v":"---"},"0000-0000-f-19000100",1,7,"","",1,7,"","","0000","0000","f","19000100",1900,"01","00"]
["","",null,null,null,null,null,null,null,null,null,null,null,null,null,null,"",{"$f":"IF(YEAR(L25)>1900,Einstellungen!$C$10-YEAR(L25),\"---\")","v":"---"},"0000-0000-f-19000100",1,8,"","",1,8,"","","0000","0000","f","19000100",1900,"01","00"]
["","",null,null,null,null,null,null,null,null,null,null,null,null,null,null,"",{"$f":"IF(YEAR(L26)>1900,Einstellungen!$C$10-YEAR(L26),\"---\")","v":"---"},"0000-0000-f-19000100",1,9,"","",1,9,"","","0000","0000","f","19000100",1900,"01","00"]
["","",null,null,null,null,null,null,null,null,null,null,null,null,null,null,"",{"$f":"IF(YEAR(L27)>1900,Einstellungen!$C$10-YEAR(L27),\"---\")","v":"---"},"0000-0000-f-19000100",1,10,"","",1,10,"","","0000","0000","f","19000100",1900,"01","00"]
["","",null,null,null,null,null,null,null,null,null,null,null,null,null,null,"",{"$f":"IF(YEAR(L28)>1900,Einstellungen!$C$10-YEAR(L28),\"---\")","v":"---"},"0000-0000-f-19000100",1,11,"","",1,11,"","","0000","0000","f","19000100",1900,"01","00"]
["","",null,null,null,null,null,null,null,null,null,null,null,null,null,null,"",{"$f":"IF(YEAR(L29)>1900,Einstellungen!$C$10-YEAR(L29),\"---\")","v":"---"},"0000-0000-f-19000100",1,12,"","",1,12,"","","0000","0000","f","19000100",1900,"01","00"]
["","",null,null,null,null,null,null,null,null,null,null,null,null,null,null,"",{"$f":"IF(YEAR(L30)>1900,Einstellungen!$C$10-YEAR(L30),\"---\")","v":"---"},"0000-0000-f-19000100",1,13,"","",1,13,"","","0000","0000","f","19000100",1900,"01","00"]
["","",null,null,null,null,null,null,null,null,null,null,null,null,null,null,"",{"$f":"IF(YEAR(L31)>1900,Einstellungen!$C$10-YEAR(L31),\"---\")","v":"---"},"0000-0000-f-19000100",1,14,"","",1,14,"","","0000","0000","f","19000100",1900,"01","00"]
["","",null,null,null,null,null,null,null,null,null,null,null,null,null,null,"",{"$f":"IF(YEAR(L32)>1900,Einstellungen!$C$10-YEAR(L32),\"---\")","v":"---"},"0000-0000-f-19000100",1,15,"","",1,15,"","","0000","0000","f","19000100",1900,"01","00"]
["","",null,null,null,null,null,null,null,null,null,null,null,null,null,null,"",{"$f":"IF(YEAR(L33)>1900,Einstellungen!$C$10-YEAR(L33),\"---\")","v":"---"},"0000-0000-f-19000100",1,16,"","",1,16,"","","0000","0000","f","19000100",1900,"01","00"]
["","",null,null,null,null,null,null,null,null,null,null,null,null,null,null,"",{"$f":"IF(YEAR(L34)>1900,Einstellungen!$C$10-YEAR(L34),\"---\")","v":"---"},"0000-0000-f-19000100",1,17,"","",1,17,"","","0000","0000","f","19000100",1900,"01","00"]
["","",null,null,null,null,null,null,null,null,null,null,null,null,null,null,"",{"$f":"IF(YEAR(L35)>1900,Einstellungen!$C$10-YEAR(L35),\"---\")","v":"---"},"0000-0000-f-19000100",1,18,"","",1,18,"","","0000","0000","f","19000100",1900,"01","00"]
["","",null,null,null,null,null,null,null,null,null,null,null,null,null,null,"",{"$f":"IF(YEAR(L36)>1900,Einstellungen!$C$10-YEAR(L36),\"---\")","v":"---"},"0000-0000-f-19000100",1,19,"","",1,19,"","","0000","0000","f","19000100",1900,"01","00"]
["","",null,null,null,null,null,null,null,null,null,null,null,null,null,null,"",{"$f":"IF(YEAR(L37)>1900,Einstellungen!$C$10-YEAR(L37),\"---\")","v":"---"},"0000-0000-f-19000100",1,20,"","",1,20,"","","0000","0000","f","19000100",1900,"01","00"]
["","",null,null,null,null,null,null,null,null,null,null,null,null,null,null,"",{"$f":"IF(YEAR(L38)>1900,Einstellungen!$C$10-YEAR(L38),\"---\")","v":"---"},"0000-0000-f-19000100",1,21,"","",1,21,"","","0000","0000","f","19000100",1900,"01","00"]
["","",null,null,null,null,null,null,null,null,null,null,null,null,null,null,"",{"$f":"IF(YEAR(L39)>1900,Einstellungen!$C$10-YEAR(L39),\"---\")","v":"---"},"0000-0000-f-19000100",1,22,"","",1,22,"","","0000","0000","f","19000100",1900,"01","00"]
["","",null,null,null,null,null,null,null,null,null,null,null,null,null,null,"",{"$f":"IF(YEAR(L40)>1900,Einstellungen!$C$10-YEAR(L40),\"---\")","v":"---"},"0000-0000-f-19000100",1,23,"","",1,23,"","","0000","0000","f","19000100",1900,"01","00"]
["","",null,null,null,null,null,null,null,null,null,null,null,null,null,null,"",{"$f":"IF(YEAR(L41)>1900,Einstellungen!$C$10-YEAR(L41),\"---\")","v":"---"},"0000-0000-f-19000100",1,24,"","",1,24,"","","0000","0000","f","19000100",1900,"01","00"]
["","",null,null,null,null,null,null,null,null,null,null,null,null,null,null,"",{"$f":"IF(YEAR(L42)>1900,Einstellungen!$C$10-YEAR(L42),\"---\")","v":"---"},"0000-0000-f-19000100",1,25,"","",1,25,"","","0000","0000","f","19000100",1900,"01","00"]
["","",null,null,null,null,null,null,null,null,null,null,null,null,null,null,"",{"$f":"IF(YEAR(L43)>1900,Einstellungen!$C$10-YEAR(L43),\"---\")","v":"---"},"0000-0000-f-19000100",1,26,"","",1,26,"","","0000","0000","f","19000100",1900,"01","00"]
["","",null,null,null,null,null,null,null,null,null,null,null,null,null,null,"",{"$f":"IF(YEAR(L44)>1900,Einstellungen!$C$10-YEAR(L44),\"---\")","v":"---"},"0000-0000-f-19000100",1,27,"","",1,27,"","","0000","0000","f","19000100",1900,"01","00"]
["","",null,null,null,null,null,null,null,null,null,null,null,null,null,null,"",{"$f":"IF(YEAR(L45)>1900,Einstellungen!$C$10-YEAR(L45),\"---\")","v":"---"},"0000-0000-f-19000100",1,28,"","",1,28,"","","0000","0000","f","19000100",1900,"01","00"]
["","",null,null,null,null,null,null,null,null,null,null,null,null,null,null,"",{"$f":"IF(YEAR(L46)>1900,Einstellungen!$C$10-YEAR(L46),\"---\")","v":"---"},"0000-0000-f-19000100",1,29,"","",1,29,"","","0000","0000","f","19000100",1900,"01","00"]
["","",null,null,null,null,null,null,null,null,null,null,null,null,null,null,"",{"$f":"IF(YEAR(L47)>1900,Einstellungen!$C$10-YEAR(L47),\"---\")","v":"---"},"0000-0000-f-19000100",1,30,"","",1,30,"","","0000","0000","f","19000100",1900,"01","00"]
["","",null,null,null,null,null,null,null,null,null,null,null,null,null,null,"",{"$f":"IF(YEAR(L48)>1900,Einstellungen!$C$10-YEAR(L48),\"---\")","v":"---"},"0000-0000-f-19000100",1,31,"","",1,31,"","","0000","0000","f","19000100",1900,"01","00"]
["","",null,null,null,null,null,null,null,null,null,null,null,null,null,null,"",{"$f":"IF(YEAR(L49)>1900,Einstellungen!$C$10-YEAR(L49),\"---\")","v":"---"},"0000-0000-f-19000100",1,32,"","",1,32,"","","0000","0000","f","19000100",1900,"01","00"]
["","",null,null,null,null,null,null,null,null,null,null,null,null,null,null,"",{"$f":"IF(YEAR(L50)>1900,Einstellungen!$C$10-YEAR(L50),\"---\")","v":"---"},"0000-0000-f-19000100",1,33,"","",1,33,"","","0000","0000","f","19000100",1900,"01","00"]
["","",null,null,null,null,null,null,null,null,null,null,null,null,null,null,"",{"$f":"IF(YEAR(L51)>1900,Einstellungen!$C$10-YEAR(L51),\"---\")","v":"---"},"0000-0000-f-19000100",1,34,"","",1,34,"","","0000","0000","f","19000100",1900,"01","00"]
["","",null,null,null,null,null,null,null,null,null,null,null,null,null,null,"",{"$f":"IF(YEAR(L52)>1900,Einstellungen!$C$10-YEAR(L52),\"---\")","v":"---"},"0000-0000-f-19000100",1,35,"","",1,35,"","","0000","0000","f","19000100",1900,"01","00"]
["","",null,null,null,null,null,null,null,null,null,null,null,null,null,null,"",{"$f":"IF(YEAR(L53)>1900,Einstellungen!$C$10-YEAR(L53),\"---\")","v":"---"},"0000-0000-f-19000100",1,36,"","",1,36,"","","0000","0000","f","19000100",1900,"01","00"]
["","",null,null,null,null,null,null,null,null,null,null,null,null,null,null,"",{"$f":"IF(YEAR(L54)>1900,Einstellungen!$C$10-YEAR(L54),\"---\")","v":"---"},"0000-0000-f-19000100",1,37,"","",1,37,"","","0000","0000","f","19000100",1900,"01","00"]
["","",null,null,null,null,null,null,null,null,null,null,null,null,null,null,"",{"$f":"IF(YEAR(L55)>1900,Einstellungen!$C$10-YEAR(L55),\"---\")","v":"---"},"0000-0000-f-19000100",1,38,"","",1,38,"","","0000","0000","f","19000100",1900,"01","00"]
["","",null,null,null,null,null,null,null,null,null,null,null,null,null,null,"",{"$f":"IF(YEAR(L56)>1900,Einstellungen!$C$10-YEAR(L56),\"---\")","v":"---"},"0000-0000-f-19000100",1,39,"","",1,39,"","","0000","0000","f","19000100",1900,"01","00"]
["","",null,null,null,null,null,null,null,null,null,null,null,null,null,null,"",{"$f":"IF(YEAR(L57)>1900,Einstellungen!$C$10-YEAR(L57),\"---\")","v":"---"},"0000-0000-f-19000100",1,40,"","",1,40,"","","0000","0000","f","19000100",1900,"01","00"]
["","",null,null,null,null,null,null,null,null,null,null,null,null,null,null,"",{"$f":"IF(YEAR(L58)>1900,Einstellungen!$C$10-YEAR(L58),\"---\")","v":"---"},"0000-0000-f-19000100",1,41,"","",1,41,"","","0000","0000","f","19000100",1900,"01","00"]
["","",null,null,null,null,null,null,null,null,null,null,null,null,null,null,"",{"$f":"IF(YEAR(L59)>1900,Einstellungen!$C$10-YEAR(L59),\"---\")","v":"---"},"0000-0000-f-19000100",1,42,"","",1,42,"","","0000","0000","f","19000100",1900,"01","00"]
["","",null,null,null,null,null,null,null,null,null,null,null,null,null,null,"",{"$f":"IF(YEAR(L60)>1900,Einstellungen!$C$10-YEAR(L60),\"---\")","v":"---"},"0000-0000-f-19000100",1,43,"","",1,43,"","","0000","0000","f","19000100",1900,"01","00"]
["","",null,null,null,null,null,null,null,null,null,null,null,null,null,null,"",{"$f":"IF(YEAR(L61)>1900,Einstellungen!$C$10-YEAR(L61),\"---\")","v":"---"},"0000-0000-f-19000100",1,44,"","",1,44,"","","0000","0000","f","19000100",1900,"01","00"]
["","",null,null,null,null,null,null,null,null,null,null,null,null,null,null,"",{"$f":"IF(YEAR(L62)>1900,Einstellungen!$C$10-YEAR(L62),\"---\")","v":"---"},"0000-0000-f-19000100",1,45,"","",1,45,"","","0000","0000","f","19000100",1900,"01","00"]
["","",null,null,null,null,null,null,null,null,null,null,null,null,null,null,"",{"$f":"IF(YEAR(L63)>1900,Einstellungen!$C$10-YEAR(L63),\"---\")","v":"---"},"0000-0000-f-19000100",1,46,"","",1,46,"","","0000","0000","f","19000100",1900,"01","00"]
["","",null,null,null,null,null,null,null,null,null,null,null,null,null,null,"",{"$f":"IF(YEAR(L64)>1900,Einstellungen!$C$10-YEAR(L64),\"---\")","v":"---"},"0000-0000-f-19000100",1,47,"","",1,47,"","","0000","0000","f","19000100",1900,"01","00"]
["","",null,null,null,null,null,null,null,null,null,null,null,null,null,null,"",{"$f":"IF(YEAR(L65)>1900,Einstellungen!$C$10-YEAR(L65),\"---\")","v":"---"},"0000-0000-f-19000100",1,48,"","",1,48,"","","0000","0000","f","19000100",1900,"01","00"]
["","",null,null,null,null,null,null,null,null,null,null,null,null,null,null,"",{"$f":"IF(YEAR(L66)>1900,Einstellungen!$C$10-YEAR(L66),\"---\")","v":"---"},"0000-0000-f-19000100",1,49,"","",1,49,"","","0000","0000","f","19000100",1900,"01","00"]
["","",null,null,null,null,null,null,null,null,null,null,null,null,null,null,"",{"$f":"IF(YEAR(L67)>1900,Einstellungen!$C$10-YEAR(L67),\"---\")","v":"---"},"0000-0000-f-19000100",1,50,"","",1,50,"","","0000","0000","f","19000100",1900,"01","00"]
["","",null,null,null,null,null,null,null,null,null,null,null,null,null,null,"",{"$f":"IF(YEAR(L68)>1900,Einstellungen!$C$10-YEAR(L68),\"---\")","v":"---"},"0000-0000-f-19000100",1,51,"","",1,51,"","","0000","0000","f","19000100",1900,"01","00"]
["","",null,null,null,null,null,null,null,null,null,null,null,null,null,null,"",{"$f":"IF(YEAR(L69)>1900,Einstellungen!$C$10-YEAR(L69),\"---\")","v":"---"},"0000-0000-f-19000100",1,52,"","",1,52,"","","0000","0000","f","19000100",1900,"01","00"]
["","",null,null,null,null,null,null,null,null,null,null,null,null,null,null,"",{"$f":"IF(YEAR(L70)>1900,Einstellungen!$C$10-YEAR(L70),\"---\")","v":"---"},"0000-0000-f-19000100",1,53,"","",1,53,"","","0000","0000","f","19000100",1900,"01","00"]
["","",null,null,null,null,null,null,null,null,null,null,null,null,null,null,"",{"$f":"IF(YEAR(L71)>1900,Einstellungen!$C$10-YEAR(L71),\"---\")","v":"---"},"0000-0000-f-19000100",1,54,"","",1,54,"","","0000","0000","f","19000100",1900,"01","00"]
["","",null,null,null,null,null,null,null,null,null,null,null,null,null,null,"",{"$f":"IF(YEAR(L72)>1900,Einstellungen!$C$10-YEAR(L72),\"---\")","v":"---"},"0000-0000-f-19000100",1,55,"","",1,55,"","","0000","0000","f","19000100",1900,"01","00"]
["","",null,null,null,null,null,null,null,null,null,null,null,null,null,null,"",{"$f":"IF(YEAR(L73)>1900,Einstellungen!$C$10-YEAR(L73),\"---\")","v":"---"},"0000-0000-f-19000100",1,56,"","",1,56,"","","0000","0000","f","19000100",1900,"01","00"]
["","",null,null,null,null,null,null,null,null,null,null,null,null,null,null,"",{"$f":"IF(YEAR(L74)>1900,Einstellungen!$C$10-YEAR(L74),\"---\")","v":"---"},"0000-0000-f-19000100",1,57,"","",1,57,"","","0000","0000","f","19000100",1900,"01","00"]
["","",null,null,null,null,null,null,null,null,null,null,null,null,null,null,"",{"$f":"IF(YEAR(L75)>1900,Einstellungen!$C$10-YEAR(L75),\"---\")","v":"---"},"0000-0000-f-19000100",1,58,"","",1,58,"","","0000","0000","f","19000100",1900,"01","00"]
["","",null,null,null,null,null,null,null,null,null,null,null,null,null,null,"",{"$f":"IF(YEAR(L76)>1900,Einstellungen!$C$10-YEAR(L76),\"---\")","v":"---"},"0000-0000-f-19000100",1,59,"","",1,59,"","","0000","0000","f","19000100",1900,"01","00"]
["","",null,null,null,null,null,null,null,null,null,null,null,null,null,null,"",{"$f":"IF(YEAR(L77)>1900,Einstellungen!$C$10-YEAR(L77),\"---\")","v":"---"},"0000-0000-f-19000100",1,60,"","",1,60,"","","0000","0000","f","19000100",1900,"01","00"]
["","",null,null,null,null,null,null,null,null,null,null,null,null,null,null,"",{"$f":"IF(YEAR(L78)>1900,Einstellungen!$C$10-YEAR(L78),\"---\")","v":"---"},"0000-0000-f-19000100",1,61,"","",1,61,"","","0000","0000","f","19000100",1900,"01","00"]
["","",null,null,null,null,null,null,null,null,null,null,null,null,null,null,"",{"$f":"IF(YEAR(L79)>1900,Einstellungen!$C$10-YEAR(L79),\"---\")","v":"---"},"0000-0000-f-19000100",1,62,"","",1,62,"","","0000","0000","f","19000100",1900,"01","00"]
["","",null,null,null,null,null,null,null,null,null,null,null,null,null,null,"",{"$f":"IF(YEAR(L80)>1900,Einstellungen!$C$10-YEAR(L80),\"---\")","v":"---"},"0000-0000-f-19000100",1,63,"","",1,63,"","","0000","0000","f","19000100",1900,"01","00"]
["","",null,null,null,null,null,null,null,null,null,null,null,null,null,null,"",{"$f":"IF(YEAR(L81)>1900,Einstellungen!$C$10-YEAR(L81),\"---\")","v":"---"},"0000-0000-f-19000100",1,64,"","",1,64,"","","0000","0000","f","19000100",1900,"01","00"]
["","",null,null,null,null,null,null,null,null,null,null,null,null,null,null,{"$f":"IF(LEN(D82)>0,IF(P82=\"x\",\"\",\"x\"),\"\")","v":""},{"$f":"IF(YEAR(L82)>1900,Einstellungen!$C$10-YEAR(L82),\"---\")","v":"---"},"0000-0000-f-19000100",1,65,"","",1,65,"","","0000","0000","f","19000100",1900,"01","00"]
["","",null,null,null,null,null,null,null,null,null,null,null,null,null,null,"",{"$f":"IF(YEAR(L83)>1900,Einstellungen!$C$10-YEAR(L83),\"---\")","v":"---"},{"$f":"AB83 & \"-\" & AC83 & \"-\" & AD83 & \"-\" & AE83","v":"0000-0000-f-19000100"},{"$f":"IF(R83<=$AE$12,1,0)","v":1},{"$f":"IF(T83=1,U82+1,U82)","v":66},{"$f":"IF((M83+N83)>0,IF(T83=1,U83,\"-\"),\"\")","v":""},{"$f":"Z83 & AA83","v":""},{"$f":"IF(LEN(C83)>0, 0, T83)","v":1},{"$f":"Y82+X83","v":66},{"$f":"IF(X83=1,IF(Y83<=$Z$12,\"Q\",\"\"),\"\")","v":""},{"$f":"IF(X83=1, IF(Y83>$Z$12, IF(Y83<=($Z$12+$AA$12),\"R\",\"\"),\"\"), \"\")","v":""},{"$f":"IF(M83<1,\"0000\", IF(M83<10,\"000\"&M83, IF(M83<100,\"00\"&M83, IF(M83<1000,\"0\"&M83,\"\"& M83))))","v":"0000"},"0000",{"$f":"IF(O83=\"a\",\"a\",\"f\")","v":"f"},{"$f":"AF83&AG83&AH83","v":"19000100"},{"$f":"YEAR(L83)","v":1900},{"$f":"IF(MONTH(L83)<10,\"0\"&MONTH(L83),MONTH(L83))","v":"01"},{"$f":"IF(DAY(L83)<10,\"0\"&DAY(L83),DAY(L83))","v":"00"}]
["","",null,null,null,null,null,null,null,null,null,null,null,null,null,null,"",{"$f":"IF(YEAR(L84)>1900,Einstellungen!$C$10-YEAR(L84),\"---\")","v":"---"},"0000-0000-f-19000100",1,67,"","",1,67,"","","0000","0000","f","19000100",1900,"01","00"]
["","",null,null,null,null,null,null,null,null,null,null,null,null,null,null,"",{"$f":"IF(YEAR(L85)>1900,Einstellungen!$C$10-YEAR(L85),\"---\")","v":"---"},"0000-0000-f-19000100",1,68,"","",1,68,"","","0000","0000","f","19000100",1900,"01","00"]
["","",null,null,null,null,null,null,null,null,null,null,null,null,null,null,"",{"$f":"IF(YEAR(L86)>1900,Einstellungen!$C$10-YEAR(L86),\"---\")","v":"---"},"0000-0000-f-19000100",1,69,"","",1,69,"","","0000","0000","f","19000100",1900,"01","00"]
["","",null,null,null,null,null,null,null,null,null,null,null,null,null,null,"",{"$f":"IF(YEAR(L87)>1900,Einstellungen!$C$10-YEAR(L87),\"---\")","v":"---"},"0000-0000-f-19000100",1,70,"","",1,70,"","","0000","0000","f","19000100",1900,"01","00"]
["","",null,null,null,null,null,null,null,null,null,null,null,null,null,null,"",{"$f":"IF(YEAR(L88)>1900,Einstellungen!$C$10-YEAR(L88),\"---\")","v":"---"},"0000-0000-f-19000100",1,71,"","",1,71,"","","0000","0000","f","19000100",1900,"01","00"]
["","",null,null,null,null,null,null,null,null,null,null,null,null,null,null,"",{"$f":"IF(YEAR(L89)>1900,Einstellungen!$C$10-YEAR(L89),\"---\")","v":"---"},"0000-0000-f-19000100",1,72,"","",1,72,"","","0000","0000","f","19000100",1900,"01","00"]
["","",null,null,null,null,null,null,null,null,null,null,null,null,null,null,"",{"$f":"IF(YEAR(L90)>1900,Einstellungen!$C$10-YEAR(L90),\"---\")","v":"---"},"0000-0000-f-19000100",1,73,"","",1,73,"","","0000","0000","f","19000100",1900,"01","00"]
["","",null,null,null,null,null,null,null,null,null,null,null,null,null,null,"",{"$f":"IF(YEAR(L91)>1900,Einstellungen!$C$10-YEAR(L91),\"---\")","v":"---"},"0000-0000-f-19000100",1,74,"","",1,74,"","","0000","0000","f","19000100",1900,"01","00"]
["","",null,null,null,null,null,null,null,null,null,null,null,null,null,null,"",{"$f":"IF(YEAR(L92)>1900,Einstellungen!$C$10-YEAR(L92),\"---\")","v":"---"},"0000-0000-f-19000100",1,75,"","",1,75,"","","0000","0000","f","19000100",1900,"01","00"]
["","",null,null,null,null,null,null,null,null,null,null,null,null,null,null,"",{"$f":"IF(YEAR(L93)>1900,Einstellungen!$C$10-YEAR(L93),\"---\")","v":"---"},"0000-0000-f-19000100",1,76,"","",1,76,"","","0000","0000","f","19000100",1900,"01","00"]
["","",null,null,null,null,null,null,null,null,null,null,null,null,null,null,"",{"$f":"IF(YEAR(L94)>1900,Einstellungen!$C$10-YEAR(L94),\"---\")","v":"---"},"0000-0000-f-19000100",1,77,"","",1,77,"","","0000","0000","f","19000100",1900,"01","00"]
["","",null,null,null,null,null,null,null,null,null,null,null,null,null,null,"",{"$f":"IF(YEAR(L95)>1900,Einstellungen!$C$10-YEAR(L95),\"---\")","v":"---"},"0000-0000-f-19000100",1,78,"","",1,78,"","","0000","0000","f","19000100",1900,"01","00"]
["","",null,null,null,null,null,null,null,null,null,null,null,null,null,null,"",{"$f":"IF(YEAR(L96)>1900,Einstellungen!$C$10-YEAR(L96),\"---\")","v":"---"},"0000-0000-f-19000100",1,79,"","",1,79,"","","0000","0000","f","19000100",1900,"01","00"]
["","",null,null,null,null,null,null,null,null,null,null,null,null,null,null,"",{"$f":"IF(YEAR(L97)>1900,Einstellungen!$C$10-YEAR(L97),\"---\")","v":"---"},"0000-0000-f-19000100",1,80,"","",1,80,"","","0000","0000","f","19000100",1900,"01","00"]
["","",null,null,null,null,null,null,null,null,null,null,null,null,null,null,"",{"$f":"IF(YEAR(L98)>1900,Einstellungen!$C$10-YEAR(L98),\"---\")","v":"---"},"0000-0000-f-19000100",1,81,"","",1,81,"","","0000","0000","f","19000100",1900,"01","00"]
["","",null,null,null,null,null,null,null,null,null,null,null,null,null,null,"",{"$f":"IF(YEAR(L99)>1900,Einstellungen!$C$10-YEAR(L99),\"---\")","v":"---"},"0000-0000-f-19000100",1,82,"","",1,82,"","","0000","0000","f","19000100",1900,"01","00"]
["","",null,null,null,null,null,null,null,null,null,null,null,null,null,null,"",{"$f":"IF(YEAR(L100)>1900,Einstellungen!$C$10-YEAR(L100),\"---\")","v":"---"},"0000-0000-f-19000100",1,83,"","",1,83,"","","0000","0000","f","19000100",1900,"01","00"]
["","",null,null,null,null,null,null,null,null,null,null,null,null,null,null,"",{"$f":"IF(YEAR(L101)>1900,Einstellungen!$C$10-YEAR(L101),\"---\")","v":"---"},"0000-0000-f-19000100",1,84,"","",1,84,"","","0000","0000","f","19000100",1900,"01","00"]
["","",null,null,null,null,null,null,null,null,null,null,null,null,null,null,"",{"$f":"IF(YEAR(L102)>1900,Einstellungen!$C$10-YEAR(L102),\"---\")","v":"---"},"0000-0000-f-19000100",1,85,"","",1,85,"","","0000","0000","f","19000100",1900,"01","00"]
["","",null,null,null,null,null,null,null,null,null,null,null,null,null,null,"",{"$f":"IF(YEAR(L103)>1900,Einstellungen!$C$10-YEAR(L103),\"---\")","v":"---"},"0000-0000-f-19000100",1,86,"","",1,86,"","","0000","0000","f","19000100",1900,"01","00"]
["","",null,null,null,null,null,null,null,null,null,null,null,null,null,null,"",{"$f":"IF(YEAR(L104)>1900,Einstellungen!$C$10-YEAR(L104),\"---\")","v":"---"},"0000-0000-f-19000100",1,87,"","",1,87,"","","0000","0000","f","19000100",1900,"01","00"]
["","",null,null,null,null,null,null,null,null,null,null,null,null,null,null,"",{"$f":"IF(YEAR(L105)>1900,Einstellungen!$C$10-YEAR(L105),\"---\")","v":"---"},"0000-0000-f-19000100",1,88,"","",1,88,"","","0000","0000","f","19000100",1900,"01","00"]
["","",null,null,null,null,null,null,null,null,null,null,null,null,null,null,"",{"$f":"IF(YEAR(L106)>1900,Einstellungen!$C$10-YEAR(L106),\"---\")","v":"---"},"0000-0000-f-19000100",1,89,"","",1,89,"","","0000","0000","f","19000100",1900,"01","00"]
["","",null,null,null,null,null,null,null,null,null,null,null,null,null,null,"",{"$f":"IF(YEAR(L107)>1900,Einstellungen!$C$10-YEAR(L107),\"---\")","v":"---"},"0000-0000-f-19000100",1,90,"","",1,90,"","","0000","0000","f","19000100",1900,"01","00"]
["","",null,null,null,null,null,null,null,null,null,null,null,null,null,null,"",{"$f":"IF(YEAR(L108)>1900,Einstellungen!$C$10-YEAR(L108),\"---\")","v":"---"},"0000-0000-f-19000100",1,91,"","",1,91,"","","0000","0000","f","19000100",1900,"01","00"]
["","",null,null,null,null,null,null,null,null,null,null,null,null,null,null,"",{"$f":"IF(YEAR(L109)>1900,Einstellungen!$C$10-YEAR(L109),\"---\")","v":"---"},"0000-0000-f-19000100",1,92,"","",1,92,"","","0000","0000","f","19000100",1900,"01","00"]
["","",null,null,null,null,null,null,null,null,null,null,null,null,null,null,"",{"$f":"IF(YEAR(L110)>1900,Einstellungen!$C$10-YEAR(L110),\"---\")","v":"---"},"0000-0000-f-19000100",1,93,"","",1,93,"","","0000","0000","f","19000100",1900,"01","00"]
["","",null,null,null,null,null,null,null,null,null,null,null,null,null,null,"",{"$f":"IF(YEAR(L111)>1900,Einstellungen!$C$10-YEAR(L111),\"---\")","v":"---"},"0000-0000-f-19000100",1,94,"","",1,94,"","","0000","0000","f","19000100",1900,"01","00"]
["","",null,null,null,null,null,null,null,null,null,null,null,null,null,null,"",{"$f":"IF(YEAR(L112)>1900,Einstellungen!$C$10-YEAR(L112),\"---\")","v":"---"},"0000-0000-f-19000100",1,95,"","",1,95,"","","0000","0000","f","19000100",1900,"01","00"]
["","",null,null,null,null,null,null,null,null,null,null,null,null,null,null,"",{"$f":"IF(YEAR(L113)>1900,Einstellungen!$C$10-YEAR(L113),\"---\")","v":"---"},"0000-0000-f-19000100",1,96,"","",1,96,"","","0000","0000","f","19000100",1900,"01","00"]
["","",null,null,null,null,null,null,null,null,null,null,null,null,null,null,"",{"$f":"IF(YEAR(L114)>1900,Einstellungen!$C$10-YEAR(L114),\"---\")","v":"---"},"0000-0000-f-19000100",1,97,"","",1,97,"","","0000","0000","f","19000100",1900,"01","00"]
["","",null,null,null,null,null,null,null,null,null,null,null,null,null,null,"",{"$f":"IF(YEAR(L115)>1900,Einstellungen!$C$10-YEAR(L115),\"---\")","v":"---"},"0000-0000-f-19000100",1,98,"","",1,98,"","","0000","0000","f","19000100",1900,"01","00"]
["","",null,null,null,null,null,null,null,null,null,null,null,null,null,null,"",{"$f":"IF(YEAR(L116)>1900,Einstellungen!$C$10-YEAR(L116),\"---\")","v":"---"},"0000-0000-f-19000100",1,99,"","",1,99,"","","0000","0000","f","19000100",1900,"01","00"]
["","",null,null,null,null,null,null,null,null,null,null,null,null,null,null,"",{"$f":"IF(YEAR(L117)>1900,Einstellungen!$C$10-YEAR(L117),\"---\")","v":"---"},"0000-0000-f-19000100",1,100,"","",1,100,"","","0000","0000","f","19000100",1900,"01","00"]
["","",null,null,null,null,null,null,null,null,null,null,null,null,null,null,"",{"$f":"IF(YEAR(L118)>1900,Einstellungen!$C$10-YEAR(L118),\"---\")","v":"---"},"0000-0000-f-19000100",1,101,"","",1,101,"","","0000","0000","f","19000100",1900,"01","00"]
["","",null,null,null,null,null,null,null,null,null,null,null,null,null,null,"",{"$f":"IF(YEAR(L119)>1900,Einstellungen!$C$10-YEAR(L119),\"---\")","v":"---"},"0000-0000-f-19000100",1,102,"","",1,102,"","","0000","0000","f","19000100",1900,"01","00"]
["","",null,null,null,null,null,null,null,null,null,null,null,null,null,null,"",{"$f":"IF(YEAR(L120)>1900,Einstellungen!$C$10-YEAR(L120),\"---\")","v":"---"},"0000-0000-f-19000100",1,103,"","",1,103,"","","0000","0000","f","19000100",1900,"01","00"]
["","",null,null,null,null,null,null,null,null,null,null,null,null,null,null,"",{"$f":"IF(YEAR(L121)>1900,Einstellungen!$C$10-YEAR(L121),\"---\")","v":"---"},"0000-0000-f-19000100",1,104,"","",1,104,"","","0000","0000","f","19000100",1900,"01","00"]
["","",null,null,null,null,null,null,null,null,null,null,null,null,null,null,"",{"$f":"IF(YEAR(L122)>1900,Einstellungen!$C$10-YEAR(L122),\"---\")","v":"---"},"0000-0000-f-19000100",1,105,"","",1,105,"","","0000","0000","f","19000100",1900,"01","00"]
["","",null,null,null,null,null,null,null,null,null,null,null,null,null,null,"",{"$f":"IF(YEAR(L123)>1900,Einstellungen!$C$10-YEAR(L123),\"---\")","v":"---"},"0000-0000-f-19000100",1,106,"","",1,106,"","","0000","0000","f","19000100",1900,"01","00"]
["","",null,null,null,null,null,null,null,null,null,null,null,null,null,null,"",{"$f":"IF(YEAR(L124)>1900,Einstellungen!$C$10-YEAR(L124),\"---\")","v":"---"},"0000-0000-f-19000100",1,107,"","",1,107,"","","0000","0000","f","19000100",1900,"01","00"]
["","",null,null,null,null,null,null,null,null,null,null,null,null,null,null,"",{"$f":"IF(YEAR(L125)>1900,Einstellungen!$C$10-YEAR(L125),\"---\")","v":"---"},"0000-0000-f-19000100",1,108,"","",1,108,"","","0000","0000","f","19000100",1900,"01","00"]
["","",null,null,null,null,null,null,null,null,null,null,null,null,null,null,"",{"$f":"IF(YEAR(L126)>1900,Einstellungen!$C$10-YEAR(L126),\"---\")","v":"---"},"0000-0000-f-19000100",1,109,"","",1,109,"","","0000","0000","f","19000100",1900,"01","00"]
["","",null,null,null,null,null,null,null,null,null,null,null,null,null,null,"",{"$f":"IF(YEAR(L127)>1900,Einstellungen!$C$10-YEAR(L127),\"---\")","v":"---"},"0000-0000-f-19000100",1,110,"","",1,110,"","","0000","0000","f","19000100",1900,"01","00"]
["","",null,null,null,null,null,null,null,null,null,null,null,null,null,null,"",{"$f":"IF(YEAR(L128)>1900,Einstellungen!$C$10-YEAR(L128),\"---\")","v":"---"},"0000-0000-f-19000100",1,111,"","",1,111,"","","0000","0000","f","19000100",1900,"01","00"]
["","",null,null,null,null,null,null,null,null,null,null,null,null,null,null,"",{"$f":"IF(YEAR(L129)>1900,Einstellungen!$C$10-YEAR(L129),\"---\")","v":"---"},"0000-0000-f-19000100",1,112,"","",1,112,"","","0000","0000","f","19000100",1900,"01","00"]
["","",null,null,null,null,null,null,null,null,null,null,null,null,null,null,"",{"$f":"IF(YEAR(L130)>1900,Einstellungen!$C$10-YEAR(L130),\"---\")","v":"---"},"0000-0000-f-19000100",1,113,"","",1,113,"","","0000","0000","f","19000100",1900,"01","00"]
["","",null,null,null,null,null,null,null,null,null,null,null,null,null,null,"",{"$f":"IF(YEAR(L131)>1900,Einstellungen!$C$10-YEAR(L131),\"---\")","v":"---"},"0000-0000-f-19000100",1,114,"","",1,114,"","","0000","0000","f","19000100",1900,"01","00"]
["","",null,null,null,null,null,null,null,null,null,null,null,null,null,null,"",{"$f":"IF(YEAR(L132)>1900,Einstellungen!$C$10-YEAR(L132),\"---\")","v":"---"},"0000-0000-f-19000100",1,115,"","",1,115,"","","0000","0000","f","19000100",1900,"01","00"]
["","",null,null,null,null,null,null,null,null,null,null,null,null,null,null,"",{"$f":"IF(YEAR(L133)>1900,Einstellungen!$C$10-YEAR(L133),\"---\")","v":"---"},"0000-0000-f-19000100",1,116,"","",1,116,"","","0000","0000","f","19000100",1900,"01","00"]
["","",null,null,null,null,null,null,null,null,null,null,null,null,null,null,"",{"$f":"IF(YEAR(L134)>1900,Einstellungen!$C$10-YEAR(L134),\"---\")","v":"---"},"0000-0000-f-19000100",1,117,"","",1,117,"","","0000","0000","f","19000100",1900,"01","00"]
["","",null,null,null,null,null,null,null,null,null,null,null,null,null,null,"",{"$f":"IF(YEAR(L135)>1900,Einstellungen!$C$10-YEAR(L135),\"---\")","v":"---"},"0000-0000-f-19000100",1,118,"","",1,118,"","","0000","0000","f","19000100",1900,"01","00"]
["","",null,null,null,null,null,null,null,null,null,null,null,null,null,null,"",{"$f":"IF(YEAR(L136)>1900,Einstellungen!$C$10-YEAR(L136),\"---\")","v":"---"},"0000-0000-f-19000100",1,119,"","",1,119,"","","0000","0000","f","19000100",1900,"01","00"]
["","",null,null,null,null,null,null,null,null,null,null,null,null,null,null,"",{"$f":"IF(YEAR(L137)>1900,Einstellungen!$C$10-YEAR(L137),\"---\")","v":"---"},"0000-0000-f-19000100",1,120,"","",1,120,"","","0000","0000","f","19000100",1900,"01","00"]
["","",null,null,null,null,null,null,null,null,null,null,null,null,null,null,"",{"$f":"IF(YEAR(L138)>1900,Einstellungen!$C$10-YEAR(L138),\"---\")","v":"---"},"0000-0000-f-19000100",1,121,"","",1,121,"","","0000","0000","f","19000100",1900,"01","00"]
["","",null,null,null,null,null,null,null,null,null,null,null,null,null,null,"",{"$f":"IF(YEAR(L139)>1900,Einstellungen!$C$10-YEAR(L139),\"---\")","v":"---"},"0000-0000-f-19000100",1,122,"","",1,122,"","","0000","0000","f","19000100",1900,"01","00"]
["","",null,null,null,null,null,null,null,null,null,null,null,null,null,null,"",{"$f":"IF(YEAR(L140)>1900,Einstellungen!$C$10-YEAR(L140),\"---\")","v":"---"},"0000-0000-f-19000100",1,123,"","",1,123,"","","0000","0000","f","19000100",1900,"01","00"]
["","",null,null,null,null,null,null,null,null,null,null,null,null,null,null,"",{"$f":"IF(YEAR(L141)>1900,Einstellungen!$C$10-YEAR(L141),\"---\")","v":"---"},"0000-0000-f-19000100",1,124,"","",1,124,"","","0000","0000","f","19000100",1900,"01","00"]
["","",null,null,null,null,null,null,null,null,null,null,null,null,null,null,"",{"$f":"IF(YEAR(L142)>1900,Einstellungen!$C$10-YEAR(L142),\"---\")","v":"---"},"0000-0000-f-19000100",1,125,"","",1,125,"","","0000","0000","f","19000100",1900,"01","00"]
["","",null,null,null,null,null,null,null,null,null,null,null,null,null,null,"",{"$f":"IF(YEAR(L143)>1900,Einstellungen!$C$10-YEAR(L143),\"---\")","v":"---"},"0000-0000-f-19000100",1,126,"","",1,126,"","","0000","0000","f","19000100",1900,"01","00"]
["","",null,null,null,null,null,null,null,null,null,null,null,null,null,null,"",{"$f":"IF(YEAR(L144)>1900,Einstellungen!$C$10-YEAR(L144),\"---\")","v":"---"},"0000-0000-f-19000100",1,127,"","",1,127,"","","0000","0000","f","19000100",1900,"01","00"]
["","",null,null,null,null,null,null,null,null,null,null,null,null,null,null,"",{"$f":"IF(YEAR(L145)>1900,Einstellungen!$C$10-YEAR(L145),\"---\")","v":"---"},"0000-0000-f-19000100",1,128,"","",1,128,"","","0000","0000","f","19000100",1900,"01","00"]
["","",null,null,null,null,null,null,null,null,null,null,null,null,null,null,{"$f":"IF(LEN(D146)>0,IF(P146=\"x\",\"\",\"x\"),\"\")","v":""},{"$f":"IF(YEAR(L146)>1900,Einstellungen!$C$10-YEAR(L146),\"---\")","v":"---"},"0000-0000-f-19000100",1,129,"","",1,129,"","","0000","0000","f","19000100",1900,"01","00"]
["","",null,null,null,null,null,null,null,null,null,null,null,null,null,null,"",{"$f":"IF(YEAR(L147)>1900,Einstellungen!$C$10-YEAR(L147),\"---\")","v":"---"},{"$f":"AB147 & \"-\" & AC147 & \"-\" & AD147 & \"-\" & AE147","v":"0000-0000-f-19000100"},{"$f":"IF(R147<=$AE$12,1,0)","v":1},{"$f":"IF(T147=1,U146+1,U146)","v":130},{"$f":"IF((M147+N147)>0,IF(T147=1,U147,\"-\"),\"\")","v":""},{"$f":"Z147 & AA147","v":""},{"$f":"IF(LEN(C147)>0, 0, T147)","v":1},{"$f":"Y146+X147","v":130},{"$f":"IF(X147=1,IF(Y147<=$Z$12,\"Q\",\"\"),\"\")","v":""},{"$f":"IF(X147=1, IF(Y147>$Z$12, IF(Y147<=($Z$12+$AA$12),\"R\",\"\"),\"\"), \"\")","v":""},{"$f":"IF(M147<1,\"0000\", IF(M147<10,\"000\"&M147, IF(M147<100,\"00\"&M147, IF(M147<1000,\"0\"&M147,\"\"& M147))))","v":"0000"},"0000",{"$f":"IF(O147=\"a\",\"a\",\"f\")","v":"f"},{"$f":"AF147&AG147&AH147","v":"19000100"},{"$f":"YEAR(L147)","v":1900},{"$f":"IF(MONTH(L147)<10,\"0\"&MONTH(L147),MONTH(L147))","v":"01"},{"$f":"IF(DAY(L147)<10,\"0\"&DAY(L147),DAY(L147))","v":"00"}]
["","",null,null,null,null,null,null,null,null,null,null,null,null,null,null,"",{"$f":"IF(YEAR(L148)>1900,Einstellungen!$C$10-YEAR(L148),\"---\")","v":"---"},"0000-0000-f-19000100",1,131,"","",1,131,"","","0000","0000","f","19000100",1900,"01","00"]
["","",null,null,null,null,null,null,null,null,null,null,null,null,null,null,"",{"$f":"IF(YEAR(L149)>1900,Einstellungen!$C$10-YEAR(L149),\"---\")","v":"---"},"0000-0000-f-19000100",1,132,"","",1,132,"","","0000","0000","f","19000100",1900,"01","00"]
["","",null,null,null,null,null,null,null,null,null,null,null,null,null,null,"",{"$f":"IF(YEAR(L150)>1900,Einstellungen!$C$10-YEAR(L150),\"---\")","v":"---"},"0000-0000-f-19000100",1,133,"","",1,133,"","","0000","0000","f","19000100",1900,"01","00"]
["","",null,null,null,null,null,null,null,null,null,null,null,null,null,null,"",{"$f":"IF(YEAR(L151)>1900,Einstellungen!$C$10-YEAR(L151),\"---\")","v":"---"},"0000-0000-f-19000100",1,134,"","",1,134,"","","0000","0000","f","19000100",1900,"01","00"]
["","",null,null,null,null,null,null,null,null,null,null,null,null,null,null,"",{"$f":"IF(YEAR(L152)>1900,Einstellungen!$C$10-YEAR(L152),\"---\")","v":"---"},"0000-0000-f-19000100",1,135,"","",1,135,"","","0000","0000","f","19000100",1900,"01","00"]
["","",null,null,null,null,null,null,null,null,null,null,null,null,null,null,"",{"$f":"IF(YEAR(L153)>1900,Einstellungen!$C$10-YEAR(L153),\"---\")","v":"---"},"0000-0000-f-19000100",1,136,"","",1,136,"","","0000","0000","f","19000100",1900,"01","00"]
["","",null,null,null,null,null,null,null,null,null,null,null,null,null,null,"",{"$f":"IF(YEAR(L154)>1900,Einstellungen!$C$10-YEAR(L154),\"---\")","v":"---"},"0000-0000-f-19000100",1,137,"","",1,137,"","","0000","0000","f","19000100",1900,"01","00"]
["","",null,null,null,null,null,null,null,null,null,null,null,null,null,null,"",{"$f":"IF(YEAR(L155)>1900,Einstellungen!$C$10-YEAR(L155),\"---\")","v":"---"},"0000-0000-f-19000100",1,138,"","",1,138,"","","0000","0000","f","19000100",1900,"01","00"]
["","",null,null,null,null,null,null,null,null,null,null,null,null,null,null,"",{"$f":"IF(YEAR(L156)>1900,Einstellungen!$C$10-YEAR(L156),\"---\")","v":"---"},"0000-0000-f-19000100",1,139,"","",1,139,"","","0000","0000","f","19000100",1900,"01","00"]
["","",null,null,null,null,null,null,null,null,null,null,null,null,null,null,"",{"$f":"IF(YEAR(L157)>1900,Einstellungen!$C$10-YEAR(L157),\"---\")","v":"---"},"0000-0000-f-19000100",1,140,"","",1,140,"","","0000","0000","f","19000100",1900,"01","00"]
["","",null,null,null,null,null,null,null,null,null,null,null,null,null,null,"",{"$f":"IF(YEAR(L158)>1900,Einstellungen!$C$10-YEAR(L158),\"---\")","v":"---"},"0000-0000-f-19000100",1,141,"","",1,141,"","","0000","0000","f","19000100",1900,"01","00"]
["","",null,null,null,null,null,null,null,null,null,null,null,null,null,null,"",{"$f":"IF(YEAR(L159)>1900,Einstellungen!$C$10-YEAR(L159),\"---\")","v":"---"},"0000-0000-f-19000100",1,142,"","",1,142,"","","0000","0000","f","19000100",1900,"01","00"]
["","",null,null,null,null,null,null,null,null,null,null,null,null,null,null,"",{"$f":"IF(YEAR(L160)>1900,Einstellungen!$C$10-YEAR(L160),\"---\")","v":"---"},"0000-0000-f-19000100",1,143,"","",1,143,"","","0000","0000","f","19000100",1900,"01","00"]
["","",null,null,null,null,null,null,null,null,null,null,null,null,null,null,"",{"$f":"IF(YEAR(L161)>1900,Einstellungen!$C$10-YEAR(L161),\"---\")","v":"---"},"0000-0000-f-19000100",1,144,"","",1,144,"","","0000","0000","f","19000100",1900,"01","00"]
["","",null,null,null,null,null,null,null,null,null,null,null,null,null,null,"",{"$f":"IF(YEAR(L162)>1900,Einstellungen!$C$10-YEAR(L162),\"---\")","v":"---"},"0000-0000-f-19000100",1,145,"","",1,145,"","","0000","0000","f","19000100",1900,"01","00"]
["","",null,null,null,null,null,null,null,null,null,null,null,null,null,null,"",{"$f":"IF(YEAR(L163)>1900,Einstellungen!$C$10-YEAR(L163),\"---\")","v":"---"},"0000-0000-f-19000100",1,146,"","",1,146,"","","0000","0000","f","19000100",1900,"01","00"]
["","",null,null,null,null,null,null,null,null,null,null,null,null,null,null,"",{"$f":"IF(YEAR(L164)>1900,Einstellungen!$C$10-YEAR(L164),\"---\")","v":"---"},"0000-0000-f-19000100",1,147,"","",1,147,"","","0000","0000","f","19000100",1900,"01","00"]
["","",null,null,null,null,null,null,null,null,null,null,null,null,null,null,"",{"$f":"IF(YEAR(L165)>1900,Einstellungen!$C$10-YEAR(L165),\"---\")","v":"---"},"0000-0000-f-19000100",1,148,"","",1,148,"","","0000","0000","f","19000100",1900,"01","00"]
["","",null,null,null,null,null,null,null,null,null,null,null,null,null,null,"",{"$f":"IF(YEAR(L166)>1900,Einstellungen!$C$10-YEAR(L166),\"---\")","v":"---"},"0000-0000-f-19000100",1,149,"","",1,149,"","","0000","0000","f","19000100",1900,"01","00"]
["","",null,null,null,null,null,null,null,null,null,null,null,null,null,null,"",{"$f":"IF(YEAR(L167)>1900,Einstellungen!$C$10-YEAR(L167),\"---\")","v":"---"},"0000-0000-f-19000100",1,150,"","",1,150,"","","0000","0000","f","19000100",1900,"01","00"]
["","",null,null,null,null,null,null,null,null,null,null,null,null,null,null,"",{"$f":"IF(YEAR(L168)>1900,Einstellungen!$C$10-YEAR(L168),\"---\")","v":"---"},"0000-0000-f-19000100",1,151,"","",1,151,"","","0000","0000","f","19000100",1900,"01","00"]
["","",null,null,null,null,null,null,null,null,null,null,null,null,null,null,"",{"$f":"IF(YEAR(L169)>1900,Einstellungen!$C$10-YEAR(L169),\"---\")","v":"---"},"0000-0000-f-19000100",1,152,"","",1,152,"","","0000","0000","f","19000100",1900,"01","00"]
["","",null,null,null,null,null,null,null,null,null,null,null,null,null,null,"",{"$f":"IF(YEAR(L170)>1900,Einstellungen!$C$10-YEAR(L170),\"---\")","v":"---"},"0000-0000-f-19000100",1,153,"","",1,153,"","","0000","0000","f","19000100",1900,"01","00"]
["","",null,null,null,null,null,null,null,null,null,null,null,null,null,null,"",{"$f":"IF(YEAR(L171)>1900,Einstellungen!$C$10-YEAR(L171),\"---\")","v":"---"},"0000-0000-f-19000100",1,154,"","",1,154,"","","0000","0000","f","19000100",1900,"01","00"]
["","",null,null,null,null,null,null,null,null,null,null,null,null,null,null,"",{"$f":"IF(YEAR(L172)>1900,Einstellungen!$C$10-YEAR(L172),\"---\")","v":"---"},"0000-0000-f-19000100",1,155,"","",1,155,"","","0000","0000","f","19000100",1900,"01","00"]
["","",null,null,null,null,null,null,null,null,null,null,null,null,null,null,"",{"$f":"IF(YEAR(L173)>1900,Einstellungen!$C$10-YEAR(L173),\"---\")","v":"---"},"0000-0000-f-19000100",1,156,"","",1,156,"","","0000","0000","f","19000100",1900,"01","00"]
["","",null,null,null,null,null,null,null,null,null,null,null,null,null,null,"",{"$f":"IF(YEAR(L174)>1900,Einstellungen!$C$10-YEAR(L174),\"---\")","v":"---"},"0000-0000-f-19000100",1,157,"","",1,157,"","","0000","0000","f","19000100",1900,"01","00"]
["","",null,null,null,null,null,null,null,null,null,null,null,null,null,null,"",{"$f":"IF(YEAR(L175)>1900,Einstellungen!$C$10-YEAR(L175),\"---\")","v":"---"},"0000-0000-f-19000100",1,158,"","",1,158,"","","0000","0000","f","19000100",1900,"01","00"]
["","",null,null,null,null,null,null,null,null,null,null,null,null,null,null,"",{"$f":"IF(YEAR(L176)>1900,Einstellungen!$C$10-YEAR(L176),\"---\")","v":"---"},"0000-0000-f-19000100",1,159,"","",1,159,"","","0000","0000","f","19000100",1900,"01","00"]
["","",null,null,null,null,null,null,null,null,null,null,null,null,null,null,"",{"$f":"IF(YEAR(L177)>1900,Einstellungen!$C$10-YEAR(L177),\"---\")","v":"---"},"0000-0000-f-19000100",1,160,"","",1,160,"","","0000","0000","f","19000100",1900,"01","00"]
["","",null,null,null,null,null,null,null,null,null,null,null,null,null,null,"",{"$f":"IF(YEAR(L178)>1900,Einstellungen!$C$10-YEAR(L178),\"---\")","v":"---"},"0000-0000-f-19000100",1,161,"","",1,161,"","","0000","0000","f","19000100",1900,"01","00"]
["","",null,null,null,null,null,null,null,null,null,null,null,null,null,null,"",{"$f":"IF(YEAR(L179)>1900,Einstellungen!$C$10-YEAR(L179),\"---\")","v":"---"},"0000-0000-f-19000100",1,162,"","",1,162,"","","0000","0000","f","19000100",1900,"01","00"]
["","",null,null,null,null,null,null,null,null,null,null,null,null,null,null,"",{"$f":"IF(YEAR(L180)>1900,Einstellungen!$C$10-YEAR(L180),\"---\")","v":"---"},"0000-0000-f-19000100",1,163,"","",1,163,"","","0000","0000","f","19000100",1900,"01","00"]
["","",null,null,null,null,null,null,null,null,null,null,null,null,null,null,"",{"$f":"IF(YEAR(L181)>1900,Einstellungen!$C$10-YEAR(L181),\"---\")","v":"---"},"0000-0000-f-19000100",1,164,"","",1,164,"","","0000","0000","f","19000100",1900,"01","00"]
["","",null,null,null,null,null,null,null,null,null,null,null,null,null,null,"",{"$f":"IF(YEAR(L182)>1900,Einstellungen!$C$10-YEAR(L182),\"---\")","v":"---"},"0000-0000-f-19000100",1,165,"","",1,165,"","","0000","0000","f","19000100",1900,"01","00"]
["","",null,null,null,null,null,null,null,null,null,null,null,null,null,null,"",{"$f":"IF(YEAR(L183)>1900,Einstellungen!$C$10-YEAR(L183),\"---\")","v":"---"},"0000-0000-f-19000100",1,166,"","",1,166,"","","0000","0000","f","19000100",1900,"01","00"]
["","",null,null,null,null,null,null,null,null,null,null,null,null,null,null,"",{"$f":"IF(YEAR(L184)>1900,Einstellungen!$C$10-YEAR(L184),\"---\")","v":"---"},"0000-0000-f-19000100",1,167,"","",1,167,"","","0000","0000","f","19000100",1900,"01","00"]
["","",null,null,null,null,null,null,null,null,null,null,null,null,null,null,"",{"$f":"IF(YEAR(L185)>1900,Einstellungen!$C$10-YEAR(L185),\"---\")","v":"---"},"0000-0000-f-19000100",1,168,"","",1,168,"","","0000","0000","f","19000100",1900,"01","00"]
["","",null,null,null,null,null,null,null,null,null,null,null,null,null,null,"",{"$f":"IF(YEAR(L186)>1900,Einstellungen!$C$10-YEAR(L186),\"---\")","v":"---"},"0000-0000-f-19000100",1,169,"","",1,169,"","","0000","0000","f","19000100",1900,"01","00"]
["","",null,null,null,null,null,null,null,null,null,null,null,null,null,null,"",{"$f":"IF(YEAR(L187)>1900,Einstellungen!$C$10-YEAR(L187),\"---\")","v":"---"},"0000-0000-f-19000100",1,170,"","",1,170,"","","0000","0000","f","19000100",1900,"01","00"]
["","",null,null,null,null,null,null,null,null,null,null,null,null,null,null,"",{"$f":"IF(YEAR(L188)>1900,Einstellungen!$C$10-YEAR(L188),\"---\")","v":"---"},"0000-0000-f-19000100",1,171,"","",1,171,"","","0000","0000","f","19000100",1900,"01","00"]
["","",null,null,null,null,null,null,null,null,null,null,null,null,null,null,"",{"$f":"IF(YEAR(L189)>1900,Einstellungen!$C$10-YEAR(L189),\"---\")","v":"---"},"0000-0000-f-19000100",1,172,"","",1,172,"","","0000","0000","f","19000100",1900,"01","00"]
["","",null,null,null,null,null,null,null,null,null,null,null,null,null,null,"",{"$f":"IF(YEAR(L190)>1900,Einstellungen!$C$10-YEAR(L190),\"---\")","v":"---"},"0000-0000-f-19000100",1,173,"","",1,173,"","","0000","0000","f","19000100",1900,"01","00"]
["","",null,null,null,null,null,null,null,null,null,null,null,null,null,null,"",{"$f":"IF(YEAR(L191)>1900,Einstellungen!$C$10-YEAR(L191),\"---\")","v":"---"},"0000-0000-f-19000100",1,174,"","",1,174,"","","0000","0000","f","19000100",1900,"01","00"]
["","",null,null,null,null,null,null,null,null,null,null,null,null,null,null,"",{"$f":"IF(YEAR(L192)>1900,Einstellungen!$C$10-YEAR(L192),\"---\")","v":"---"},"0000-0000-f-19000100",1,175,"","",1,175,"","","0000","0000","f","19000100",1900,"01","00"]
["","",null,null,null,null,null,null,null,null,null,null,null,null,null,null,"",{"$f":"IF(YEAR(L193)>1900,Einstellungen!$C$10-YEAR(L193),\"---\")","v":"---"},"0000-0000-f-19000100",1,176,"","",1,176,"","","0000","0000","f","19000100",1900,"01","00"]
["","",null,null,null,null,null,null,null,null,null,null,null,null,null,null,"",{"$f":"IF(YEAR(L194)>1900,Einstellungen!$C$10-YEAR(L194),\"---\")","v":"---"},"0000-0000-f-19000100",1,177,"","",1,177,"","","0000","0000","f","19000100",1900,"01","00"]
["","",null,null,null,null,null,null,null,null,null,null,null,null,null,null,"",{"$f":"IF(YEAR(L195)>1900,Einstellungen!$C$10-YEAR(L195),\"---\")","v":"---"},"0000-0000-f-19000100",1,178,"","",1,178,"","","0000","0000","f","19000100",1900,"01","00"]
["","",null,null,null,null,null,null,null,null,null,null,null,null,null,null,"",{"$f":"IF(YEAR(L196)>1900,Einstellungen!$C$10-YEAR(L196),\"---\")","v":"---"},"0000-0000-f-19000100",1,179,"","",1,179,"","","0000","0000","f","19000100",1900,"01","00"]
["","",null,null,null,null,null,null,null,null,null,null,null,null,null,null,"",{"$f":"IF(YEAR(L197)>1900,Einstellungen!$C$10-YEAR(L197),\"---\")","v":"---"},"0000-0000-f-19000100",1,180,"","",1,180,"","","0000","0000","f","19000100",1900,"01","00"]
["","",null,null,null,null,null,null,null,null,null,null,null,null,null,null,"",{"$f":"IF(YEAR(L198)>1900,Einstellungen!$C$10-YEAR(L198),\"---\")","v":"---"},"0000-0000-f-19000100",1,181,"","",1,181,"","","0000","0000","f","19000100",1900,"01","00"]
["","",null,null,null,null,null,null,null,null,null,null,null,null,null,null,"",{"$f":"IF(YEAR(L199)>1900,Einstellungen!$C$10-YEAR(L199),\"---\")","v":"---"},"0000-0000-f-19000100",1,182,"","",1,182,"","","0000","0000","f","19000100",1900,"01","00"]
["","",null,null,null,null,null,null,null,null,null,null,null,null,null,null,"",{"$f":"IF(YEAR(L200)>1900,Einstellungen!$C$10-YEAR(L200),\"---\")","v":"---"},"0000-0000-f-19000100",1,183,"","",1,183,"","","0000","0000","f","19000100",1900,"01","00"]
["","",null,null,null,null,null,null,null,null,null,null,null,null,null,null,"",{"$f":"IF(YEAR(L201)>1900,Einstellungen!$C$10-YEAR(L201),\"---\")","v":"---"},"0000-0000-f-19000100",1,184,"","",1,184,"","","0000","0000","f","19000100",1900,"01","00"]
["","",null,null,null,null,null,null,null,null,null,null,null,null,null,null,"",{"$f":"IF(YEAR(L202)>1900,Einstellungen!$C$10-YEAR(L202),\"---\")","v":"---"},"0000-0000-f-19000100",1,185,"","",1,185,"","","0000","0000","f","19000100",1900,"01","00"]
["","",null,null,null,null,null,null,null,null,null,null,null,null,null,null,"",{"$f":"IF(YEAR(L203)>1900,Einstellungen!$C$10-YEAR(L203),\"---\")","v":"---"},"0000-0000-f-19000100",1,186,"","",1,186,"","","0000","0000","f","19000100",1900,"01","00"]
["","",null,null,null,null,null,null,null,null,null,null,null,null,null,null,"",{"$f":"IF(YEAR(L204)>1900,Einstellungen!$C$10-YEAR(L204),\"---\")","v":"---"},"0000-0000-f-19000100",1,187,"","",1,187,"","","0000","0000","f","19000100",1900,"01","00"]
["","",null,null,null,null,null,null,null,null,null,null,null,null,null,null,"",{"$f":"IF(YEAR(L205)>1900,Einstellungen!$C$10-YEAR(L205),\"---\")","v":"---"},"0000-0000-f-19000100",1,188,"","",1,188,"","","0000","0000","f","19000100",1900,"01","00"]
["","",null,null,null,null,null,null,null,null,null,null,null,null,null,null,"",{"$f":"IF(YEAR(L206)>1900,Einstellungen!$C$10-YEAR(L206),\"---\")","v":"---"},"0000-0000-f-19000100",1,189,"","",1,189,"","","0000","0000","f","19000100",1900,"01","00"]
["","",null,null,null,null,null,null,null,null,null,null,null,null,null,null,"",{"$f":"IF(YEAR(L207)>1900,Einstellungen!$C$10-YEAR(L207),\"---\")","v":"---"},"0000-0000-f-19000100",1,190,"","",1,190,"","","0000","0000","f","19000100",1900,"01","00"]
["","",null,null,null,null,null,null,null,null,null,null,null,null,null,null,"",{"$f":"IF(YEAR(L208)>1900,Einstellungen!$C$10-YEAR(L208),\"---\")","v":"---"},"0000-0000-f-19000100",1,191,"","",1,191,"","","0000","0000","f","19000100",1900,"01","00"]
["","",null,null,null,null,null,null,null,null,null,null,null,null,null,null,"",{"$f":"IF(YEAR(L209)>1900,Einstellungen!$C$10-YEAR(L209),\"---\")","v":"---"},"0000-0000-f-19000100",1,192,"","",1,192,"","","0000","0000","f","19000100",1900,"01","00"]
["","",null,null,null,null,null,null,null,null,null,null,null,null,null,null,{"$f":"IF(LEN(D210)>0,IF(P210=\"x\",\"\",\"x\"),\"\")","v":""},{"$f":"IF(YEAR(L210)>1900,Einstellungen!$C$10-YEAR(L210),\"---\")","v":"---"},"0000-0000-f-19000100",1,193,"","",1,193,"","","0000","0000","f","19000100",1900,"01","00"]
["","",null,null,null,null,null,null,null,null,null,null,null,null,null,null,"",{"$f":"IF(YEAR(L211)>1900,Einstellungen!$C$10-YEAR(L211),\"---\")","v":"---"},{"$f":"AB211 & \"-\" & AC211 & \"-\" & AD211 & \"-\" & AE211","v":"0000-0000-f-19000100"},{"$f":"IF(R211<=$AE$12,1,0)","v":1},{"$f":"IF(T211=1,U210+1,U210)","v":194},{"$f":"IF((M211+N211)>0,IF(T211=1,U211,\"-\"),\"\")","v":""},{"$f":"Z211 & AA211","v":""},{"$f":"IF(LEN(C211)>0, 0, T211)","v":1},{"$f":"Y210+X211","v":194},{"$f":"IF(X211=1,IF(Y211<=$Z$12,\"Q\",\"\"),\"\")","v":""},{"$f":"IF(X211=1, IF(Y211>$Z$12, IF(Y211<=($Z$12+$AA$12),\"R\",\"\"),\"\"), \"\")","v":""},{"$f":"IF(M211<1,\"0000\", IF(M211<10,\"000\"&M211, IF(M211<100,\"00\"&M211, IF(M211<1000,\"0\"&M211,\"\"& M211))))","v":"0000"},"0000",{"$f":"IF(O211=\"a\",\"a\",\"f\")","v":"f"},{"$f":"AF211&AG211&AH211","v":"19000100"},{"$f":"YEAR(L211)","v":1900},{"$f":"IF(MONTH(L211)<10,\"0\"&MONTH(L211),MONTH(L211))","v":"01"},{"$f":"IF(DAY(L211)<10,\"0\"&DAY(L211),DAY(L211))","v":"00"}]
["","",null,null,null,null,null,null,null,null,null,null,null,null,null,null,"",{"$f":"IF(YEAR(L212)>1900,Einstellungen!$C$10-YEAR(L212),\"---\")","v":"---"},"0000-0000-f-19000100",1,195,"","",1,195,"","","0000","0000","f","19000100",1900,"01","00"]
["","",null,null,null,null,null,null,null,null,null,null,null,null,null,null,"",{"$f":"IF(YEAR(L213)>1900,Einstellungen!$C$10-YEAR(L213),\"---\")","v":"---"},"0000-0000-f-19000100",1,196,"","",1,196,"","","0000","0000","f","19000100",1900,"01","00"]
["","",null,null,null,null,null,null,null,null,null,null,null,null,null,null,"",{"$f":"IF(YEAR(L214)>1900,Einstellungen!$C$10-YEAR(L214),\"---\")","v":"---"},"0000-0000-f-19000100",1,197,"","",1,197,"","","0000","0000","f","19000100",1900,"01","00"]
["","",null,null,null,null,null,null,null,null,null,null,null,null,null,null,"",{"$f":"IF(YEAR(L215)>1900,Einstellungen!$C$10-YEAR(L215),\"---\")","v":"---"},"0000-0000-f-19000100",1,198,"","",1,198,"","","0000","0000","f","19000100",1900,"01","00"]
["","",null,null,null,null,null,null,null,null,null,null,null,null,null,null,"",{"$f":"IF(YEAR(L216)>1900,Einstellungen!$C$10-YEAR(L216),\"---\")","v":"---"},"0000-0000-f-19000100",1,199,"","",1,199,"","","0000","0000","f","19000100",1900,"01","00"]
["","",null,null,null,null,null,null,null,null,null,null,null,null,null,null,"",{"$f":"IF(YEAR(L217)>1900,Einstellungen!$C$10-YEAR(L217),\"---\")","v":"---"},"0000-0000-f-19000100",1,200,"","",1,200,"","","0000","0000","f","19000100",1900,"01","00"]
["","",null,null,null,null,null,null,null,null,null,null,null,null,null,null,"",{"$f":"IF(YEAR(L218)>1900,Einstellungen!$C$10-YEAR(L218),\"---\")","v":"---"},"0000-0000-f-19000100",1,201,"","",1,201,"","","0000","0000","f","19000100",1900,"01","00"]
["","",null,null,null,null,null,null,null,null,null,null,null,null,null,null,"",{"$f":"IF(YEAR(L219)>1900,Einstellungen!$C$10-YEAR(L219),\"---\")","v":"---"},"0000-0000-f-19000100",1,202,"","",1,202,"","","0000","0000","f","19000100",1900,"01","00"]
["","",null,null,null,null,null,null,null,null,null,null,null,null,null,null,"",{"$f":"IF(YEAR(L220)>1900,Einstellungen!$C$10-YEAR(L220),\"---\")","v":"---"},"0000-0000-f-19000100",1,203,"","",1,203,"","","0000","0000","f","19000100",1900,"01","00"]
["","",null,null,null,null,null,null,null,null,null,null,null,null,null,null,"",{"$f":"IF(YEAR(L221)>1900,Einstellungen!$C$10-YEAR(L221),\"---\")","v":"---"},"0000-0000-f-19000100",1,204,"","",1,204,"","","0000","0000","f","19000100",1900,"01","00"]
["","",null,null,null,null,null,null,null,null,null,null,null,null,null,null,"",{"$f":"IF(YEAR(L222)>1900,Einstellungen!$C$10-YEAR(L222),\"---\")","v":"---"},"0000-0000-f-19000100",1,205,"","",1,205,"","","0000","0000","f","19000100",1900,"01","00"]
["","",null,null,null,null,null,null,null,null,null,null,null,null,null,null,"",{"$f":"IF(YEAR(L223)>1900,Einstellungen!$C$10-YEAR(L223),\"---\")","v":"---"},"0000-0000-f-19000100",1,206,"","",1,206,"","","0000","0000","f","19000100",1900,"01","00"]
["","",null,null,null,null,null,null,null,null,null,null,null,null,null,null,"",{"$f":"IF(YEAR(L224)>1900,Einstellungen!$C$10-YEAR(L224),\"---\")","v":"---"},"0000-0000-f-19000100",1,207,"","",1,207,"","","0000","0000","f","19000100",1900,"01","00"]
["","",null,null,null,null,null,null,null,null,null,null,null,null,null,null,"",{"$f":"IF(YEAR(L225)>1900,Einstellungen!$C$10-YEAR(L225),\"---\")","v":"---"},"0000-0000-f-19000100",1,208,"","",1,208,"","","0000","0000","f","19000100",1900,"01","00"]
["","",null,null,null,null,null,null,null,null,null,null,null,null,null,null,"",{"$f":"IF(YEAR(L226)>1900,Einstellungen!$C$10-YEAR(L226),\"---\")","v":"---"},"0000-0000-f-19000100",1,209,"","",1,209,"","","0000","0000","f","19000100",1900,"01","00"]
["","",null,null,null,null,null,null,null,null,null,null,null,null,null,null,"",{"$f":"IF(YEAR(L227)>1900,Einstellungen!$C$10-YEAR(L227),\"---\")","v":"---"},"0000-0000-f-19000100",1,210,"","",1,210,"","","0000","0000","f","19000100",1900,"01","00"]
["","",null,null,null,null,null,null,null,null,null,null,null,null,null,null,"",{"$f":"IF(YEAR(L228)>1900,Einstellungen!$C$10-YEAR(L228),\"---\")","v":"---"},"0000-0000-f-19000100",1,211,"","",1,211,"","","0000","0000","f","19000100",1900,"01","00"]
["","",null,null,null,null,null,null,null,null,null,null,null,null,null,null,"",{"$f":"IF(YEAR(L229)>1900,Einstellungen!$C$10-YEAR(L229),\"---\")","v":"---"},"0000-0000-f-19000100",1,212,"","",1,212,"","","0000","0000","f","19000100",1900,"01","00"]
["","",null,null,null,null,null,null,null,null,null,null,null,null,null,null,"",{"$f":"IF(YEAR(L230)>1900,Einstellungen!$C$10-YEAR(L230),\"---\")","v":"---"},"0000-0000-f-19000100",1,213,"","",1,213,"","","0000","0000","f","19000100",1900,"01","00"]
["","",null,null,null,null,null,null,null,null,null,null,null,null,null,null,"",{"$f":"IF(YEAR(L231)>1900,Einstellungen!$C$10-YEAR(L231),\"---\")","v":"---"},"0000-0000-f-19000100",1,214,"","",1,214,"","","0000","0000","f","19000100",1900,"01","00"]
["","",null,null,null,null,null,null,null,null,null,null,null,null,null,null,"",{"$f":"IF(YEAR(L232)>1900,Einstellungen!$C$10-YEAR(L232),\"---\")","v":"---"},"0000-0000-f-19000100",1,215,"","",1,215,"","","0000","0000","f","19000100",1900,"01","00"]
["","",null,null,null,null,null,null,null,null,null,null,null,null,null,null,"",{"$f":"IF(YEAR(L233)>1900,Einstellungen!$C$10-YEAR(L233),\"---\")","v":"---"},"0000-0000-f-19000100",1,216,"","",1,216,"","","0000","0000","f","19000100",1900,"01","00"]
["","",null,null,null,null,null,null,null,null,null,null,null,null,null,null,"",{"$f":"IF(YEAR(L234)>1900,Einstellungen!$C$10-YEAR(L234),\"---\")","v":"---"},"0000-0000-f-19000100",1,217,"","",1,217,"","","0000","0000","f","19000100",1900,"01","00"]
["","",null,null,null,null,null,null,null,null,null,null,null,null,null,null,"",{"$f":"IF(YEAR(L235)>1900,Einstellungen!$C$10-YEAR(L235),\"---\")","v":"---"},"0000-0000-f-19000100",1,218,"","",1,218,"","","0000","0000","f","19000100",1900,"01","00"]
["","",null,null,null,null,null,null,null,null,null,null,null,null,null,null,"",{"$f":"IF(YEAR(L236)>1900,Einstellungen!$C$10-YEAR(L236),\"---\")","v":"---"},"0000-0000-f-19000100",1,219,"","",1,219,"","","0000","0000","f","19000100",1900,"01","00"]
["","",null,null,null,null,null,null,null,null,null,null,null,null,null,null,"",{"$f":"IF(YEAR(L237)>1900,Einstellungen!$C$10-YEAR(L237),\"---\")","v":"---"},"0000-0000-f-19000100",1,220,"","",1,220,"","","0000","0000","f","19000100",1900,"01","00"]
["","",null,null,null,null,null,null,null,null,null,null,null,null,null,null,"",{"$f":"IF(YEAR(L238)>1900,Einstellungen!$C$10-YEAR(L238),\"---\")","v":"---"},"0000-0000-f-19000100",1,221,"","",1,221,"","","0000","0000","f","19000100",1900,"01","00"]
["","",null,null,null,null,null,null,null,null,null,null,null,null,null,null,"",{"$f":"IF(YEAR(L239)>1900,Einstellungen!$C$10-YEAR(L239),\"---\")","v":"---"},"0000-0000-f-19000100",1,222,"","",1,222,"","","0000","0000","f","19000100",1900,"01","00"]
["","",null,null,null,null,null,null,null,null,null,null,null,null,null,null,"",{"$f":"IF(YEAR(L240)>1900,Einstellungen!$C$10-YEAR(L240),\"---\")","v":"---"},"0000-0000-f-19000100",1,223,"","",1,223,"","","0000","0000","f","19000100",1900,"01","00"]
["","",null,null,null,null,null,null,null,null,null,null,null,null,null,null,"",{"$f":"IF(YEAR(L241)>1900,Einstellungen!$C$10-YEAR(L241),\"---\")","v":"---"},"0000-0000-f-19000100",1,224,"","",1,224,"","","0000","0000","f","19000100",1900,"01","00"]
["","",null,null,null,null,null,null,null,null,null,null,null,null,null,null,"",{"$f":"IF(YEAR(L242)>1900,Einstellungen!$C$10-YEAR(L242),\"---\")","v":"---"},"0000-0000-f-19000100",1,225,"","",1,225,"","","0000","0000","f","19000100",1900,"01","00"]
["","",null,null,null,null,null,null,null,null,null,null,null,null,null,null,"",{"$f":"IF(YEAR(L243)>1900,Einstellungen!$C$10-YEAR(L243),\"---\")","v":"---"},"0000-0000-f-19000100",1,226,"","",1,226,"","","0000","0000","f","19000100",1900,"01","00"]
["","",null,null,null,null,null,null,null,null,null,null,null,null,null,null,"",{"$f":"IF(YEAR(L244)>1900,Einstellungen!$C$10-YEAR(L244),\"---\")","v":"---"},"0000-0000-f-19000100",1,227,"","",1,227,"","","0000","0000","f","19000100",1900,"01","00"]
["","",null,null,null,null,null,null,null,null,null,null,null,null,null,null,"",{"$f":"IF(YEAR(L245)>1900,Einstellungen!$C$10-YEAR(L245),\"---\")","v":"---"},"0000-0000-f-19000100",1,228,"","",1,228,"","","0000","0000","f","19000100",1900,"01","00"]
["","",null,null,null,null,null,null,null,null,null,null,null,null,null,null,"",{"$f":"IF(YEAR(L246)>1900,Einstellungen!$C$10-YEAR(L246),\"---\")","v":"---"},"0000-0000-f-19000100",1,229,"","",1,229,"","","0000","0000","f","19000100",1900,"01","00"]
["","",null,null,null,null,null,null,null,null,null,null,null,null,null,null,"",{"$f":"IF(YEAR(L247)>1900,Einstellungen!$C$10-YEAR(L247),\"---\")","v":"---"},"0000-0000-f-19000100",1,230,"","",1,230,"","","0000","0000","f","19000100",1900,"01","00"]
["","",null,null,null,null,null,null,null,null,null,null,null,null,null,null,"",{"$f":"IF(YEAR(L248)>1900,Einstellungen!$C$10-YEAR(L248),\"---\")","v":"---"},"0000-0000-f-19000100",1,231,"","",1,231,"","","0000","0000","f","19000100",1900,"01","00"]
["","",null,null,null,null,null,null,null,null,null,null,null,null,null,null,"",{"$f":"IF(YEAR(L249)>1900,Einstellungen!$C$10-YEAR(L249),\"---\")","v":"---"},"0000-0000-f-19000100",1,232,"","",1,232,"","","0000","0000","f","19000100",1900,"01","00"]
["","",null,null,null,null,null,null,null,null,null,null,null,null,null,null,"",{"$f":"IF(YEAR(L250)>1900,Einstellungen!$C$10-YEAR(L250),\"---\")","v":"---"},"0000-0000-f-19000100",1,233,"","",1,233,"","","0000","0000","f","19000100",1900,"01","00"]
["","",null,null,null,null,null,null,null,null,null,null,null,null,null,null,"",{"$f":"IF(YEAR(L251)>1900,Einstellungen!$C$10-YEAR(L251),\"---\")","v":"---"},"0000-0000-f-19000100",1,234,"","",1,234,"","","0000","0000","f","19000100",1900,"01","00"]
["","",null,null,null,null,null,null,null,null,null,null,null,null,null,null,"",{"$f":"IF(YEAR(L252)>1900,Einstellungen!$C$10-YEAR(L252),\"---\")","v":"---"},"0000-0000-f-19000100",1,235,"","",1,235,"","","0000","0000","f","19000100",1900,"01","00"]
["","",null,null,null,null,null,null,null,null,null,null,null,null,null,null,"",{"$f":"IF(YEAR(L253)>1900,Einstellungen!$C$10-YEAR(L253),\"---\")","v":"---"},"0000-0000-f-19000100",1,236,"","",1,236,"","","0000","0000","f","19000100",1900,"01","00"]
["","",null,null,null,null,null,null,null,null,null,null,null,null,null,null,"",{"$f":"IF(YEAR(L254)>1900,Einstellungen!$C$10-YEAR(L254),\"---\")","v":"---"},"0000-0000-f-19000100",1,237,"","",1,237,"","","0000","0000","f","19000100",1900,"01","00"]
["","",null,null,null,null,null,null,null,null,null,null,null,null,null,null,"",{"$f":"IF(YEAR(L255)>1900,Einstellungen!$C$10-YEAR(L255),\"---\")","v":"---"},"0000-0000-f-19000100",1,238,"","",1,238,"","","0000","0000","f","19000100",1900,"01","00"]
["","",null,null,null,null,null,null,null,null,null,null,null,null,null,null,"",{"$f":"IF(YEAR(L256)>1900,Einstellungen!$C$10-YEAR(L256),\"---\")","v":"---"},"0000-0000-f-19000100",1,239,"","",1,239,"","","0000","0000","f","19000100",1900,"01","00"]
["","",null,null,null,null,null,null,null,null,null,null,null,null,null,null,"",{"$f":"IF(YEAR(L257)>1900,Einstellungen!$C$10-YEAR(L257),\"---\")","v":"---"},"0000-0000-f-19000100",1,240,"","",1,240,"","","0000","0000","f","19000100",1900,"01","00"]
["","",null,null,null,null,null,null,null,null,null,null,null,null,null,null,"",{"$f":"IF(YEAR(L258)>1900,Einstellungen!$C$10-YEAR(L258),\"---\")","v":"---"},"0000-0000-f-19000100",1,241,"","",1,241,"","","0000","0000","f","19000100",1900,"01","00"]
["","",null,null,null,null,null,null,null,null,null,null,null,null,null,null,"",{"$f":"IF(YEAR(L259)>1900,Einstellungen!$C$10-YEAR(L259),\"---\")","v":"---"},"0000-0000-f-19000100",1,242,"","",1,242,"","","0000","0000","f","19000100",1900,"01","00"]
["","",null,null,null,null,null,null,null,null,null,null,null,null,null,null,"",{"$f":"IF(YEAR(L260)>1900,Einstellungen!$C$10-YEAR(L260),\"---\")","v":"---"},"0000-0000-f-19000100",1,243,"","",1,243,"","","0000","0000","f","19000100",1900,"01","00"]
["","",null,null,null,null,null,null,null,null,null,null,null,null,null,null,"",{"$f":"IF(YEAR(L261)>1900,Einstellungen!$C$10-YEAR(L261),\"---\")","v":"---"},"0000-0000-f-19000100",1,244,"","",1,244,"","","0000","0000","f","19000100",1900,"01","00"]
["","",null,null,null,null,null,null,null,null,null,null,null,null,null,null,"",{"$f":"IF(YEAR(L262)>1900,Einstellungen!$C$10-YEAR(L262),\"---\")","v":"---"},"0000-0000-f-19000100",1,245,"","",1,245,"","","0000","0000","f","19000100",1900,"01","00"]
["","",null,null,null,null,null,null,null,null,null,null,null,null,null,null,"",{"$f":"IF(YEAR(L263)>1900,Einstellungen!$C$10-YEAR(L263),\"---\")","v":"---"},"0000-0000-f-19000100",1,246,"","",1,246,"","","0000","0000","f","19000100",1900,"01","00"]
["","",null,null,null,null,null,null,null,null,null,null,null,null,null,null,"",{"$f":"IF(YEAR(L264)>1900,Einstellungen!$C$10-YEAR(L264),\"---\")","v":"---"},"0000-0000-f-19000100",1,247,"","",1,247,"","","0000","0000","f","19000100",1900,"01","00"]
["","",null,null,null,null,null,null,null,null,null,null,null,null,null,null,"",{"$f":"IF(YEAR(L265)>1900,Einstellungen!$C$10-YEAR(L265),\"---\")","v":"---"},"0000-0000-f-19000100",1,248,"","",1,248,"","","0000","0000","f","19000100",1900,"01","00"]
["","",null,null,null,null,null,null,null,null,null,null,null,null,null,null,"",{"$f":"IF(YEAR(L266)>1900,Einstellungen!$C$10-YEAR(L266),\"---\")","v":"---"},"0000-0000-f-19000100",1,249,"","",1,249,"","","0000","0000","f","19000100",1900,"01","00"]
["","",null,null,null,null,null,null,null,null,null,null,null,null,null,null,"",{"$f":"IF(YEAR(L267)>1900,Einstellungen!$C$10-YEAR(L267),\"---\")","v":"---"},"0000-0000-f-19000100",1,250,"","",1,250,"","","0000","0000","f","19000100",1900,"01","00"]
["","",null,null,null,null,null,null,null,null,null,null,null,null,null,null,"",{"$f":"IF(YEAR(L268)>1900,Einstellungen!$C$10-YEAR(L268),\"---\")","v":"---"},"0000-0000-f-19000100",1,251,"","",1,251,"","","0000","0000","f","19000100",1900,"01","00"]
["","",null,null,null,null,null,null,null,null,null,null,null,null,null,null,"",{"$f":"IF(YEAR(L269)>1900,Einstellungen!$C$10-YEAR(L269),\"---\")","v":"---"},"0000-0000-f-19000100",1,252,"","",1,252,"","","0000","0000","f","19000100",1900,"01","00"]
["","",null,null,null,null,null,null,null,null,null,null,null,null,null,null,"",{"$f":"IF(YEAR(L270)>1900,Einstellungen!$C$10-YEAR(L270),\"---\")","v":"---"},"0000-0000-f-19000100",1,253,"","",1,253,"","","0000","0000","f","19000100",1900,"01","00"]
["","",null,null,null,null,null,null,null,null,null,null,null,null,null,null,"",{"$f":"IF(YEAR(L271)>1900,Einstellungen!$C$10-YEAR(L271),\"---\")","v":"---"},"0000-0000-f-19000100",1,254,"","",1,254,"","","0000","0000","f","19000100",1900,"01","00"]
["","",null,null,null,null,null,null,null,null,null,null,null,null,null,null,"",{"$f":"IF(YEAR(L272)>1900,Einstellungen!$C$10-YEAR(L272),\"---\")","v":"---"},"0000-0000-f-19000100",1,255,"","",1,255,"","","0000","0000","f","19000100",1900,"01","00"]
["","",null,null,null,null,null,null,null,null,null,null,null,null,null,null,"",{"$f":"IF(YEAR(L273)>1900,Einstellungen!$C$10-YEAR(L273),\"---\")","v":"---"},"0000-0000-f-19000100",1,256,"","",1,256,"","","0000","0000","f","19000100",1900,"01","00"]
["","",null,null,null,null,null,null,null,null,null,null,null,null,null,null,{"$f":"IF(LEN(D274)>0,IF(P274=\"x\",\"\",\"x\"),\"\")","v":""},{"$f":"IF(YEAR(L274)>1900,Einstellungen!$C$10-YEAR(L274),\"---\")","v":"---"},"0000-0000-f-19000100",1,257,"","",1,257,"","","0000","0000","f","19000100",1900,"01","00"]
["","",null,null,null,null,null,null,null,null,null,null,null,null,null,null,"",{"$f":"IF(YEAR(L275)>1900,Einstellungen!$C$10-YEAR(L275),\"---\")","v":"---"},{"$f":"AB275 & \"-\" & AC275 & \"-\" & AD275 & \"-\" & AE275","v":"0000-0000-f-19000100"},{"$f":"IF(R275<=$AE$12,1,0)","v":1},{"$f":"IF(T275=1,U274+1,U274)","v":258},{"$f":"IF((M275+N275)>0,IF(T275=1,U275,\"-\"),\"\")","v":""},{"$f":"Z275 & AA275","v":""},{"$f":"IF(LEN(C275)>0, 0, T275)","v":1},{"$f":"Y274+X275","v":258},{"$f":"IF(X275=1,IF(Y275<=$Z$12,\"Q\",\"\"),\"\")","v":""},{"$f":"IF(X275=1, IF(Y275>$Z$12, IF(Y275<=($Z$12+$AA$12),\"R\",\"\"),\"\"), \"\")","v":""},{"$f":"IF(M275<1,\"0000\", IF(M275<10,\"000\"&M275, IF(M275<100,\"00\"&M275, IF(M275<1000,\"0\"&M275,\"\"& M275))))","v":"0000"},"0000",{"$f":"IF(O275=\"a\",\"a\",\"f\")","v":"f"},{"$f":"AF275&AG275&AH275","v":"19000100"},{"$f":"YEAR(L275)","v":1900},{"$f":"IF(MONTH(L275)<10,\"0\"&MONTH(L275),MONTH(L275))","v":"01"},{"$f":"IF(DAY(L275)<10,\"0\"&DAY(L275),DAY(L275))","v":"00"}]
["","",null,null,null,null,null,null,null,null,null,null,null,null,null,null,"",{"$f":"IF(YEAR(L276)>1900,Einstellungen!$C$10-YEAR(L276),\"---\")","v":"---"},"0000-0000-f-19000100",1,259,"","",1,259,"","","0000","0000","f","19000100",1900,"01","00"]
["","",null,null,null,null,null,null,null,null,null,null,null,null,null,null,"",{"$f":"IF(YEAR(L277)>1900,Einstellungen!$C$10-YEAR(L277),\"---\")","v":"---"},"0000-0000-f-19000100",1,260,"","",1,260,"","","0000","0000","f","19000100",1900,"01","00"]
["","",null,null,null,null,null,null,null,null,null,null,null,null,null,null,"",{"$f":"IF(YEAR(L278)>1900,Einstellungen!$C$10-YEAR(L278),\"---\")","v":"---"},"0000-0000-f-19000100",1,261,"","",1,261,"","","0000","0000","f","19000100",1900,"01","00"]
["","",null,null,null,null,null,null,null,null,null,null,null,null,null,null,"",{"$f":"IF(YEAR(L279)>1900,Einstellungen!$C$10-YEAR(L279),\"---\")","v":"---"},"0000-0000-f-19000100",1,262,"","",1,262,"","","0000","0000","f","19000100",1900,"01","00"]
["","",null,null,null,null,null,null,null,null,null,null,null,null,null,null,"",{"$f":"IF(YEAR(L280)>1900,Einstellungen!$C$10-YEAR(L280),\"---\")","v":"---"},"0000-0000-f-19000100",1,263,"","",1,263,"","","0000","0000","f","19000100",1900,"01","00"]
["","",null,null,null,null,null,null,null,null,null,null,null,null,null,null,"",{"$f":"IF(YEAR(L281)>1900,Einstellungen!$C$10-YEAR(L281),\"---\")","v":"---"},"0000-0000-f-19000100",1,264,"","",1,264,"","","0000","0000","f","19000100",1900,"01","00"]
["","",null,null,null,null,null,null,null,null,null,null,null,null,null,null,"",{"$f":"IF(YEAR(L282)>1900,Einstellungen!$C$10-YEAR(L282),\"---\")","v":"---"},"0000-0000-f-19000100",1,265,"","",1,265,"","","0000","0000","f","19000100",1900,"01","00"]
["","",null,null,null,null,null,null,null,null,null,null,null,null,null,null,"",{"$f":"IF(YEAR(L283)>1900,Einstellungen!$C$10-YEAR(L283),\"---\")","v":"---"},"0000-0000-f-19000100",1,266,"","",1,266,"","","0000","0000","f","19000100",1900,"01","00"]
["","",null,null,null,null,null,null,null,null,null,null,null,null,null,null,"",{"$f":"IF(YEAR(L284)>1900,Einstellungen!$C$10-YEAR(L284),\"---\")","v":"---"},"0000-0000-f-19000100",1,267,"","",1,267,"","","0000","0000","f","19000100",1900,"01","00"]
["","",null,null,null,null,null,null,null,null,null,null,null,null,null,null,"",{"$f":"IF(YEAR(L285)>1900,Einstellungen!$C$10-YEAR(L285),\"---\")","v":"---"},"0000-0000-f-19000100",1,268,"","",1,268,"","","0000","0000","f","19000100",1900,"01","00"]
["","",null,null,null,null,null,null,null,null,null,null,null,null,null,null,"",{"$f":"IF(YEAR(L286)>1900,Einstellungen!$C$10-YEAR(L286),\"---\")","v":"---"},"0000-0000-f-19000100",1,269,"","",1,269,"","","0000","0000","f","19000100",1900,"01","00"]
["","",null,null,null,null,null,null,null,null,null,null,null,null,null,null,"",{"$f":"IF(YEAR(L287)>1900,Einstellungen!$C$10-YEAR(L287),\"---\")","v":"---"},"0000-0000-f-19000100",1,270,"","",1,270,"","","0000","0000","f","19000100",1900,"01","00"]
["","",null,null,null,null,null,null,null,null,null,null,null,null,null,null,"",{"$f":"IF(YEAR(L288)>1900,Einstellungen!$C$10-YEAR(L288),\"---\")","v":"---"},"0000-0000-f-19000100",1,271,"","",1,271,"","","0000","0000","f","19000100",1900,"01","00"]
["","",null,null,null,null,null,null,null,null,null,null,null,null,null,null,"",{"$f":"IF(YEAR(L289)>1900,Einstellungen!$C$10-YEAR(L289),\"---\")","v":"---"},"0000-0000-f-19000100",1,272,"","",1,272,"","","0000","0000","f","19000100",1900,"01","00"]
["","",null,null,null,null,null,null,null,null,null,null,null,null,null,null,"",{"$f":"IF(YEAR(L290)>1900,Einstellungen!$C$10-YEAR(L290),\"---\")","v":"---"},"0000-0000-f-19000100",1,273,"","",1,273,"","","0000","0000","f","19000100",1900,"01","00"]
["","",null,null,null,null,null,null,null,null,null,null,null,null,null,null,"",{"$f":"IF(YEAR(L291)>1900,Einstellungen!$C$10-YEAR(L291),\"---\")","v":"---"},"0000-0000-f-19000100",1,274,"","",1,274,"","","0000","0000","f","19000100",1900,"01","00"]
["","",null,null,null,null,null,null,null,null,null,null,null,null,null,null,"",{"$f":"IF(YEAR(L292)>1900,Einstellungen!$C$10-YEAR(L292),\"---\")","v":"---"},"0000-0000-f-19000100",1,275,"","",1,275,"","","0000","0000","f","19000100",1900,"01","00"]
["","",null,null,null,null,null,null,null,null,null,null,null,null,null,null,"",{"$f":"IF(YEAR(L293)>1900,Einstellungen!$C$10-YEAR(L293),\"---\")","v":"---"},"0000-0000-f-19000100",1,276,"","",1,276,"","","0000","0000","f","19000100",1900,"01","00"]
["","",null,null,null,null,null,null,null,null,null,null,null,null,null,null,"",{"$f":"IF(YEAR(L294)>1900,Einstellungen!$C$10-YEAR(L294),\"---\")","v":"---"},"0000-0000-f-19000100",1,277,"","",1,277,"","","0000","0000","f","19000100",1900,"01","00"]
["","",null,null,null,null,null,null,null,null,null,null,null,null,null,null,"",{"$f":"IF(YEAR(L295)>1900,Einstellungen!$C$10-YEAR(L295),\"---\")","v":"---"},"0000-0000-f-19000100",1,278,"","",1,278,"","","0000","0000","f","19000100",1900,"01","00"]
["","",null,null,null,null,null,null,null,null,null,null,null,null,null,null,"",{"$f":"IF(YEAR(L296)>1900,Einstellungen!$C$10-YEAR(L296),\"---\")","v":"---"},"0000-0000-f-19000100",1,279,"","",1,279,"","","0000","0000","f","19000100",1900,"01","00"]
["","",null,null,null,null,null,null,null,null,null,null,null,null,null,null,"",{"$f":"IF(YEAR(L297)>1900,Einstellungen!$C$10-YEAR(L297),\"---\")","v":"---"},"0000-0000-f-19000100",1,280,"","",1,280,"","","0000","0000","f","19000100",1900,"01","00"]
["","",null,null,null,null,null,null,null,null,null,null,null,null,null,null,"",{"$f":"IF(YEAR(L298)>1900,Einstellungen!$C$10-YEAR(L298),\"---\")","v":"---"},"0000-0000-f-19000100",1,281,"","",1,281,"","","0000","0000","f","19000100",1900,"01","00"]
["","",null,null,null,null,null,null,null,null,null,null,null,null,null,null,"",{"$f":"IF(YEAR(L299)>1900,Einstellungen!$C$10-YEAR(L299),\"---\")","v":"---"},"0000-0000-f-19000100",1,282,"","",1,282,"","","0000","0000","f","19000100",1900,"01","00"]
["","",null,null,null,null,null,null,null,null,null,null,null,null,null,null,"",{"$f":"IF(YEAR(L300)>1900,Einstellungen!$C$10-YEAR(L300),\"---\")","v":"---"},"0000-0000-f-19000100",1,283,"","",1,283,"","","0000","0000","f","19000100",1900,"01","00"]
["","",null,null,null,null,null,null,null,null,null,null,null,null,null,null,"",{"$f":"IF(YEAR(L301)>1900,Einstellungen!$C$10-YEAR(L301),\"---\")","v":"---"},"0000-0000-f-19000100",1,284,"","",1,284,"","","0000","0000","f","19000100",1900,"01","00"]
["","",null,null,null,null,null,null,null,null,null,null,null,null,null,null,"",{"$f":"IF(YEAR(L302)>1900,Einstellungen!$C$10-YEAR(L302),\"---\")","v":"---"},"0000-0000-f-19000100",1,285,"","",1,285,"","","0000","0000","f","19000100",1900,"01","00"]
["","",null,null,null,null,null,null,null,null,null,null,null,null,null,null,"",{"$f":"IF(YEAR(L303)>1900,Einstellungen!$C$10-YEAR(L303),\"---\")","v":"---"},"0000-0000-f-19000100",1,286,"","",1,286,"","","0000","0000","f","19000100",1900,"01","00"]
["","",null,null,null,null,null,null,null,null,null,null,null,null,null,null,"",{"$f":"IF(YEAR(L304)>1900,Einstellungen!$C$10-YEAR(L304),\"---\")","v":"---"},"0000-0000-f-19000100",1,287,"","",1,287,"","","0000","0000","f","19000100",1900,"01","00"]
["","",null,null,null,null,null,null,null,null,null,null,null,null,null,null,"",{"$f":"IF(YEAR(L305)>1900,Einstellungen!$C$10-YEAR(L305),\"---\")","v":"---"},"0000-0000-f-19000100",1,288,"","",1,288,"","","0000","0000","f","19000100",1900,"01","00"]
["","",null,null,null,null,null,null,null,null,null,null,null,null,null,null,"",{"$f":"IF(YEAR(L306)>1900,Einstellungen!$C$10-YEAR(L306),\"---\")","v":"---"},"0000-0000-f-19000100",1,289,"","",1,289,"","","0000","0000","f","19000100",1900,"01","00"]
["","",null,null,null,null,null,null,null,null,null,null,null,null,null,null,"",{"$f":"IF(YEAR(L307)>1900,Einstellungen!$C$10-YEAR(L307),\"---\")","v":"---"},"0000-0000-f-19000100",1,290,"","",1,290,"","","0000","0000","f","19000100",1900,"01","00"]
["","",null,null,null,null,null,null,null,null,null,null,null,null,null,null,"",{"$f":"IF(YEAR(L308)>1900,Einstellungen!$C$10-YEAR(L308),\"---\")","v":"---"},"0000-0000-f-19000100",1,291,"","",1,291,"","","0000","0000","f","19000100",1900,"01","00"]
["","",null,null,null,null,null,null,null,null,null,null,null,null,null,null,"",{"$f":"IF(YEAR(L309)>1900,Einstellungen!$C$10-YEAR(L309),\"---\")","v":"---"},"0000-0000-f-19000100",1,292,"","",1,292,"","","0000","0000","f","19000100",1900,"01","00"]
["","",null,null,null,null,null,null,null,null,null,null,null,null,null,null,"",{"$f":"IF(YEAR(L310)>1900,Einstellungen!$C$10-YEAR(L310),\"---\")","v":"---"},"0000-0000-f-19000100",1,293,"","",1,293,"","","0000","0000","f","19000100",1900,"01","00"]
["","",null,null,null,null,null,null,null,null,null,null,null,null,null,null,"",{"$f":"IF(YEAR(L311)>1900,Einstellungen!$C$10-YEAR(L311),\"---\")","v":"---"},"0000-0000-f-19000100",1,294,"","",1,294,"","","0000","0000","f","19000100",1900,"01","00"]
["","",null,null,null,null,null,null,null,null,null,null,null,null,null,null,"",{"$f":"IF(YEAR(L312)>1900,Einstellungen!$C$10-YEAR(L312),\"---\")","v":"---"},"0000-0000-f-19000100",1,295,"","",1,295,"","","0000","0000","f","19000100",1900,"01","00"]
["","",null,null,null,null,null,null,null,null,null,null,null,null,null,null,"",{"$f":"IF(YEAR(L313)>1900,Einstellungen!$C$10-YEAR(L313),\"---\")","v":"---"},"0000-0000-f-19000100",1,296,"","",1,296,"","","0000","0000","f","19000100",1900,"01","00"]
["","",null,null,null,null,null,null,null,null,null,null,null,null,null,null,"",{"$f":"IF(YEAR(L314)>1900,Einstellungen!$C$10-YEAR(L314),\"---\")","v":"---"},"0000-0000-f-19000100",1,297,"","",1,297,"","","0000","0000","f","19000100",1900,"01","00"]
["","",null,null,null,null,null,null,null,null,null,null,null,null,null,null,"",{"$f":"IF(YEAR(L315)>1900,Einstellungen!$C$10-YEAR(L315),\"---\")","v":"---"},"0000-0000-f-19000100",1,298,"","",1,298,"","","0000","0000","f","19000100",1900,"01","00"]
["","",null,null,null,null,null,null,null,null,null,null,null,null,null,null,"",{"$f":"IF(YEAR(L316)>1900,Einstellungen!$C$10-YEAR(L316),\"---\")","v":"---"},"0000-0000-f-19000100",1,299,"","",1,299,"","","0000","0000","f","19000100",1900,"01","00"]
["","",null,null,null,null,null,null,null,null,null,null,null,null,null,null,"",{"$f":"IF(YEAR(L317)>1900,Einstellungen!$C$10-YEAR(L317),\"---\")","v":"---"},"0000-0000-f-19000100",1,300,"","",1,300,"","","0000","0000","f","19000100",1900,"01","00"]
["","",null,null,null,null,null,null,null,null,null,null,null,null,null,null,"",{"$f":"IF(YEAR(L318)>1900,Einstellungen!$C$10-YEAR(L318),\"---\")","v":"---"},"0000-0000-f-19000100",1,301,"","",1,301,"","","0000","0000","f","19000100",1900,"01","00"]
["","",null,null,null,null,null,null,null,null,null,null,null,null,null,null,"",{"$f":"IF(YEAR(L319)>1900,Einstellungen!$C$10-YEAR(L319),\"---\")","v":"---"},"0000-0000-f-19000100",1,302,"","",1,302,"","","0000","0000","f","19000100",1900,"01","00"]
["","",null,null,null,null,null,null,null,null,null,null,null,null,null,null,"",{"$f":"IF(YEAR(L320)>1900,Einstellungen!$C$10-YEAR(L320),\"---\")","v":"---"},"0000-0000-f-19000100",1,303,"","",1,303,"","","0000","0000","f","19000100",1900,"01","00"]
["","",null,null,null,null,null,null,null,null,null,null,null,null,null,null,"",{"$f":"IF(YEAR(L321)>1900,Einstellungen!$C$10-YEAR(L321),\"---\")","v":"---"},"0000-0000-f-19000100",1,304,"","",1,304,"","","0000","0000","f","19000100",1900,"01","00"]
["","",null,null,null,null,null,null,null,null,null,null,null,null,null,null,"",{"$f":"IF(YEAR(L322)>1900,Einstellungen!$C$10-YEAR(L322),\"---\")","v":"---"},"0000-0000-f-19000100",1,305,"","",1,305,"","","0000","0000","f","19000100",1900,"01","00"]
["","",null,null,null,null,null,null,null,null,null,null,null,null,null,null,"",{"$f":"IF(YEAR(L323)>1900,Einstellungen!$C$10-YEAR(L323),\"---\")","v":"---"},"0000-0000-f-19000100",1,306,"","",1,306,"","","0000","0000","f","19000100",1900,"01","00"]
["","",null,null,null,null,null,null,null,null,null,null,null,null,null,null,"",{"$f":"IF(YEAR(L324)>1900,Einstellungen!$C$10-YEAR(L324),\"---\")","v":"---"},"0000-0000-f-19000100",1,307,"","",1,307,"","","0000","0000","f","19000100",1900,"01","00"]
["","",null,null,null,null,null,null,null,null,null,null,null,null,null,null,"",{"$f":"IF(YEAR(L325)>1900,Einstellungen!$C$10-YEAR(L325),\"---\")","v":"---"},"0000-0000-f-19000100",1,308,"","",1,308,"","","0000","0000","f","19000100",1900,"01","00"]
["","",null,null,null,null,null,null,null,null,null,null,null,null,null,null,"",{"$f":"IF(YEAR(L326)>1900,Einstellungen!$C$10-YEAR(L326),\"---\")","v":"---"},"0000-0000-f-19000100",1,309,"","",1,309,"","","0000","0000","f","19000100",1900,"01","00"]
["","",null,null,null,null,null,null,null,null,null,null,null,null,null,null,"",{"$f":"IF(YEAR(L327)>1900,Einstellungen!$C$10-YEAR(L327),\"---\")","v":"---"},"0000-0000-f-19000100",1,310,"","",1,310,"","","0000","0000","f","19000100",1900,"01","00"]
["","",null,null,null,null,null,null,null,null,null,null,null,null,null,null,"",{"$f":"IF(YEAR(L328)>1900,Einstellungen!$C$10-YEAR(L328),\"---\")","v":"---"},"0000-0000-f-19000100",1,311,"","",1,311,"","","0000","0000","f","19000100",1900,"01","00"]
["","",null,null,null,null,null,null,null,null,null,null,null,null,null,null,"",{"$f":"IF(YEAR(L329)>1900,Einstellungen!$C$10-YEAR(L329),\"---\")","v":"---"},"0000-0000-f-19000100",1,312,"","",1,312,"","","0000","0000","f","19000100",1900,"01","00"]
["","",null,null,null,null,null,null,null,null,null,null,null,null,null,null,"",{"$f":"IF(YEAR(L330)>1900,Einstellungen!$C$10-YEAR(L330),\"---\")","v":"---"},"0000-0000-f-19000100",1,313,"","",1,313,"","","0000","0000","f","19000100",1900,"01","00"]
["","",null,null,null,null,null,null,null,null,null,null,null,null,null,null,"",{"$f":"IF(YEAR(L331)>1900,Einstellungen!$C$10-YEAR(L331),\"---\")","v":"---"},"0000-0000-f-19000100",1,314,"","",1,314,"","","0000","0000","f","19000100",1900,"01","00"]
["","",null,null,null,null,null,null,null,null,null,null,null,null,null,null,"",{"$f":"IF(YEAR(L332)>1900,Einstellungen!$C$10-YEAR(L332),\"---\")","v":"---"},"0000-0000-f-19000100",1,315,"","",1,315,"","","0000","0000","f","19000100",1900,"01","00"]
["","",null,null,null,null,null,null,null,null,null,null,null,null,null,null,"",{"$f":"IF(YEAR(L333)>1900,Einstellungen!$C$10-YEAR(L333),\"---\")","v":"---"},"0000-0000-f-19000100",1,316,"","",1,316,"","","0000","0000","f","19000100",1900,"01","00"]
["","",null,null,null,null,null,null,null,null,null,null,null,null,null,null,"",{"$f":"IF(YEAR(L334)>1900,Einstellungen!$C$10-YEAR(L334),\"---\")","v":"---"},"0000-0000-f-19000100",1,317,"","",1,317,"","","0000","0000","f","19000100",1900,"01","00"]
["","",null,null,null,null,null,null,null,null,null,null,null,null,null,null,"",{"$f":"IF(YEAR(L335)>1900,Einstellungen!$C$10-YEAR(L335),\"---\")","v":"---"},"0000-0000-f-19000100",1,318,"","",1,318,"","","0000","0000","f","19000100",1900,"01","00"]
["","",null,null,null,null,null,null,null,null,null,null,null,null,null,null,"",{"$f":"IF(YEAR(L336)>1900,Einstellungen!$C$10-YEAR(L336),\"---\")","v":"---"},"0000-0000-f-19000100",1,319,"","",1,319,"","","0000","0000","f","19000100",1900,"01","00"]
["","",null,null,null,null,null,null,null,null,null,null,null,null,null,null,"",{"$f":"IF(YEAR(L337)>1900,Einstellungen!$C$10-YEAR(L337),\"---\")","v":"---"},"0000-0000-f-19000100",1,320,"","",1,320,"","","0000","0000","f","19000100",1900,"01","00"]
["","",null,null,null,null,null,null,null,null,null,null,null,null,null,null,{"$f":"IF(LEN(D338)>0,IF(P338=\"x\",\"\",\"x\"),\"\")","v":""},{"$f":"IF(YEAR(L338)>1900,Einstellungen!$C$10-YEAR(L338),\"---\")","v":"---"},"0000-0000-f-19000100",1,321,"","",1,321,"","","0000","0000","f","19000100",1900,"01","00"]
["","",null,null,null,null,null,null,null,null,null,null,null,null,null,null,"",{"$f":"IF(YEAR(L339)>1900,Einstellungen!$C$10-YEAR(L339),\"---\")","v":"---"},{"$f":"AB339 & \"-\" & AC339 & \"-\" & AD339 & \"-\" & AE339","v":"0000-0000-f-19000100"},{"$f":"IF(R339<=$AE$12,1,0)","v":1},{"$f":"IF(T339=1,U338+1,U338)","v":322},{"$f":"IF((M339+N339)>0,IF(T339=1,U339,\"-\"),\"\")","v":""},{"$f":"Z339 & AA339","v":""},{"$f":"IF(LEN(C339)>0, 0, T339)","v":1},{"$f":"Y338+X339","v":322},{"$f":"IF(X339=1,IF(Y339<=$Z$12,\"Q\",\"\"),\"\")","v":""},{"$f":"IF(X339=1, IF(Y339>$Z$12, IF(Y339<=($Z$12+$AA$12),\"R\",\"\"),\"\"), \"\")","v":""},{"$f":"IF(M339<1,\"0000\", IF(M339<10,\"000\"&M339, IF(M339<100,\"00\"&M339, IF(M339<1000,\"0\"&M339,\"\"& M339))))","v":"0000"},"0000",{"$f":"IF(O339=\"a\",\"a\",\"f\")","v":"f"},{"$f":"AF339&AG339&AH339","v":"19000100"},{"$f":"YEAR(L339)","v":1900},{"$f":"IF(MONTH(L339)<10,\"0\"&MONTH(L339),MONTH(L339))","v":"01"},{"$f":"IF(DAY(L339)<10,\"0\"&DAY(L339),DAY(L339))","v":"00"}]
["","",null,null,null,null,null,null,null,null,null,null,null,null,null,null,"",{"$f":"IF(YEAR(L340)>1900,Einstellungen!$C$10-YEAR(L340),\"---\")","v":"---"},"0000-0000-f-19000100",1,323,"","",1,323,"","","0000","0000","f","19000100",1900,"01","00"]
["","",null,null,null,null,null,null,null,null,null,null,null,null,null,null,"",{"$f":"IF(YEAR(L341)>1900,Einstellungen!$C$10-YEAR(L341),\"---\")","v":"---"},"0000-0000-f-19000100",1,324,"","",1,324,"","","0000","0000","f","19000100",1900,"01","00"]
["","",null,null,null,null,null,null,null,null,null,null,null,null,null,null,"",{"$f":"IF(YEAR(L342)>1900,Einstellungen!$C$10-YEAR(L342),\"---\")","v":"---"},"0000-0000-f-19000100",1,325,"","",1,325,"","","0000","0000","f","19000100",1900,"01","00"]
["","",null,null,null,null,null,null,null,null,null,null,null,null,null,null,"",{"$f":"IF(YEAR(L343)>1900,Einstellungen!$C$10-YEAR(L343),\"---\")","v":"---"},"0000-0000-f-19000100",1,326,"","",1,326,"","","0000","0000","f","19000100",1900,"01","00"]
["","",null,null,null,null,null,null,null,null,null,null,null,null,null,null,"",{"$f":"IF(YEAR(L344)>1900,Einstellungen!$C$10-YEAR(L344),\"---\")","v":"---"},"0000-0000-f-19000100",1,327,"","",1,327,"","","0000","0000","f","19000100",1900,"01","00"]
["","",null,null,null,null,null,null,null,null,null,null,null,null,null,null,"",{"$f":"IF(YEAR(L345)>1900,Einstellungen!$C$10-YEAR(L345),\"---\")","v":"---"},"0000-0000-f-19000100",1,328,"","",1,328,"","","0000","0000","f","19000100",1900,"01","00"]
["","",null,null,null,null,null,null,null,null,null,null,null,null,null,null,"",{"$f":"IF(YEAR(L346)>1900,Einstellungen!$C$10-YEAR(L346),\"---\")","v":"---"},"0000-0000-f-19000100",1,329,"","",1,329,"","","0000","0000","f","19000100",1900,"01","00"]
["","",null,null,null,null,null,null,null,null,null,null,null,null,null,null,"",{"$f":"IF(YEAR(L347)>1900,Einstellungen!$C$10-YEAR(L347),\"---\")","v":"---"},"0000-0000-f-19000100",1,330,"","",1,330,"","","0000","0000","f","19000100",1900,"01","00"]
["","",null,null,null,null,null,null,null,null,null,null,null,null,null,null,"",{"$f":"IF(YEAR(L348)>1900,Einstellungen!$C$10-YEAR(L348),\"---\")","v":"---"},"0000-0000-f-19000100",1,331,"","",1,331,"","","0000","0000","f","19000100",1900,"01","00"]
["","",null,null,null,null,null,null,null,null,null,null,null,null,null,null,"",{"$f":"IF(YEAR(L349)>1900,Einstellungen!$C$10-YEAR(L349),\"---\")","v":"---"},"0000-0000-f-19000100",1,332,"","",1,332,"","","0000","0000","f","19000100",1900,"01","00"]
["","",null,null,null,null,null,null,null,null,null,null,null,null,null,null,"",{"$f":"IF(YEAR(L350)>1900,Einstellungen!$C$10-YEAR(L350),\"---\")","v":"---"},"0000-0000-f-19000100",1,333,"","",1,333,"","","0000","0000","f","19000100",1900,"01","00"]
["","",null,null,null,null,null,null,null,null,null,null,null,null,null,null,"",{"$f":"IF(YEAR(L351)>1900,Einstellungen!$C$10-YEAR(L351),\"---\")","v":"---"},"0000-0000-f-19000100",1,334,"","",1,334,"","","0000","0000","f","19000100",1900,"01","00"]
["","",null,null,null,null,null,null,null,null,null,null,null,null,null,null,"",{"$f":"IF(YEAR(L352)>1900,Einstellungen!$C$10-YEAR(L352),\"---\")","v":"---"},"0000-0000-f-19000100",1,335,"","",1,335,"","","0000","0000","f","19000100",1900,"01","00"]
["","",null,null,null,null,null,null,null,null,null,null,null,null,null,null,"",{"$f":"IF(YEAR(L353)>1900,Einstellungen!$C$10-YEAR(L353),\"---\")","v":"---"},"0000-0000-f-19000100",1,336,"","",1,336,"","","0000","0000","f","19000100",1900,"01","00"]
["","",null,null,null,null,null,null,null,null,null,null,null,null,null,null,"",{"$f":"IF(YEAR(L354)>1900,Einstellungen!$C$10-YEAR(L354),\"---\")","v":"---"},"0000-0000-f-19000100",1,337,"","",1,337,"","","0000","0000","f","19000100",1900,"01","00"]
["","",null,null,null,null,null,null,null,null,null,null,null,null,null,null,"",{"$f":"IF(YEAR(L355)>1900,Einstellungen!$C$10-YEAR(L355),\"---\")","v":"---"},"0000-0000-f-19000100",1,338,"","",1,338,"","","0000","0000","f","19000100",1900,"01","00"]
["","",null,null,null,null,null,null,null,null,null,null,null,null,null,null,"",{"$f":"IF(YEAR(L356)>1900,Einstellungen!$C$10-YEAR(L356),\"---\")","v":"---"},"0000-0000-f-19000100",1,339,"","",1,339,"","","0000","0000","f","19000100",1900,"01","00"]
["","",null,null,null,null,null,null,null,null,null,null,null,null,null,null,"",{"$f":"IF(YEAR(L357)>1900,Einstellungen!$C$10-YEAR(L357),\"---\")","v":"---"},"0000-0000-f-19000100",1,340,"","",1,340,"","","0000","0000","f","19000100",1900,"01","00"]
["","",null,null,null,null,null,null,null,null,null,null,null,null,null,null,"",{"$f":"IF(YEAR(L358)>1900,Einstellungen!$C$10-YEAR(L358),\"---\")","v":"---"},"0000-0000-f-19000100",1,341,"","",1,341,"","","0000","0000","f","19000100",1900,"01","00"]
["","",null,null,null,null,null,null,null,null,null,null,null,null,null,null,"",{"$f":"IF(YEAR(L359)>1900,Einstellungen!$C$10-YEAR(L359),\"---\")","v":"---"},"0000-0000-f-19000100",1,342,"","",1,342,"","","0000","0000","f","19000100",1900,"01","00"]
["","",null,null,null,null,null,null,null,null,null,null,null,null,null,null,"",{"$f":"IF(YEAR(L360)>1900,Einstellungen!$C$10-YEAR(L360),\"---\")","v":"---"},"0000-0000-f-19000100",1,343,"","",1,343,"","","0000","0000","f","19000100",1900,"01","00"]
["","",null,null,null,null,null,null,null,null,null,null,null,null,null,null,"",{"$f":"IF(YEAR(L361)>1900,Einstellungen!$C$10-YEAR(L361),\"---\")","v":"---"},"0000-0000-f-19000100",1,344,"","",1,344,"","","0000","0000","f","19000100",1900,"01","00"]
["","",null,null,null,null,null,null,null,null,null,null,null,null,null,null,"",{"$f":"IF(YEAR(L362)>1900,Einstellungen!$C$10-YEAR(L362),\"---\")","v":"---"},"0000-0000-f-19000100",1,345,"","",1,345,"","","0000","0000","f","19000100",1900,"01","00"]
["","",null,null,null,null,null,null,null,null,null,null,null,null,null,null,"",{"$f":"IF(YEAR(L363)>1900,Einstellungen!$C$10-YEAR(L363),\"---\")","v":"---"},"0000-0000-f-19000100",1,346,"","",1,346,"","","0000","0000","f","19000100",1900,"01","00"]
["","",null,null,null,null,null,null,null,null,null,null,null,null,null,null,"",{"$f":"IF(YEAR(L364)>1900,Einstellungen!$C$10-YEAR(L364),\"---\")","v":"---"},"0000-0000-f-19000100",1,347,"","",1,347,"","","0000","0000","f","19000100",1900,"01","00"]
["","",null,null,null,null,null,null,null,null,null,null,null,null,null,null,"",{"$f":"IF(YEAR(L365)>1900,Einstellungen!$C$10-YEAR(L365),\"---\")","v":"---"},"0000-0000-f-19000100",1,348,"","",1,348,"","","0000","0000","f","19000100",1900,"01","00"]
["","",null,null,null,null,null,null,null,null,null,null,null,null,null,null,"",{"$f":"IF(YEAR(L366)>1900,Einstellungen!$C$10-YEAR(L366),\"---\")","v":"---"},"0000-0000-f-19000100",1,349,"","",1,349,"","","0000","0000","f","19000100",1900,"01","00"]
["","",null,null,null,null,null,null,null,null,null,null,null,null,null,null,"",{"$f":"IF(YEAR(L367)>1900,Einstellungen!$C$10-YEAR(L367),\"---\")","v":"---"},"0000-0000-f-19000100",1,350,"","",1,350,"","","0000","0000","f","19000100",1900,"01","00"]
["","",null,null,null,null,null,null,null,null,null,null,null,null,null,null,"",{"$f":"IF(YEAR(L368)>1900,Einstellungen!$C$10-YEAR(L368),\"---\")","v":"---"},"0000-0000-f-19000100",1,351,"","",1,351,"","","0000","0000","f","19000100",1900,"01","00"]
["","",null,null,null,null,null,null,null,null,null,null,null,null,null,null,"",{"$f":"IF(YEAR(L369)>1900,Einstellungen!$C$10-YEAR(L369),\"---\")","v":"---"},"0000-0000-f-19000100",1,352,"","",1,352,"","","0000","0000","f","19000100",1900,"01","00"]
["","",null,null,null,null,null,null,null,null,null,null,null,null,null,null,"",{"$f":"IF(YEAR(L370)>1900,Einstellungen!$C$10-YEAR(L370),\"---\")","v":"---"},"0000-0000-f-19000100",1,353,"","",1,353,"","","0000","0000","f","19000100",1900,"01","00"]
["","",null,null,null,null,null,null,null,null,null,null,null,null,null,null,"",{"$f":"IF(YEAR(L371)>1900,Einstellungen!$C$10-YEAR(L371),\"---\")","v":"---"},"0000-0000-f-19000100",1,354,"","",1,354,"","","0000","0000","f","19000100",1900,"01","00"]
["","",null,null,null,null,null,null,null,null,null,null,null,null,null,null,"",{"$f":"IF(YEAR(L372)>1900,Einstellungen!$C$10-YEAR(L372),\"---\")","v":"---"},"0000-0000-f-19000100",1,355,"","",1,355,"","","0000","0000","f","19000100",1900,"01","00"]
["","",null,null,null,null,null,null,null,null,null,null,null,null,null,null,"",{"$f":"IF(YEAR(L373)>1900,Einstellungen!$C$10-YEAR(L373),\"---\")","v":"---"},"0000-0000-f-19000100",1,356,"","",1,356,"","","0000","0000","f","19000100",1900,"01","00"]
["","",null,null,null,null,null,null,null,null,null,null,null,null,null,null,"",{"$f":"IF(YEAR(L374)>1900,Einstellungen!$C$10-YEAR(L374),\"---\")","v":"---"},"0000-0000-f-19000100",1,357,"","",1,357,"","","0000","0000","f","19000100",1900,"01","00"]
["","",null,null,null,null,null,null,null,null,null,null,null,null,null,null,"",{"$f":"IF(YEAR(L375)>1900,Einstellungen!$C$10-YEAR(L375),\"---\")","v":"---"},"0000-0000-f-19000100",1,358,"","",1,358,"","","0000","0000","f","19000100",1900,"01","00"]
["","",null,null,null,null,null,null,null,null,null,null,null,null,null,null,"",{"$f":"IF(YEAR(L376)>1900,Einstellungen!$C$10-YEAR(L376),\"---\")","v":"---"},"0000-0000-f-19000100",1,359,"","",1,359,"","","0000","0000","f","19000100",1900,"01","00"]
["","",null,null,null,null,null,null,null,null,null,null,null,null,null,null,"",{"$f":"IF(YEAR(L377)>1900,Einstellungen!$C$10-YEAR(L377),\"---\")","v":"---"},"0000-0000-f-19000100",1,360,"","",1,360,"","","0000","0000","f","19000100",1900,"01","00"]
["","",null,null,null,null,null,null,null,null,null,null,null,null,null,null,"",{"$f":"IF(YEAR(L378)>1900,Einstellungen!$C$10-YEAR(L378),\"---\")","v":"---"},"0000-0000-f-19000100",1,361,"","",1,361,"","","0000","0000","f","19000100",1900,"01","00"]
["","",null,null,null,null,null,null,null,null,null,null,null,null,null,null,"",{"$f":"IF(YEAR(L379)>1900,Einstellungen!$C$10-YEAR(L379),\"---\")","v":"---"},"0000-0000-f-19000100",1,362,"","",1,362,"","","0000","0000","f","19000100",1900,"01","00"]
["","",null,null,null,null,null,null,null,null,null,null,null,null,null,null,"",{"$f":"IF(YEAR(L380)>1900,Einstellungen!$C$10-YEAR(L380),\"---\")","v":"---"},"0000-0000-f-19000100",1,363,"","",1,363,"","","0000","0000","f","19000100",1900,"01","00"]
["","",null,null,null,null,null,null,null,null,null,null,null,null,null,null,"",{"$f":"IF(YEAR(L381)>1900,Einstellungen!$C$10-YEAR(L381),\"---\")","v":"---"},"0000-0000-f-19000100",1,364,"","",1,364,"","","0000","0000","f","19000100",1900,"01","00"]
["","",null,null,null,null,null,null,null,null,null,null,null,null,null,null,"",{"$f":"IF(YEAR(L382)>1900,Einstellungen!$C$10-YEAR(L382),\"---\")","v":"---"},"0000-0000-f-19000100",1,365,"","",1,365,"","","0000","0000","f","19000100",1900,"01","00"]
["","",null,null,null,null,null,null,null,null,null,null,null,null,null,null,"",{"$f":"IF(YEAR(L383)>1900,Einstellungen!$C$10-YEAR(L383),\"---\")","v":"---"},"0000-0000-f-19000100",1,366,"","",1,366,"","","0000","0000","f","19000100",1900,"01","00"]
["","",null,null,null,null,null,null,null,null,null,null,null,null,null,null,"",{"$f":"IF(YEAR(L384)>1900,Einstellungen!$C$10-YEAR(L384),\"---\")","v":"---"},"0000-0000-f-19000100",1,367,"","",1,367,"","","0000","0000","f","19000100",1900,"01","00"]
["","",null,null,null,null,null,null,null,null,null,null,null,null,null,null,"",{"$f":"IF(YEAR(L385)>1900,Einstellungen!$C$10-YEAR(L385),\"---\")","v":"---"},"0000-0000-f-19000100",1,368,"","",1,368,"","","0000","0000","f","19000100",1900,"01","00"]
["","",null,null,null,null,null,null,null,null,null,null,null,null,null,null,"",{"$f":"IF(YEAR(L386)>1900,Einstellungen!$C$10-YEAR(L386),\"---\")","v":"---"},"0000-0000-f-19000100",1,369,"","",1,369,"","","0000","0000","f","19000100",1900,"01","00"]
["","",null,null,null,null,null,null,null,null,null,null,null,null,null,null,"",{"$f":"IF(YEAR(L387)>1900,Einstellungen!$C$10-YEAR(L387),\"---\")","v":"---"},"0000-0000-f-19000100",1,370,"","",1,370,"","","0000","0000","f","19000100",1900,"01","00"]
["","",null,null,null,null,null,null,null,null,null,null,null,null,null,null,"",{"$f":"IF(YEAR(L388)>1900,Einstellungen!$C$10-YEAR(L388),\"---\")","v":"---"},"0000-0000-f-19000100",1,371,"","",1,371,"","","0000","0000","f","19000100",1900,"01","00"]
["","",null,null,null,null,null,null,null,null,null,null,null,null,null,null,"",{"$f":"IF(YEAR(L389)>1900,Einstellungen!$C$10-YEAR(L389),\"---\")","v":"---"},"0000-0000-f-19000100",1,372,"","",1,372,"","","0000","0000","f","19000100",1900,"01","00"]
["","",null,null,null,null,null,null,null,null,null,null,null,null,null,null,"",{"$f":"IF(YEAR(L390)>1900,Einstellungen!$C$10-YEAR(L390),\"---\")","v":"---"},"0000-0000-f-19000100",1,373,"","",1,373,"","","0000","0000","f","19000100",1900,"01","00"]
["","",null,null,null,null,null,null,null,null,null,null,null,null,null,null,"",{"$f":"IF(YEAR(L391)>1900,Einstellungen!$C$10-YEAR(L391),\"---\")","v":"---"},"0000-0000-f-19000100",1,374,"","",1,374,"","","0000","0000","f","19000100",1900,"01","00"]
["","",null,null,null,null,null,null,null,null,null,null,null,null,null,null,"",{"$f":"IF(YEAR(L392)>1900,Einstellungen!$C$10-YEAR(L392),\"---\")","v":"---"},"0000-0000-f-19000100",1,375,"","",1,375,"","","0000","0000","f","19000100",1900,"01","00"]
["","",null,null,null,null,null,null,null,null,null,null,null,null,null,null,"",{"$f":"IF(YEAR(L393)>1900,Einstellungen!$C$10-YEAR(L393),\"---\")","v":"---"},"0000-0000-f-19000100",1,376,"","",1,376,"","","0000","0000","f","19000100",1900,"01","00"]
["","",null,null,null,null,null,null,null,null,null,null,null,null,null,null,"",{"$f":"IF(YEAR(L394)>1900,Einstellungen!$C$10-YEAR(L394),\"---\")","v":"---"},"0000-0000-f-19000100",1,377,"","",1,377,"","","0000","0000","f","19000100",1900,"01","00"]
["","",null,null,null,null,null,null,null,null,null,null,null,null,null,null,"",{"$f":"IF(YEAR(L395)>1900,Einstellungen!$C$10-YEAR(L395),\"---\")","v":"---"},"0000-0000-f-19000100",1,378,"","",1,378,"","","0000","0000","f","19000100",1900,"01","00"]
["","",null,null,null,null,null,null,null,null,null,null,null,null,null,null,"",{"$f":"IF(YEAR(L396)>1900,Einstellungen!$C$10-YEAR(L396),\"---\")","v":"---"},"0000-0000-f-19000100",1,379,"","",1,379,"","","0000","0000","f","19000100",1900,"01","00"]
["","",null,null,null,null,null,null,null,null,null,null,null,null,null,null,"",{"$f":"IF(YEAR(L397)>1900,Einstellungen!$C$10-YEAR(L397),\"---\")","v":"---"},"0000-0000-f-19000100",1,380,"","",1,380,"","","0000","0000","f","19000100",1900,"01","00"]
["","",null,null,null,null,null,null,null,null,null,null,null,null,null,null,"",{"$f":"IF(YEAR(L398)>1900,Einstellungen!$C$10-YEAR(L398),\"---\")","v":"---"},"0000-0000-f-19000100",1,381,"","",1,381,"","","0000","0000","f","19000100",1900,"01","00"]
["","",null,null,null,null,null,null,null,null,null,null,null,null,null,null,"",{"$f":"IF(YEAR(L399)>1900,Einstellungen!$C$10-YEAR(L399),\"---\")","v":"---"},"0000-0000-f-19000100",1,382,"","",1,382,"","","0000","0000","f","19000100",1900,"01","00"]
["","",null,null,null,null,null,null,null,null,null,null,null,null,null,null,"",{"$f":"IF(YEAR(L400)>1900,Einstellungen!$C$10-YEAR(L400),\"---\")","v":"---"},"0000-0000-f-19000100",1,383,"","",1,383,"","","0000","0000","f","19000100",1900,"01","00"]
["","",null,null,null,null,null,null,null,null,null,null,null,null,null,null,"",{"$f":"IF(YEAR(L401)>1900,Einstellungen!$C$10-YEAR(L401),\"---\")","v":"---"},"0000-0000-f-19000100",1,384,"","",1,384,"","","0000","0000","f","19000100",1900,"01","00"]
["","",null,null,null,null,null,null,null,null,null,null,null,null,null,null,{"$f":"IF(LEN(D402)>0,IF(P402=\"x\",\"\",\"x\"),\"\")","v":""},{"$f":"IF(YEAR(L402)>1900,Einstellungen!$C$10-YEAR(L402),\"---\")","v":"---"},"0000-0000-f-19000100",1,385,"","",1,385,"","","0000","0000","f","19000100",1900,"01","00"]
["","",null,null,null,null,null,null,null,null,null,null,null,null,null,null,"",{"$f":"IF(YEAR(L403)>1900,Einstellungen!$C$10-YEAR(L403),\"---\")","v":"---"},{"$f":"AB403 & \"-\" & AC403 & \"-\" & AD403 & \"-\" & AE403","v":"0000-0000-f-19000100"},{"$f":"IF(R403<=$AE$12,1,0)","v":1},{"$f":"IF(T403=1,U402+1,U402)","v":386},{"$f":"IF((M403+N403)>0,IF(T403=1,U403,\"-\"),\"\")","v":""},{"$f":"Z403 & AA403","v":""},{"$f":"IF(LEN(C403)>0, 0, T403)","v":1},{"$f":"Y402+X403","v":386},{"$f":"IF(X403=1,IF(Y403<=$Z$12,\"Q\",\"\"),\"\")","v":""},{"$f":"IF(X403=1, IF(Y403>$Z$12, IF(Y403<=($Z$12+$AA$12),\"R\",\"\"),\"\"), \"\")","v":""},{"$f":"IF(M403<1,\"0000\", IF(M403<10,\"000\"&M403, IF(M403<100,\"00\"&M403, IF(M403<1000,\"0\"&M403,\"\"& M403))))","v":"0000"},"0000",{"$f":"IF(O403=\"a\",\"a\",\"f\")","v":"f"},{"$f":"AF403&AG403&AH403","v":"19000100"},{"$f":"YEAR(L403)","v":1900},{"$f":"IF(MONTH(L403)<10,\"0\"&MONTH(L403),MONTH(L403))","v":"01"},{"$f":"IF(DAY(L403)<10,\"0\"&DAY(L403),DAY(L403))","v":"00"}]
["","",null,null,null,null,null,null,null,null,null,null,null,null,null,null,"",{"$f":"IF(YEAR(L404)>1900,Einstellungen!$C$10-YEAR(L404),\"---\")","v":"---"},"0000-0000-f-19000100",1,387,"","",1,387,"","","0000","0000","f","19000100",1900,"01","00"]
["","",null,null,null,null,null,null,null,null,null,null,null,null,null,null,"",{"$f":"IF(YEAR(L405)>1900,Einstellungen!$C$10-YEAR(L405),\"---\")","v":"---"},"0000-0000-f-19000100",1,388,"","",1,388,"","","0000","0000","f","19000100",1900,"01","00"]
["","",null,null,null,null,null,null,null,null,null,null,null,null,null,null,"",{"$f":"IF(YEAR(L406)>1900,Einstellungen!$C$10-YEAR(L406),\"---\")","v":"---"},"0000-0000-f-19000100",1,389,"","",1,389,"","","0000","0000","f","19000100",1900,"01","00"]
["","",null,null,null,null,null,null,null,null,null,null,null,null,null,null,"",{"$f":"IF(YEAR(L407)>1900,Einstellungen!$C$10-YEAR(L407),\"---\")","v":"---"},"0000-0000-f-19000100",1,390,"","",1,390,"","","0000","0000","f","19000100",1900,"01","00"]
["","",null,null,null,null,null,null,null,null,null,null,null,null,null,null,"",{"$f":"IF(YEAR(L408)>1900,Einstellungen!$C$10-YEAR(L408),\"---\")","v":"---"},"0000-0000-f-19000100",1,391,"","",1,391,"","","0000","0000","f","19000100",1900,"01","00"]
["","",null,null,null,null,null,null,null,null,null,null,null,null,null,null,"",{"$f":"IF(YEAR(L409)>1900,Einstellungen!$C$10-YEAR(L409),\"---\")","v":"---"},"0000-0000-f-19000100",1,392,"","",1,392,"","","0000","0000","f","19000100",1900,"01","00"]
["","",null,null,null,null,null,null,null,null,null,null,null,null,null,null,"",{"$f":"IF(YEAR(L410)>1900,Einstellungen!$C$10-YEAR(L410),\"---\")","v":"---"},"0000-0000-f-19000100",1,393,"","",1,393,"","","0000","0000","f","19000100",1900,"01","00"]
["","",null,null,null,null,null,null,null,null,null,null,null,null,null,null,"",{"$f":"IF(YEAR(L411)>1900,Einstellungen!$C$10-YEAR(L411),\"---\")","v":"---"},"0000-0000-f-19000100",1,394,"","",1,394,"","","0000","0000","f","19000100",1900,"01","00"]
["","",null,null,null,null,null,null,null,null,null,null,null,null,null,null,"",{"$f":"IF(YEAR(L412)>1900,Einstellungen!$C$10-YEAR(L412),\"---\")","v":"---"},"0000-0000-f-19000100",1,395,"","",1,395,"","","0000","0000","f","19000100",1900,"01","00"]
["","",null,null,null,null,null,null,null,null,null,null,null,null,null,null,"",{"$f":"IF(YEAR(L413)>1900,Einstellungen!$C$10-YEAR(L413),\"---\")","v":"---"},"0000-0000-f-19000100",1,396,"","",1,396,"","","0000","0000","f","19000100",1900,"01","00"]
["","",null,null,null,null,null,null,null,null,null,null,null,null,null,null,"",{"$f":"IF(YEAR(L414)>1900,Einstellungen!$C$10-YEAR(L414),\"---\")","v":"---"},"0000-0000-f-19000100",1,397,"","",1,397,"","","0000","0000","f","19000100",1900,"01","00"]
["","",null,null,null,null,null,null,null,null,null,null,null,null,null,null,"",{"$f":"IF(YEAR(L415)>1900,Einstellungen!$C$10-YEAR(L415),\"---\")","v":"---"},"0000-0000-f-19000100",1,398,"","",1,398,"","","0000","0000","f","19000100",1900,"01","00"]
["","",null,null,null,null,null,null,null,null,null,null,null,null,null,null,"",{"$f":"IF(YEAR(L416)>1900,Einstellungen!$C$10-YEAR(L416),\"---\")","v":"---"},"0000-0000-f-19000100",1,399,"","",1,399,"","","0000","0000","f","19000100",1900,"01","00"]
["","",null,null,null,null,null,null,null,null,null,null,null,null,null,null,"",{"$f":"IF(YEAR(L417)>1900,Einstellungen!$C$10-YEAR(L417),\"---\")","v":"---"},"0000-0000-f-19000100",1,400,"","",1,400,"","","0000","0000","f","19000100",1900,"01","00"]
["","",null,null,null,null,null,null,null,null,null,null,null,null,null,null,"",{"$f":"IF(YEAR(L418)>1900,Einstellungen!$C$10-YEAR(L418),\"---\")","v":"---"},"0000-0000-f-19000100",1,401,"","",1,401,"","","0000","0000","f","19000100",1900,"01","00"]
["","",null,null,null,null,null,null,null,null,null,null,null,null,null,null,"",{"$f":"IF(YEAR(L419)>1900,Einstellungen!$C$10-YEAR(L419),\"---\")","v":"---"},"0000-0000-f-19000100",1,402,"","",1,402,"","","0000","0000","f","19000100",1900,"01","00"]
["","",null,null,null,null,null,null,null,null,null,null,null,null,null,null,"",{"$f":"IF(YEAR(L420)>1900,Einstellungen!$C$10-YEAR(L420),\"---\")","v":"---"},"0000-0000-f-19000100",1,403,"","",1,403,"","","0000","0000","f","19000100",1900,"01","00"]
["","",null,null,null,null,null,null,null,null,null,null,null,null,null,null,"",{"$f":"IF(YEAR(L421)>1900,Einstellungen!$C$10-YEAR(L421),\"---\")","v":"---"},"0000-0000-f-19000100",1,404,"","",1,404,"","","0000","0000","f","19000100",1900,"01","00"]
["","",null,null,null,null,null,null,null,null,null,null,null,null,null,null,"",{"$f":"IF(YEAR(L422)>1900,Einstellungen!$C$10-YEAR(L422),\"---\")","v":"---"},"0000-0000-f-19000100",1,405,"","",1,405,"","","0000","0000","f","19000100",1900,"01","00"]
["","",null,null,null,null,null,null,null,null,null,null,null,null,null,null,"",{"$f":"IF(YEAR(L423)>1900,Einstellungen!$C$10-YEAR(L423),\"---\")","v":"---"},"0000-0000-f-19000100",1,406,"","",1,406,"","","0000","0000","f","19000100",1900,"01","00"]
["","",null,null,null,null,null,null,null,null,null,null,null,null,null,null,"",{"$f":"IF(YEAR(L424)>1900,Einstellungen!$C$10-YEAR(L424),\"---\")","v":"---"},"0000-0000-f-19000100",1,407,"","",1,407,"","","0000","0000","f","19000100",1900,"01","00"]
["","",null,null,null,null,null,null,null,null,null,null,null,null,null,null,"",{"$f":"IF(YEAR(L425)>1900,Einstellungen!$C$10-YEAR(L425),\"---\")","v":"---"},"0000-0000-f-19000100",1,408,"","",1,408,"","","0000","0000","f","19000100",1900,"01","00"]
["","",null,null,null,null,null,null,null,null,null,null,null,null,null,null,"",{"$f":"IF(YEAR(L426)>1900,Einstellungen!$C$10-YEAR(L426),\"---\")","v":"---"},"0000-0000-f-19000100",1,409,"","",1,409,"","","0000","0000","f","19000100",1900,"01","00"]
["","",null,null,null,null,null,null,null,null,null,null,null,null,null,null,"",{"$f":"IF(YEAR(L427)>1900,Einstellungen!$C$10-YEAR(L427),\"---\")","v":"---"},"0000-0000-f-19000100",1,410,"","",1,410,"","","0000","0000","f","19000100",1900,"01","00"]
["","",null,null,null,null,null,null,null,null,null,null,null,null,null,null,"",{"$f":"IF(YEAR(L428)>1900,Einstellungen!$C$10-YEAR(L428),\"---\")","v":"---"},"0000-0000-f-19000100",1,411,"","",1,411,"","","0000","0000","f","19000100",1900,"01","00"]
["","",null,null,null,null,null,null,null,null,null,null,null,null,null,null,"",{"$f":"IF(YEAR(L429)>1900,Einstellungen!$C$10-YEAR(L429),\"---\")","v":"---"},"0000-0000-f-19000100",1,412,"","",1,412,"","","0000","0000","f","19000100",1900,"01","00"]
["","",null,null,null,null,null,null,null,null,null,null,null,null,null,null,"",{"$f":"IF(YEAR(L430)>1900,Einstellungen!$C$10-YEAR(L430),\"---\")","v":"---"},"0000-0000-f-19000100",1,413,"","",1,413,"","","0000","0000","f","19000100",1900,"01","00"]
["","",null,null,null,null,null,null,null,null,null,null,null,null,null,null,"",{"$f":"IF(YEAR(L431)>1900,Einstellungen!$C$10-YEAR(L431),\"---\")","v":"---"},"0000-0000-f-19000100",1,414,"","",1,414,"","","0000","0000","f","19000100",1900,"01","00"]
["","",null,null,null,null,null,null,null,null,null,null,null,null,null,null,"",{"$f":"IF(YEAR(L432)>1900,Einstellungen!$C$10-YEAR(L432),\"---\")","v":"---"},"0000-0000-f-19000100",1,415,"","",1,415,"","","0000","0000","f","19000100",1900,"01","00"]
["","",null,null,null,null,null,null,null,null,null,null,null,null,null,null,"",{"$f":"IF(YEAR(L433)>1900,Einstellungen!$C$10-YEAR(L433),\"---\")","v":"---"},"0000-0000-f-19000100",1,416,"","",1,416,"","","0000","0000","f","19000100",1900,"01","00"]
["","",null,null,null,null,null,null,null,null,null,null,null,null,null,null,"",{"$f":"IF(YEAR(L434)>1900,Einstellungen!$C$10-YEAR(L434),\"---\")","v":"---"},"0000-0000-f-19000100",1,417,"","",1,417,"","","0000","0000","f","19000100",1900,"01","00"]
["","",null,null,null,null,null,null,null,null,null,null,null,null,null,null,"",{"$f":"IF(YEAR(L435)>1900,Einstellungen!$C$10-YEAR(L435),\"---\")","v":"---"},"0000-0000-f-19000100",1,418,"","",1,418,"","","0000","0000","f","19000100",1900,"01","00"]
["","",null,null,null,null,null,null,null,null,null,null,null,null,null,null,"",{"$f":"IF(YEAR(L436)>1900,Einstellungen!$C$10-YEAR(L436),\"---\")","v":"---"},"0000-0000-f-19000100",1,419,"","",1,419,"","","0000","0000","f","19000100",1900,"01","00"]
["","",null,null,null,null,null,null,null,null,null,null,null,null,null,null,"",{"$f":"IF(YEAR(L437)>1900,Einstellungen!$C$10-YEAR(L437),\"---\")","v":"---"},"0000-0000-f-19000100",1,420,"","",1,420,"","","0000","0000","f","19000100",1900,"01","00"]
["","",null,null,null,null,null,null,null,null,null,null,null,null,null,null,"",{"$f":"IF(YEAR(L438)>1900,Einstellungen!$C$10-YEAR(L438),\"---\")","v":"---"},"0000-0000-f-19000100",1,421,"","",1,421,"","","0000","0000","f","19000100",1900,"01","00"]
["","",null,null,null,null,null,null,null,null,null,null,null,null,null,null,"",{"$f":"IF(YEAR(L439)>1900,Einstellungen!$C$10-YEAR(L439),\"---\")","v":"---"},"0000-0000-f-19000100",1,422,"","",1,422,"","","0000","0000","f","19000100",1900,"01","00"]
["","",null,null,null,null,null,null,null,null,null,null,null,null,null,null,"",{"$f":"IF(YEAR(L440)>1900,Einstellungen!$C$10-YEAR(L440),\"---\")","v":"---"},"0000-0000-f-19000100",1,423,"","",1,423,"","","0000","0000","f","19000100",1900,"01","00"]
["","",null,null,null,null,null,null,null,null,null,null,null,null,null,null,"",{"$f":"IF(YEAR(L441)>1900,Einstellungen!$C$10-YEAR(L441),\"---\")","v":"---"},"0000-0000-f-19000100",1,424,"","",1,424,"","","0000","0000","f","19000100",1900,"01","00"]
["","",null,null,null,null,null,null,null,null,null,null,null,null,null,null,"",{"$f":"IF(YEAR(L442)>1900,Einstellungen!$C$10-YEAR(L442),\"---\")","v":"---"},"0000-0000-f-19000100",1,425,"","",1,425,"","","0000","0000","f","19000100",1900,"01","00"]
["","",null,null,null,null,null,null,null,null,null,null,null,null,null,null,"",{"$f":"IF(YEAR(L443)>1900,Einstellungen!$C$10-YEAR(L443),\"---\")","v":"---"},"0000-0000-f-19000100",1,426,"","",1,426,"","","0000","0000","f","19000100",1900,"01","00"]
["","",null,null,null,null,null,null,null,null,null,null,null,null,null,null,"",{"$f":"IF(YEAR(L444)>1900,Einstellungen!$C$10-YEAR(L444),\"---\")","v":"---"},"0000-0000-f-19000100",1,427,"","",1,427,"","","0000","0000","f","19000100",1900,"01","00"]
["","",null,null,null,null,null,null,null,null,null,null,null,null,null,null,"",{"$f":"IF(YEAR(L445)>1900,Einstellungen!$C$10-YEAR(L445),\"---\")","v":"---"},"0000-0000-f-19000100",1,428,"","",1,428,"","","0000","0000","f","19000100",1900,"01","00"]
["","",null,null,null,null,null,null,null,null,null,null,null,null,null,null,"",{"$f":"IF(YEAR(L446)>1900,Einstellungen!$C$10-YEAR(L446),\"---\")","v":"---"},"0000-0000-f-19000100",1,429,"","",1,429,"","","0000","0000","f","19000100",1900,"01","00"]
["","",null,null,null,null,null,null,null,null,null,null,null,null,null,null,"",{"$f":"IF(YEAR(L447)>1900,Einstellungen!$C$10-YEAR(L447),\"---\")","v":"---"},"0000-0000-f-19000100",1,430,"","",1,430,"","","0000","0000","f","19000100",1900,"01","00"]
["","",null,null,null,null,null,null,null,null,null,null,null,null,null,null,"",{"$f":"IF(YEAR(L448)>1900,Einstellungen!$C$10-YEAR(L448),\"---\")","v":"---"},"0000-0000-f-19000100",1,431,"","",1,431,"","","0000","0000","f","19000100",1900,"01","00"]
["","",null,null,null,null,null,null,null,null,null,null,null,null,null,null,"",{"$f":"IF(YEAR(L449)>1900,Einstellungen!$C$10-YEAR(L449),\"---\")","v":"---"},"0000-0000-f-19000100",1,432,"","",1,432,"","","0000","0000","f","19000100",1900,"01","00"]
["","",null,null,null,null,null,null,null,null,null,null,null,null,null,null,"",{"$f":"IF(YEAR(L450)>1900,Einstellungen!$C$10-YEAR(L450),\"---\")","v":"---"},"0000-0000-f-19000100",1,433,"","",1,433,"","","0000","0000","f","19000100",1900,"01","00"]
["","",null,null,null,null,null,null,null,null,null,null,null,null,null,null,"",{"$f":"IF(YEAR(L451)>1900,Einstellungen!$C$10-YEAR(L451),\"---\")","v":"---"},"0000-0000-f-19000100",1,434,"","",1,434,"","","0000","0000","f","19000100",1900,"01","00"]
["","",null,null,null,null,null,null,null,null,null,null,null,null,null,null,"",{"$f":"IF(YEAR(L452)>1900,Einstellungen!$C$10-YEAR(L452),\"---\")","v":"---"},"0000-0000-f-19000100",1,435,"","",1,435,"","","0000","0000","f","19000100",1900,"01","00"]
["","",null,null,null,null,null,null,null,null,null,null,null,null,null,null,"",{"$f":"IF(YEAR(L453)>1900,Einstellungen!$C$10-YEAR(L453),\"---\")","v":"---"},"0000-0000-f-19000100",1,436,"","",1,436,"","","0000","0000","f","19000100",1900,"01","00"]
["","",null,null,null,null,null,null,null,null,null,null,null,null,null,null,"",{"$f":"IF(YEAR(L454)>1900,Einstellungen!$C$10-YEAR(L454),\"---\")","v":"---"},"0000-0000-f-19000100",1,437,"","",1,437,"","","0000","0000","f","19000100",1900,"01","00"]
["","",null,null,null,null,null,null,null,null,null,null,null,null,null,null,"",{"$f":"IF(YEAR(L455)>1900,Einstellungen!$C$10-YEAR(L455),\"---\")","v":"---"},"0000-0000-f-19000100",1,438,"","",1,438,"","","0000","0000","f","19000100",1900,"01","00"]
["","",null,null,null,null,null,null,null,null,null,null,null,null,null,null,"",{"$f":"IF(YEAR(L456)>1900,Einstellungen!$C$10-YEAR(L456),\"---\")","v":"---"},"0000-0000-f-19000100",1,439,"","",1,439,"","","0000","0000","f","19000100",1900,"01","00"]
["","",null,null,null,null,null,null,null,null,null,null,null,null,null,null,"",{"$f":"IF(YEAR(L457)>1900,Einstellungen!$C$10-YEAR(L457),\"---\")","v":"---"},"0000-0000-f-19000100",1,440,"","",1,440,"","","0000","0000","f","19000100",1900,"01","00"]
["","",null,null,null,null,null,null,null,null,null,null,null,null,null,null,"",{"$f":"IF(YEAR(L458)>1900,Einstellungen!$C$10-YEAR(L458),\"---\")","v":"---"},"0000-0000-f-19000100",1,441,"","",1,441,"","","0000","0000","f","19000100",1900,"01","00"]
["","",null,null,null,null,null,null,null,null,null,null,null,null,null,null,"",{"$f":"IF(YEAR(L459)>1900,Einstellungen!$C$10-YEAR(L459),\"---\")","v":"---"},"0000-0000-f-19000100",1,442,"","",1,442,"","","0000","0000","f","19000100",1900,"01","00"]
["","",null,null,null,null,null,null,null,null,null,null,null,null,null,null,"",{"$f":"IF(YEAR(L460)>1900,Einstellungen!$C$10-YEAR(L460),\"---\")","v":"---"},"0000-0000-f-19000100",1,443,"","",1,443,"","","0000","0000","f","19000100",1900,"01","00"]
["","",null,null,null,null,null,null,null,null,null,null,null,null,null,null,"",{"$f":"IF(YEAR(L461)>1900,Einstellungen!$C$10-YEAR(L461),\"---\")","v":"---"},"0000-0000-f-19000100",1,444,"","",1,444,"","","0000","0000","f","19000100",1900,"01","00"]
["","",null,null,null,null,null,null,null,null,null,null,null,null,null,null,"",{"$f":"IF(YEAR(L462)>1900,Einstellungen!$C$10-YEAR(L462),\"---\")","v":"---"},"0000-0000-f-19000100",1,445,"","",1,445,"","","0000","0000","f","19000100",1900,"01","00"]
["","",null,null,null,null,null,null,null,null,null,null,null,null,null,null,"",{"$f":"IF(YEAR(L463)>1900,Einstellungen!$C$10-YEAR(L463),\"---\")","v":"---"},"0000-0000-f-19000100",1,446,"","",1,446,"","","0000","0000","f","19000100",1900,"01","00"]
["","",null,null,null,null,null,null,null,null,null,null,null,null,null,null,"",{"$f":"IF(YEAR(L464)>1900,Einstellungen!$C$10-YEAR(L464),\"---\")","v":"---"},"0000-0000-f-19000100",1,447,"","",1,447,"","","0000","0000","f","19000100",1900,"01","00"]
["","",null,null,null,null,null,null,null,null,null,null,null,null,null,null,"",{"$f":"IF(YEAR(L465)>1900,Einstellungen!$C$10-YEAR(L465),\"---\")","v":"---"},"0000-0000-f-19000100",1,448,"","",1,448,"","","0000","0000","f","19000100",1900,"01","00"]
["","",null,null,null,null,null,null,null,null,null,null,null,null,null,null,{"$f":"IF(LEN(D466)>0,IF(P466=\"x\",\"\",\"x\"),\"\")","v":""},{"$f":"IF(YEAR(L466)>1900,Einstellungen!$C$10-YEAR(L466),\"---\")","v":"---"},"0000-0000-f-19000100",1,449,"","",1,449,"","","0000","0000","f","19000100",1900,"01","00"]
["","",null,null,null,null,null,null,null,null,null,null,null,null,null,null,"",{"$f":"IF(YEAR(L467)>1900,Einstellungen!$C$10-YEAR(L467),\"---\")","v":"---"},{"$f":"AB467 & \"-\" & AC467 & \"-\" & AD467 & \"-\" & AE467","v":"0000-0000-f-19000100"},{"$f":"IF(R467<=$AE$12,1,0)","v":1},{"$f":"IF(T467=1,U466+1,U466)","v":450},{"$f":"IF((M467+N467)>0,IF(T467=1,U467,\"-\"),\"\")","v":""},{"$f":"Z467 & AA467","v":""},{"$f":"IF(LEN(C467)>0, 0, T467)","v":1},{"$f":"Y466+X467","v":450},{"$f":"IF(X467=1,IF(Y467<=$Z$12,\"Q\",\"\"),\"\")","v":""},{"$f":"IF(X467=1, IF(Y467>$Z$12, IF(Y467<=($Z$12+$AA$12),\"R\",\"\"),\"\"), \"\")","v":""},{"$f":"IF(M467<1,\"0000\", IF(M467<10,\"000\"&M467, IF(M467<100,\"00\"&M467, IF(M467<1000,\"0\"&M467,\"\"& M467))))","v":"0000"},"0000",{"$f":"IF(O467=\"a\",\"a\",\"f\")","v":"f"},{"$f":"AF467&AG467&AH467","v":"19000100"},{"$f":"YEAR(L467)","v":1900},{"$f":"IF(MONTH(L467)<10,\"0\"&MONTH(L467),MONTH(L467))","v":"01"},{"$f":"IF(DAY(L467)<10,\"0\"&DAY(L467),DAY(L467))","v":"00"}]
["","",null,null,null,null,null,null,null,null,null,null,null,null,null,null,"",{"$f":"IF(YEAR(L468)>1900,Einstellungen!$C$10-YEAR(L468),\"---\")","v":"---"},"0000-0000-f-19000100",1,451,"","",1,451,"","","0000","0000","f","19000100",1900,"01","00"]
["","",null,null,null,null,null,null,null,null,null,null,null,null,null,null,"",{"$f":"IF(YEAR(L469)>1900,Einstellungen!$C$10-YEAR(L469),\"---\")","v":"---"},"0000-0000-f-19000100",1,452,"","",1,452,"","","0000","0000","f","19000100",1900,"01","00"]
["","",null,null,null,null,null,null,null,null,null,null,null,null,null,null,"",{"$f":"IF(YEAR(L470)>1900,Einstellungen!$C$10-YEAR(L470),\"---\")","v":"---"},"0000-0000-f-19000100",1,453,"","",1,453,"","","0000","0000","f","19000100",1900,"01","00"]
["","",null,null,null,null,null,null,null,null,null,null,null,null,null,null,"",{"$f":"IF(YEAR(L471)>1900,Einstellungen!$C$10-YEAR(L471),\"---\")","v":"---"},"0000-0000-f-19000100",1,454,"","",1,454,"","","0000","0000","f","19000100",1900,"01","00"]
["","",null,null,null,null,null,null,null,null,null,null,null,null,null,null,"",{"$f":"IF(YEAR(L472)>1900,Einstellungen!$C$10-YEAR(L472),\"---\")","v":"---"},"0000-0000-f-19000100",1,455,"","",1,455,"","","0000","0000","f","19000100",1900,"01","00"]
["","",null,null,null,null,null,null,null,null,null,null,null,null,null,null,"",{"$f":"IF(YEAR(L473)>1900,Einstellungen!$C$10-YEAR(L473),\"---\")","v":"---"},"0000-0000-f-19000100",1,456,"","",1,456,"","","0000","0000","f","19000100",1900,"01","00"]
["","",null,null,null,null,null,null,null,null,null,null,null,null,null,null,"",{"$f":"IF(YEAR(L474)>1900,Einstellungen!$C$10-YEAR(L474),\"---\")","v":"---"},"0000-0000-f-19000100",1,457,"","",1,457,"","","0000","0000","f","19000100",1900,"01","00"]
["","",null,null,null,null,null,null,null,null,null,null,null,null,null,null,"",{"$f":"IF(YEAR(L475)>1900,Einstellungen!$C$10-YEAR(L475),\"---\")","v":"---"},"0000-0000-f-19000100",1,458,"","",1,458,"","","0000","0000","f","19000100",1900,"01","00"]
["","",null,null,null,null,null,null,null,null,null,null,null,null,null,null,"",{"$f":"IF(YEAR(L476)>1900,Einstellungen!$C$10-YEAR(L476),\"---\")","v":"---"},"0000-0000-f-19000100",1,459,"","",1,459,"","","0000","0000","f","19000100",1900,"01","00"]
["","",null,null,null,null,null,null,null,null,null,null,null,null,null,null,"",{"$f":"IF(YEAR(L477)>1900,Einstellungen!$C$10-YEAR(L477),\"---\")","v":"---"},"0000-0000-f-19000100",1,460,"","",1,460,"","","0000","0000","f","19000100",1900,"01","00"]
["","",null,null,null,null,null,null,null,null,null,null,null,null,null,null,"",{"$f":"IF(YEAR(L478)>1900,Einstellungen!$C$10-YEAR(L478),\"---\")","v":"---"},"0000-0000-f-19000100",1,461,"","",1,461,"","","0000","0000","f","19000100",1900,"01","00"]
["","",null,null,null,null,null,null,null,null,null,null,null,null,null,null,"",{"$f":"IF(YEAR(L479)>1900,Einstellungen!$C$10-YEAR(L479),\"---\")","v":"---"},"0000-0000-f-19000100",1,462,"","",1,462,"","","0000","0000","f","19000100",1900,"01","00"]
["","",null,null,null,null,null,null,null,null,null,null,null,null,null,null,"",{"$f":"IF(YEAR(L480)>1900,Einstellungen!$C$10-YEAR(L480),\"---\")","v":"---"},"0000-0000-f-19000100",1,463,"","",1,463,"","","0000","0000","f","19000100",1900,"01","00"]
["","",null,null,null,null,null,null,null,null,null,null,null,null,null,null,"",{"$f":"IF(YEAR(L481)>1900,Einstellungen!$C$10-YEAR(L481),\"---\")","v":"---"},"0000-0000-f-19000100",1,464,"","",1,464,"","","0000","0000","f","19000100",1900,"01","00"]
["","",null,null,null,null,null,null,null,null,null,null,null,null,null,null,"",{"$f":"IF(YEAR(L482)>1900,Einstellungen!$C$10-YEAR(L482),\"---\")","v":"---"},"0000-0000-f-19000100",1,465,"","",1,465,"","","0000","0000","f","19000100",1900,"01","00"]
["","",null,null,null,null,null,null,null,null,null,null,null,null,null,null,"",{"$f":"IF(YEAR(L483)>1900,Einstellungen!$C$10-YEAR(L483),\"---\")","v":"---"},"0000-0000-f-19000100",1,466,"","",1,466,"","","0000","0000","f","19000100",1900,"01","00"]
["","",null,null,null,null,null,null,null,null,null,null,null,null,null,null,"",{"$f":"IF(YEAR(L484)>1900,Einstellungen!$C$10-YEAR(L484),\"---\")","v":"---"},"0000-0000-f-19000100",1,467,"","",1,467,"","","0000","0000","f","19000100",1900,"01","00"]
["","",null,null,null,null,null,null,null,null,null,null,null,null,null,null,"",{"$f":"IF(YEAR(L485)>1900,Einstellungen!$C$10-YEAR(L485),\"---\")","v":"---"},"0000-0000-f-19000100",1,468,"","",1,468,"","","0000","0000","f","19000100",1900,"01","00"]
["","",null,null,null,null,null,null,null,null,null,null,null,null,null,null,"",{"$f":"IF(YEAR(L486)>1900,Einstellungen!$C$10-YEAR(L486),\"---\")","v":"---"},"0000-0000-f-19000100",1,469,"","",1,469,"","","0000","0000","f","19000100",1900,"01","00"]
["","",null,null,null,null,null,null,null,null,null,null,null,null,null,null,"",{"$f":"IF(YEAR(L487)>1900,Einstellungen!$C$10-YEAR(L487),\"---\")","v":"---"},"0000-0000-f-19000100",1,470,"","",1,470,"","","0000","0000","f","19000100",1900,"01","00"]
["","",null,null,null,null,null,null,null,null,null,null,null,null,null,null,"",{"$f":"IF(YEAR(L488)>1900,Einstellungen!$C$10-YEAR(L488),\"---\")","v":"---"},"0000-0000-f-19000100",1,471,"","",1,471,"","","0000","0000","f","19000100",1900,"01","00"]
["","",null,null,null,null,null,null,null,null,null,null,null,null,null,null,"",{"$f":"IF(YEAR(L489)>1900,Einstellungen!$C$10-YEAR(L489),\"---\")","v":"---"},"0000-0000-f-19000100",1,472,"","",1,472,"","","0000","0000","f","19000100",1900,"01","00"]
["","",null,null,null,null,null,null,null,null,null,null,null,null,null,null,"",{"$f":"IF(YEAR(L490)>1900,Einstellungen!$C$10-YEAR(L490),\"---\")","v":"---"},"0000-0000-f-19000100",1,473,"","",1,473,"","","0000","0000","f","19000100",1900,"01","00"]
["","",null,null,null,null,null,null,null,null,null,null,null,null,null,null,"",{"$f":"IF(YEAR(L491)>1900,Einstellungen!$C$10-YEAR(L491),\"---\")","v":"---"},"0000-0000-f-19000100",1,474,"","",1,474,"","","0000","0000","f","19000100",1900,"01","00"]
["","",null,null,null,null,null,null,null,null,null,null,null,null,null,null,"",{"$f":"IF(YEAR(L492)>1900,Einstellungen!$C$10-YEAR(L492),\"---\")","v":"---"},"0000-0000-f-19000100",1,475,"","",1,475,"","","0000","0000","f","19000100",1900,"01","00"]
["","",null,null,null,null,null,null,null,null,null,null,null,null,null,null,"",{"$f":"IF(YEAR(L493)>1900,Einstellungen!$C$10-YEAR(L493),\"---\")","v":"---"},"0000-0000-f-19000100",1,476,"","",1,476,"","","0000","0000","f","19000100",1900,"01","00"]
["","",null,null,null,null,null,null,null,null,null,null,null,null,null,null,"",{"$f":"IF(YEAR(L494)>1900,Einstellungen!$C$10-YEAR(L494),\"---\")","v":"---"},"0000-0000-f-19000100",1,477,"","",1,477,"","","0000","0000","f","19000100",1900,"01","00"]
["","",null,null,null,null,null,null,null,null,null,null,null,null,null,null,"",{"$f":"IF(YEAR(L495)>1900,Einstellungen!$C$10-YEAR(L495),\"---\")","v":"---"},"0000-0000-f-19000100",1,478,"","",1,478,"","","0000","0000","f","19000100",1900,"01","00"]
["","",null,null,null,null,null,null,null,null,null,null,null,null,null,null,"",{"$f":"IF(YEAR(L496)>1900,Einstellungen!$C$10-YEAR(L496),\"---\")","v":"---"},"0000-0000-f-19000100",1,479,"","",1,479,"","","0000","0000","f","19000100",1900,"01","00"]
["","",null,null,null,null,null,null,null,null,null,null,null,null,null,null,"",{"$f":"IF(YEAR(L497)>1900,Einstellungen!$C$10-YEAR(L497),\"---\")","v":"---"},"0000-0000-f-19000100",1,480,"","",1,480,"","","0000","0000","f","19000100",1900,"01","00"]
["","",null,null,null,null,null,null,null,null,null,null,null,null,null,null,"",{"$f":"IF(YEAR(L498)>1900,Einstellungen!$C$10-YEAR(L498),\"---\")","v":"---"},"0000-0000-f-19000100",1,481,"","",1,481,"","","0000","0000","f","19000100",1900,"01","00"]
["","",null,null,null,null,null,null,null,null,null,null,null,null,null,null,"",{"$f":"IF(YEAR(L499)>1900,Einstellungen!$C$10-YEAR(L499),\"---\")","v":"---"},"0000-0000-f-19000100",1,482,"","",1,482,"","","0000","0000","f","19000100",1900,"01","00"]
["","",null,null,null,null,null,null,null,null,null,null,null,null,null,null,"",{"$f":"IF(YEAR(L500)>1900,Einstellungen!$C$10-YEAR(L500),\"---\")","v":"---"},"0000-0000-f-19000100",1,483,"","",1,483,"","","0000","0000","f","19000100",1900,"01","00"]
["","",null,null,null,null,null,null,null,null,null,null,null,null,null,null,"",{"$f":"IF(YEAR(L501)>1900,Einstellungen!$C$10-YEAR(L501),\"---\")","v":"---"},"0000-0000-f-19000100",1,484,"","",1,484,"","","0000","0000","f","19000100",1900,"01","00"]
["","",null,null,null,null,null,null,null,null,null,null,null,null,null,null,"",{"$f":"IF(YEAR(L502)>1900,Einstellungen!$C$10-YEAR(L502),\"---\")","v":"---"},"0000-0000-f-19000100",1,485,"","",1,485,"","","0000","0000","f","19000100",1900,"01","00"]
["","",null,null,null,null,null,null,null,null,null,null,null,null,null,null,"",{"$f":"IF(YEAR(L503)>1900,Einstellungen!$C$10-YEAR(L503),\"---\")","v":"---"},"0000-0000-f-19000100",1,486,"","",1,486,"","","0000","0000","f","19000100",1900,"01","00"]
["","",null,null,null,null,null,null,null,null,null,null,null,null,null,null,"",{"$f":"IF(YEAR(L504)>1900,Einstellungen!$C$10-YEAR(L504),\"---\")","v":"---"},"0000-0000-f-19000100",1,487,"","",1,487,"","","0000","0000","f","19000100",1900,"01","00"]
["","",null,null,null,null,null,null,null,null,null,null,null,null,null,null,"",{"$f":"IF(YEAR(L505)>1900,Einstellungen!$C$10-YEAR(L505),\"---\")","v":"---"},"0000-0000-f-19000100",1,488,"","",1,488,"","","0000","0000","f","19000100",1900,"01","00"]
["","",null,null,null,null,null,null,null,null,null,null,null,null,null,null,"",{"$f":"IF(YEAR(L506)>1900,Einstellungen!$C$10-YEAR(L506),\"---\")","v":"---"},"0000-0000-f-19000100",1,489,"","",1,489,"","","0000","0000","f","19000100",1900,"01","00"]
["","",null,null,null,null,null,null,null,null,null,null,null,null,null,null,"",{"$f":"IF(YEAR(L507)>1900,Einstellungen!$C$10-YEAR(L507),\"---\")","v":"---"},"0000-0000-f-19000100",1,490,"","",1,490,"","","0000","0000","f","19000100",1900,"01","00"]
["","",null,null,null,null,null,null,null,null,null,null,null,null,null,null,"",{"$f":"IF(YEAR(L508)>1900,Einstellungen!$C$10-YEAR(L508),\"---\")","v":"---"},"0000-0000-f-19000100",1,491,"","",1,491,"","","0000","0000","f","19000100",1900,"01","00"]
["","",null,null,null,null,null,null,null,null,null,null,null,null,null,null,"",{"$f":"IF(YEAR(L509)>1900,Einstellungen!$C$10-YEAR(L509),\"---\")","v":"---"},"0000-0000-f-19000100",1,492,"","",1,492,"","","0000","0000","f","19000100",1900,"01","00"]
["","",null,null,null,null,null,null,null,null,null,null,null,null,null,null,"",{"$f":"IF(YEAR(L510)>1900,Einstellungen!$C$10-YEAR(L510),\"---\")","v":"---"},"0000-0000-f-19000100",1,493,"","",1,493,"","","0000","0000","f","19000100",1900,"01","00"]
["","",null,null,null,null,null,null,null,null,null,null,null,null,null,null,"",{"$f":"IF(YEAR(L511)>1900,Einstellungen!$C$10-YEAR(L511),\"---\")","v":"---"},"0000-0000-f-19000100",1,494,"","",1,494,"","","0000","0000","f","19000100",1900,"01","00"]
["","",null,null,null,null,null,null,null,null,null,null,null,null,null,null,"",{"$f":"IF(YEAR(L512)>1900,Einstellungen!$C$10-YEAR(L512),\"---\")","v":"---"},"0000-0000-f-19000100",1,495,"","",1,495,"","","0000","0000","f","19000100",1900,"01","00"]
["","",null,null,null,null,null,null,null,null,null,null,null,null,null,null,"",{"$f":"IF(YEAR(L513)>1900,Einstellungen!$C$10-YEAR(L513),\"---\")","v":"---"},"0000-0000-f-19000100",1,496,"","",1,496,"","","0000","0000","f","19000100",1900,"01","00"]
["","",null,null,null,null,null,null,null,null,null,null,null,null,null,null,"",{"$f":"IF(YEAR(L514)>1900,Einstellungen!$C$10-YEAR(L514),\"---\")","v":"---"},"0000-0000-f-19000100",1,497,"","",1,497,"","","0000","0000","f","19000100",1900,"01","00"]
["","",null,null,null,null,null,null,null,null,null,null,null,null,null,null,"",{"$f":"IF(YEAR(L515)>1900,Einstellungen!$C$10-YEAR(L515),\"---\")","v":"---"},"0000-0000-f-19000100",1,498,"","",1,498,"","","0000","0000","f","19000100",1900,"01","00"]
["","",null,null,null,null,null,null,null,null,null,null,null,null,null,null,"",{"$f":"IF(YEAR(L516)>1900,Einstellungen!$C$10-YEAR(L516),\"---\")","v":"---"},"0000-0000-f-19000100",1,499,"","",1,499,"","","0000","0000","f","19000100",1900,"01","00"]
["","",null,null,null,null,null,null,null,null,null,null,null,null,null,null,"",{"$f":"IF(YEAR(L517)>1900,Einstellungen!$C$10-YEAR(L517),\"---\")","v":"---"},"0000-0000-f-19000100",1,500,"","",1,500,"","","0000","0000","f","19000100",1900,"01","00"]
["","",null,null,null,null,null,null,null,null,null,null,null,null,null,null,"",{"$f":"IF(YEAR(L518)>1900,Einstellungen!$C$10-YEAR(L518),\"---\")","v":"---"},"0000-0000-f-19000100",1,501,"","",1,501,"","","0000","0000","f","19000100",1900,"01","00"]
["","",null,null,null,null,null,null,null,null,null,null,null,null,null,null,"",{"$f":"IF(YEAR(L519)>1900,Einstellungen!$C$10-YEAR(L519),\"---\")","v":"---"},"0000-0000-f-19000100",1,502,"","",1,502,"","","0000","0000","f","19000100",1900,"01","00"]
["","",null,null,null,null,null,null,null,null,null,null,null,null,null,null,"",{"$f":"IF(YEAR(L520)>1900,Einstellungen!$C$10-YEAR(L520),\"---\")","v":"---"},"0000-0000-f-19000100",1,503,"","",1,503,"","","0000","0000","f","19000100",1900,"01","00"]
["","",null,null,null,null,null,null,null,null,null,null,null,null,null,null,"",{"$f":"IF(YEAR(L521)>1900,Einstellungen!$C$10-YEAR(L521),\"---\")","v":"---"},"0000-0000-f-19000100",1,504,"","",1,504,"","","0000","0000","f","19000100",1900,"01","00"]
["","",null,null,null,null,null,null,null,null,null,null,null,null,null,null,"",{"$f":"IF(YEAR(L522)>1900,Einstellungen!$C$10-YEAR(L522),\"---\")","v":"---"},"0000-0000-f-19000100",1,505,"","",1,505,"","","0000","0000","f","19000100",1900,"01","00"]
["","",null,null,null,null,null,null,null,null,null,null,null,null,null,null,"",{"$f":"IF(YEAR(L523)>1900,Einstellungen!$C$10-YEAR(L523),\"---\")","v":"---"},"0000-0000-f-19000100",1,506,"","",1,506,"","","0000","0000","f","19000100",1900,"01","00"]
["","",null,null,null,null,null,null,null,null,null,null,null,null,null,null,"",{"$f":"IF(YEAR(L524)>1900,Einstellungen!$C$10-YEAR(L524),\"---\")","v":"---"},"0000-0000-f-19000100",1,507,"","",1,507,"","","0000","0000","f","19000100",1900,"01","00"]
["","",null,null,null,null,null,null,null,null,null,null,null,null,null,null,"",{"$f":"IF(YEAR(L525)>1900,Einstellungen!$C$10-YEAR(L525),\"---\")","v":"---"},"0000-0000-f-19000100",1,508,"","",1,508,"","","0000","0000","f","19000100",1900,"01","00"]
["","",null,null,null,null,null,null,null,null,null,null,null,null,null,null,"",{"$f":"IF(YEAR(L526)>1900,Einstellungen!$C$10-YEAR(L526),\"---\")","v":"---"},"0000-0000-f-19000100",1,509,"","",1,509,"","","0000","0000","f","19000100",1900,"01","00"]
["","",null,null,null,null,null,null,null,null,null,null,null,null,null,null,"",{"$f":"IF(YEAR(L527)>1900,Einstellungen!$C$10-YEAR(L527),\"---\")","v":"---"},"0000-0000-f-19000100",1,510,"","",1,510,"","","0000","0000","f","19000100",1900,"01","00"]
["","",null,null,null,null,null,null,null,null,null,null,null,null,null,null,"",{"$f":"IF(YEAR(L528)>1900,Einstellungen!$C$10-YEAR(L528),\"---\")","v":"---"},"0000-0000-f-19000100",1,511,"","",1,511,"","","0000","0000","f","19000100",1900,"01","00"]
["","",null,null,null,null,null,null,null,null,null,null,null,null,null,null,"",{"$f":"IF(YEAR(L529)>1900,Einstellungen!$C$10-YEAR(L529),\"---\")","v":"---"},"0000-0000-f-19000100",1,512,"","",1,512,"","","0000","0000","f","19000100",1900,"01","00"]
["","",null,null,null,null,null,null,null,null,null,null,null,null,null,null,{"$f":"IF(LEN(D530)>0,IF(P530=\"x\",\"\",\"x\"),\"\")","v":""},{"$f":"IF(YEAR(L530)>1900,Einstellungen!$C$10-YEAR(L530),\"---\")","v":"---"},"0000-0000-f-19000100",1,513,"","",1,513,"","","0000","0000","f","19000100",1900,"01","00"]
["","",null,null,null,null,null,null,null,null,null,null,null,null,null,null,"",{"$f":"IF(YEAR(L531)>1900,Einstellungen!$C$10-YEAR(L531),\"---\")","v":"---"},{"$f":"AB531 & \"-\" & AC531 & \"-\" & AD531 & \"-\" & AE531","v":"0000-0000-f-19000100"},{"$f":"IF(R531<=$AE$12,1,0)","v":1},{"$f":"IF(T531=1,U530+1,U530)","v":514},{"$f":"IF((M531+N531)>0,IF(T531=1,U531,\"-\"),\"\")","v":""},{"$f":"Z531 & AA531","v":""},{"$f":"IF(LEN(C531)>0, 0, T531)","v":1},{"$f":"Y530+X531","v":514},{"$f":"IF(X531=1,IF(Y531<=$Z$12,\"Q\",\"\"),\"\")","v":""},{"$f":"IF(X531=1, IF(Y531>$Z$12, IF(Y531<=($Z$12+$AA$12),\"R\",\"\"),\"\"), \"\")","v":""},{"$f":"IF(M531<1,\"0000\", IF(M531<10,\"000\"&M531, IF(M531<100,\"00\"&M531, IF(M531<1000,\"0\"&M531,\"\"& M531))))","v":"0000"},"0000",{"$f":"IF(O531=\"a\",\"a\",\"f\")","v":"f"},{"$f":"AF531&AG531&AH531","v":"19000100"},{"$f":"YEAR(L531)","v":1900},{"$f":"IF(MONTH(L531)<10,\"0\"&MONTH(L531),MONTH(L531))","v":"01"},{"$f":"IF(DAY(L531)<10,\"0\"&DAY(L531),DAY(L531))","v":"00"}]
["","",null,null,null,null,null,null,null,null,null,null,null,null,null,null,"",{"$f":"IF(YEAR(L532)>1900,Einstellungen!$C$10-YEAR(L532),\"---\")","v":"---"},"0000-0000-f-19000100",1,515,"","",1,515,"","","0000","0000","f","19000100",1900,"01","00"]
["","",null,null,null,null,null,null,null,null,null,null,null,null,null,null,"",{"$f":"IF(YEAR(L533)>1900,Einstellungen!$C$10-YEAR(L533),\"---\")","v":"---"},"0000-0000-f-19000100",1,516,"","",1,516,"","","0000","0000","f","19000100",1900,"01","00"]
["","",null,null,null,null,null,null,null,null,null,null,null,null,null,null,"",{"$f":"IF(YEAR(L534)>1900,Einstellungen!$C$10-YEAR(L534),\"---\")","v":"---"},"0000-0000-f-19000100",1,517,"","",1,517,"","","0000","0000","f","19000100",1900,"01","00"]
["","",null,null,null,null,null,null,null,null,null,null,null,null,null,null,"",{"$f":"IF(YEAR(L535)>1900,Einstellungen!$C$10-YEAR(L535),\"---\")","v":"---"},"0000-0000-f-19000100",1,518,"","",1,518,"","","0000","0000","f","19000100",1900,"01","00"]
["","",null,null,null,null,null,null,null,null,null,null,null,null,null,null,"",{"$f":"IF(YEAR(L536)>1900,Einstellungen!$C$10-YEAR(L536),\"---\")","v":"---"},"0000-0000-f-19000100",1,519,"","",1,519,"","","0000","0000","f","19000100",1900,"01","00"]
["","",null,null,null,null,null,null,null,null,null,null,null,null,null,null,"",{"$f":"IF(YEAR(L537)>1900,Einstellungen!$C$10-YEAR(L537),\"---\")","v":"---"},"0000-0000-f-19000100",1,520,"","",1,520,"","","0000","0000","f","19000100",1900,"01","00"]
["","",null,null,null,null,null,null,null,null,null,null,null,null,null,null,"",{"$f":"IF(YEAR(L538)>1900,Einstellungen!$C$10-YEAR(L538),\"---\")","v":"---"},"0000-0000-f-19000100",1,521,"","",1,521,"","","0000","0000","f","19000100",1900,"01","00"]
["","",null,null,null,null,null,null,null,null,null,null,null,null,null,null,"",{"$f":"IF(YEAR(L539)>1900,Einstellungen!$C$10-YEAR(L539),\"---\")","v":"---"},"0000-0000-f-19000100",1,522,"","",1,522,"","","0000","0000","f","19000100",1900,"01","00"]
["","",null,null,null,null,null,null,null,null,null,null,null,null,null,null,"",{"$f":"IF(YEAR(L540)>1900,Einstellungen!$C$10-YEAR(L540),\"---\")","v":"---"},"0000-0000-f-19000100",1,523,"","",1,523,"","","0000","0000","f","19000100",1900,"01","00"]
["","",null,null,null,null,null,null,null,null,null,null,null,null,null,null,"",{"$f":"IF(YEAR(L541)>1900,Einstellungen!$C$10-YEAR(L541),\"---\")","v":"---"},"0000-0000-f-19000100",1,524,"","",1,524,"","","0000","0000","f","19000100",1900,"01","00"]
["","",null,null,null,null,null,null,null,null,null,null,null,null,null,null,"",{"$f":"IF(YEAR(L542)>1900,Einstellungen!$C$10-YEAR(L542),\"---\")","v":"---"},"0000-0000-f-19000100",1,525,"","",1,525,"","","0000","0000","f","19000100",1900,"01","00"]
["","",null,null,null,null,null,null,null,null,null,null,null,null,null,null,"",{"$f":"IF(YEAR(L543)>1900,Einstellungen!$C$10-YEAR(L543),\"---\")","v":"---"},"0000-0000-f-19000100",1,526,"","",1,526,"","","0000","0000","f","19000100",1900,"01","00"]
["","",null,null,null,null,null,null,null,null,null,null,null,null,null,null,"",{"$f":"IF(YEAR(L544)>1900,Einstellungen!$C$10-YEAR(L544),\"---\")","v":"---"},"0000-0000-f-19000100",1,527,"","",1,527,"","","0000","0000","f","19000100",1900,"01","00"]
["","",null,null,null,null,null,null,null,null,null,null,null,null,null,null,"",{"$f":"IF(YEAR(L545)>1900,Einstellungen!$C$10-YEAR(L545),\"---\")","v":"---"},"0000-0000-f-19000100",1,528,"","",1,528,"","","0000","0000","f","19000100",1900,"01","00"]
["","",null,null,null,null,null,null,null,null,null,null,null,null,null,null,"",{"$f":"IF(YEAR(L546)>1900,Einstellungen!$C$10-YEAR(L546),\"---\")","v":"---"},"0000-0000-f-19000100",1,529,"","",1,529,"","","0000","0000","f","19000100",1900,"01","00"]
["","",null,null,null,null,null,null,null,null,null,null,null,null,null,null,"",{"$f":"IF(YEAR(L547)>1900,Einstellungen!$C$10-YEAR(L547),\"---\")","v":"---"},"0000-0000-f-19000100",1,530,"","",1,530,"","","0000","0000","f","19000100",1900,"01","00"]
["","",null,null,null,null,null,null,null,null,null,null,null,null,null,null,"",{"$f":"IF(YEAR(L548)>1900,Einstellungen!$C$10-YEAR(L548),\"---\")","v":"---"},"0000-0000-f-19000100",1,531,"","",1,531,"","","0000","0000","f","19000100",1900,"01","00"]
["","",null,null,null,null,null,null,null,null,null,null,null,null,null,null,"",{"$f":"IF(YEAR(L549)>1900,Einstellungen!$C$10-YEAR(L549),\"---\")","v":"---"},"0000-0000-f-19000100",1,532,"","",1,532,"","","0000","0000","f","19000100",1900,"01","00"]
["","",null,null,null,null,null,null,null,null,null,null,null,null,null,null,"",{"$f":"IF(YEAR(L550)>1900,Einstellungen!$C$10-YEAR(L550),\"---\")","v":"---"},"0000-0000-f-19000100",1,533,"","",1,533,"","","0000","0000","f","19000100",1900,"01","00"]
["","",null,null,null,null,null,null,null,null,null,null,null,null,null,null,"",{"$f":"IF(YEAR(L551)>1900,Einstellungen!$C$10-YEAR(L551),\"---\")","v":"---"},"0000-0000-f-19000100",1,534,"","",1,534,"","","0000","0000","f","19000100",1900,"01","00"]
["","",null,null,null,null,null,null,null,null,null,null,null,null,null,null,"",{"$f":"IF(YEAR(L552)>1900,Einstellungen!$C$10-YEAR(L552),\"---\")","v":"---"},"0000-0000-f-19000100",1,535,"","",1,535,"","","0000","0000","f","19000100",1900,"01","00"]
["","",null,null,null,null,null,null,null,null,null,null,null,null,null,null,"",{"$f":"IF(YEAR(L553)>1900,Einstellungen!$C$10-YEAR(L553),\"---\")","v":"---"},"0000-0000-f-19000100",1,536,"","",1,536,"","","0000","0000","f","19000100",1900,"01","00"]
["","",null,null,null,null,null,null,null,null,null,null,null,null,null,null,"",{"$f":"IF(YEAR(L554)>1900,Einstellungen!$C$10-YEAR(L554),\"---\")","v":"---"},"0000-0000-f-19000100",1,537,"","",1,537,"","","0000","0000","f","19000100",1900,"01","00"]
["","",null,null,null,null,null,null,null,null,null,null,null,null,null,null,"",{"$f":"IF(YEAR(L555)>1900,Einstellungen!$C$10-YEAR(L555),\"---\")","v":"---"},"0000-0000-f-19000100",1,538,"","",1,538,"","","0000","0000","f","19000100",1900,"01","00"]
["","",null,null,null,null,null,null,null,null,null,null,null,null,null,null,"",{"$f":"IF(YEAR(L556)>1900,Einstellungen!$C$10-YEAR(L556),\"---\")","v":"---"},"0000-0000-f-19000100",1,539,"","",1,539,"","","0000","0000","f","19000100",1900,"01","00"]
["","",null,null,null,null,null,null,null,null,null,null,null,null,null,null,"",{"$f":"IF(YEAR(L557)>1900,Einstellungen!$C$10-YEAR(L557),\"---\")","v":"---"},"0000-0000-f-19000100",1,540,"","",1,540,"","","0000","0000","f","19000100",1900,"01","00"]
["","",null,null,null,null,null,null,null,null,null,null,null,null,null,null,"",{"$f":"IF(YEAR(L558)>1900,Einstellungen!$C$10-YEAR(L558),\"---\")","v":"---"},"0000-0000-f-19000100",1,541,"","",1,541,"","","0000","0000","f","19000100",1900,"01","00"]
["","",null,null,null,null,null,null,null,null,null,null,null,null,null,null,"",{"$f":"IF(YEAR(L559)>1900,Einstellungen!$C$10-YEAR(L559),\"---\")","v":"---"},"0000-0000-f-19000100",1,542,"","",1,542,"","","0000","0000","f","19000100",1900,"01","00"]
["","",null,null,null,null,null,null,null,null,null,null,null,null,null,null,"",{"$f":"IF(YEAR(L560)>1900,Einstellungen!$C$10-YEAR(L560),\"---\")","v":"---"},"0000-0000-f-19000100",1,543,"","",1,543,"","","0000","0000","f","19000100",1900,"01","00"]
["","",null,null,null,null,null,null,null,null,null,null,null,null,null,null,"",{"$f":"IF(YEAR(L561)>1900,Einstellungen!$C$10-YEAR(L561),\"---\")","v":"---"},"0000-0000-f-19000100",1,544,"","",1,544,"","","0000","0000","f","19000100",1900,"01","00"]
["","",null,null,null,null,null,null,null,null,null,null,null,null,null,null,"",{"$f":"IF(YEAR(L562)>1900,Einstellungen!$C$10-YEAR(L562),\"---\")","v":"---"},"0000-0000-f-19000100",1,545,"","",1,545,"","","0000","0000","f","19000100",1900,"01","00"]
["","",null,null,null,null,null,null,null,null,null,null,null,null,null,null,"",{"$f":"IF(YEAR(L563)>1900,Einstellungen!$C$10-YEAR(L563),\"---\")","v":"---"},"0000-0000-f-19000100",1,546,"","",1,546,"","","0000","0000","f","19000100",1900,"01","00"]
["","",null,null,null,null,null,null,null,null,null,null,null,null,null,null,"",{"$f":"IF(YEAR(L564)>1900,Einstellungen!$C$10-YEAR(L564),\"---\")","v":"---"},"0000-0000-f-19000100",1,547,"","",1,547,"","","0000","0000","f","19000100",1900,"01","00"]
["","",null,null,null,null,null,null,null,null,null,null,null,null,null,null,"",{"$f":"IF(YEAR(L565)>1900,Einstellungen!$C$10-YEAR(L565),\"---\")","v":"---"},"0000-0000-f-19000100",1,548,"","",1,548,"","","0000","0000","f","19000100",1900,"01","00"]
["","",null,null,null,null,null,null,null,null,null,null,null,null,null,null,"",{"$f":"IF(YEAR(L566)>1900,Einstellungen!$C$10-YEAR(L566),\"---\")","v":"---"},"0000-0000-f-19000100",1,549,"","",1,549,"","","0000","0000","f","19000100",1900,"01","00"]
["","",null,null,null,null,null,null,null,null,null,null,null,null,null,null,"",{"$f":"IF(YEAR(L567)>1900,Einstellungen!$C$10-YEAR(L567),\"---\")","v":"---"},"0000-0000-f-19000100",1,550,"","",1,550,"","","0000","0000","f","19000100",1900,"01","00"]
["","",null,null,null,null,null,null,null,null,null,null,null,null,null,null,"",{"$f":"IF(YEAR(L568)>1900,Einstellungen!$C$10-YEAR(L568),\"---\")","v":"---"},"0000-0000-f-19000100",1,551,"","",1,551,"","","0000","0000","f","19000100",1900,"01","00"]
["","",null,null,null,null,null,null,null,null,null,null,null,null,null,null,"",{"$f":"IF(YEAR(L569)>1900,Einstellungen!$C$10-YEAR(L569),\"---\")","v":"---"},"0000-0000-f-19000100",1,552,"","",1,552,"","","0000","0000","f","19000100",1900,"01","00"]
["","",null,null,null,null,null,null,null,null,null,null,null,null,null,null,"",{"$f":"IF(YEAR(L570)>1900,Einstellungen!$C$10-YEAR(L570),\"---\")","v":"---"},"0000-0000-f-19000100",1,553,"","",1,553,"","","0000","0000","f","19000100",1900,"01","00"]
["","",null,null,null,null,null,null,null,null,null,null,null,null,null,null,"",{"$f":"IF(YEAR(L571)>1900,Einstellungen!$C$10-YEAR(L571),\"---\")","v":"---"},"0000-0000-f-19000100",1,554,"","",1,554,"","","0000","0000","f","19000100",1900,"01","00"]
["","",null,null,null,null,null,null,null,null,null,null,null,null,null,null,"",{"$f":"IF(YEAR(L572)>1900,Einstellungen!$C$10-YEAR(L572),\"---\")","v":"---"},"0000-0000-f-19000100",1,555,"","",1,555,"","","0000","0000","f","19000100",1900,"01","00"]
["","",null,null,null,null,null,null,null,null,null,null,null,null,null,null,"",{"$f":"IF(YEAR(L573)>1900,Einstellungen!$C$10-YEAR(L573),\"---\")","v":"---"},"0000-0000-f-19000100",1,556,"","",1,556,"","","0000","0000","f","19000100",1900,"01","00"]
["","",null,null,null,null,null,null,null,null,null,null,null,null,null,null,"",{"$f":"IF(YEAR(L574)>1900,Einstellungen!$C$10-YEAR(L574),\"---\")","v":"---"},"0000-0000-f-19000100",1,557,"","",1,557,"","","0000","0000","f","19000100",1900,"01","00"]
["","",null,null,null,null,null,null,null,null,null,null,null,null,null,null,"",{"$f":"IF(YEAR(L575)>1900,Einstellungen!$C$10-YEAR(L575),\"---\")","v":"---"},"0000-0000-f-19000100",1,558,"","",1,558,"","","0000","0000","f","19000100",1900,"01","00"]
["","",null,null,null,null,null,null,null,null,null,null,null,null,null,null,"",{"$f":"IF(YEAR(L576)>1900,Einstellungen!$C$10-YEAR(L576),\"---\")","v":"---"},"0000-0000-f-19000100",1,559,"","",1,559,"","","0000","0000","f","19000100",1900,"01","00"]
["","",null,null,null,null,null,null,null,null,null,null,null,null,null,null,"",{"$f":"IF(YEAR(L577)>1900,Einstellungen!$C$10-YEAR(L577),\"---\")","v":"---"},"0000-0000-f-19000100",1,560,"","",1,560,"","","0000","0000","f","19000100",1900,"01","00"]
["","",null,null,null,null,null,null,null,null,null,null,null,null,null,null,"",{"$f":"IF(YEAR(L578)>1900,Einstellungen!$C$10-YEAR(L578),\"---\")","v":"---"},"0000-0000-f-19000100",1,561,"","",1,561,"","","0000","0000","f","19000100",1900,"01","00"]
["","",null,null,null,null,null,null,null,null,null,null,null,null,null,null,"",{"$f":"IF(YEAR(L579)>1900,Einstellungen!$C$10-YEAR(L579),\"---\")","v":"---"},"0000-0000-f-19000100",1,562,"","",1,562,"","","0000","0000","f","19000100",1900,"01","00"]
["","",null,null,null,null,null,null,null,null,null,null,null,null,null,null,"",{"$f":"IF(YEAR(L580)>1900,Einstellungen!$C$10-YEAR(L580),\"---\")","v":"---"},"0000-0000-f-19000100",1,563,"","",1,563,"","","0000","0000","f","19000100",1900,"01","00"]
["","",null,null,null,null,null,null,null,null,null,null,null,null,null,null,"",{"$f":"IF(YEAR(L581)>1900,Einstellungen!$C$10-YEAR(L581),\"---\")","v":"---"},"0000-0000-f-19000100",1,564,"","",1,564,"","","0000","0000","f","19000100",1900,"01","00"]
["","",null,null,null,null,null,null,null,null,null,null,null,null,null,null,"",{"$f":"IF(YEAR(L582)>1900,Einstellungen!$C$10-YEAR(L582),\"---\")","v":"---"},"0000-0000-f-19000100",1,565,"","",1,565,"","","0000","0000","f","19000100",1900,"01","00"]
["","",null,null,null,null,null,null,null,null,null,null,null,null,null,null,"",{"$f":"IF(YEAR(L583)>1900,Einstellungen!$C$10-YEAR(L583),\"---\")","v":"---"},"0000-0000-f-19000100",1,566,"","",1,566,"","","0000","0000","f","19000100",1900,"01","00"]
["","",null,null,null,null,null,null,null,null,null,null,null,null,null,null,"",{"$f":"IF(YEAR(L584)>1900,Einstellungen!$C$10-YEAR(L584),\"---\")","v":"---"},"0000-0000-f-19000100",1,567,"","",1,567,"","","0000","0000","f","19000100",1900,"01","00"]
["","",null,null,null,null,null,null,null,null,null,null,null,null,null,null,"",{"$f":"IF(YEAR(L585)>1900,Einstellungen!$C$10-YEAR(L585),\"---\")","v":"---"},"0000-0000-f-19000100",1,568,"","",1,568,"","","0000","0000","f","19000100",1900,"01","00"]
["","",null,null,null,null,null,null,null,null,null,null,null,null,null,null,"",{"$f":"IF(YEAR(L586)>1900,Einstellungen!$C$10-YEAR(L586),\"---\")","v":"---"},"0000-0000-f-19000100",1,569,"","",1,569,"","","0000","0000","f","19000100",1900,"01","00"]
["","",null,null,null,null,null,null,null,null,null,null,null,null,null,null,"",{"$f":"IF(YEAR(L587)>1900,Einstellungen!$C$10-YEAR(L587),\"---\")","v":"---"},"0000-0000-f-19000100",1,570,"","",1,570,"","","0000","0000","f","19000100",1900,"01","00"]
["","",null,null,null,null,null,null,null,null,null,null,null,null,null,null,"",{"$f":"IF(YEAR(L588)>1900,Einstellungen!$C$10-YEAR(L588),\"---\")","v":"---"},"0000-0000-f-19000100",1,571,"","",1,571,"","","0000","0000","f","19000100",1900,"01","00"]
["","",null,null,null,null,null,null,null,null,null,null,null,null,null,null,"",{"$f":"IF(YEAR(L589)>1900,Einstellungen!$C$10-YEAR(L589),\"---\")","v":"---"},"0000-0000-f-19000100",1,572,"","",1,572,"","","0000","0000","f","19000100",1900,"01","00"]
["","",null,null,null,null,null,null,null,null,null,null,null,null,null,null,"",{"$f":"IF(YEAR(L590)>1900,Einstellungen!$C$10-YEAR(L590),\"---\")","v":"---"},"0000-0000-f-19000100",1,573,"","",1,573,"","","0000","0000","f","19000100",1900,"01","00"]
["","",null,null,null,null,null,null,null,null,null,null,null,null,null,null,"",{"$f":"IF(YEAR(L591)>1900,Einstellungen!$C$10-YEAR(L591),\"---\")","v":"---"},"0000-0000-f-19000100",1,574,"","",1,574,"","","0000","0000","f","19000100",1900,"01","00"]
["","",null,null,null,null,null,null,null,null,null,null,null,null,null,null,"",{"$f":"IF(YEAR(L592)>1900,Einstellungen!$C$10-YEAR(L592),\"---\")","v":"---"},"0000-0000-f-19000100",1,575,"","",1,575,"","","0000","0000","f","19000100",1900,"01","00"]
["","",null,null,null,null,null,null,null,null,null,null,null,null,null,null,"",{"$f":"IF(YEAR(L593)>1900,Einstellungen!$C$10-YEAR(L593),\"---\")","v":"---"},"0000-0000-f-19000100",1,576,"","",1,576,"","","0000","0000","f","19000100",1900,"01","00"]
["","",null,null,null,null,null,null,null,null,null,null,null,null,null,null,{"$f":"IF(LEN(D594)>0,IF(P594=\"x\",\"\",\"x\"),\"\")","v":""},{"$f":"IF(YEAR(L594)>1900,Einstellungen!$C$10-YEAR(L594),\"---\")","v":"---"},"0000-0000-f-19000100",1,577,"","",1,577,"","","0000","0000","f","19000100",1900,"01","00"]
["","",null,null,null,null,null,null,null,null,null,null,null,null,null,null,"",{"$f":"IF(YEAR(L595)>1900,Einstellungen!$C$10-YEAR(L595),\"---\")","v":"---"},{"$f":"AB595 & \"-\" & AC595 & \"-\" & AD595 & \"-\" & AE595","v":"0000-0000-f-19000100"},{"$f":"IF(R595<=$AE$12,1,0)","v":1},{"$f":"IF(T595=1,U594+1,U594)","v":578},{"$f":"IF((M595+N595)>0,IF(T595=1,U595,\"-\"),\"\")","v":""},{"$f":"Z595 & AA595","v":""},{"$f":"IF(LEN(C595)>0, 0, T595)","v":1},{"$f":"Y594+X595","v":578},{"$f":"IF(X595=1,IF(Y595<=$Z$12,\"Q\",\"\"),\"\")","v":""},{"$f":"IF(X595=1, IF(Y595>$Z$12, IF(Y595<=($Z$12+$AA$12),\"R\",\"\"),\"\"), \"\")","v":""},{"$f":"IF(M595<1,\"0000\", IF(M595<10,\"000\"&M595, IF(M595<100,\"00\"&M595, IF(M595<1000,\"0\"&M595,\"\"& M595))))","v":"0000"},"0000",{"$f":"IF(O595=\"a\",\"a\",\"f\")","v":"f"},{"$f":"AF595&AG595&AH595","v":"19000100"},{"$f":"YEAR(L595)","v":1900},{"$f":"IF(MONTH(L595)<10,\"0\"&MONTH(L595),MONTH(L595))","v":"01"},{"$f":"IF(DAY(L595)<10,\"0\"&DAY(L595),DAY(L595))","v":"00"}]
["","",null,null,null,null,null,null,null,null,null,null,null,null,null,null,"",{"$f":"IF(YEAR(L596)>1900,Einstellungen!$C$10-YEAR(L596),\"---\")","v":"---"},"0000-0000-f-19000100",1,579,"","",1,579,"","","0000","0000","f","19000100",1900,"01","00"]
["","",null,null,null,null,null,null,null,null,null,null,null,null,null,null,"",{"$f":"IF(YEAR(L597)>1900,Einstellungen!$C$10-YEAR(L597),\"---\")","v":"---"},"0000-0000-f-19000100",1,580,"","",1,580,"","","0000","0000","f","19000100",1900,"01","00"]
["","",null,null,null,null,null,null,null,null,null,null,null,null,null,null,"",{"$f":"IF(YEAR(L598)>1900,Einstellungen!$C$10-YEAR(L598),\"---\")","v":"---"},"0000-0000-f-19000100",1,581,"","",1,581,"","","0000","0000","f","19000100",1900,"01","00"]
["","",null,null,null,null,null,null,null,null,null,null,null,null,null,null,"",{"$f":"IF(YEAR(L599)>1900,Einstellungen!$C$10-YEAR(L599),\"---\")","v":"---"},"0000-0000-f-19000100",1,582,"","",1,582,"","","0000","0000","f","19000100",1900,"01","00"]
["","",null,null,null,null,null,null,null,null,null,null,null,null,null,null,"",{"$f":"IF(YEAR(L600)>1900,Einstellungen!$C$10-YEAR(L600),\"---\")","v":"---"},"0000-0000-f-19000100",1,583,"","",1,583,"","","0000","0000","f","19000100",1900,"01","00"]
["","",null,null,null,null,null,null,null,null,null,null,null,null,null,null,"",{"$f":"IF(YEAR(L601)>1900,Einstellungen!$C$10-YEAR(L601),\"---\")","v":"---"},"0000-0000-f-19000100",1,584,"","",1,584,"","","0000","0000","f","19000100",1900,"01","00"]
["","",null,null,null,null,null,null,null,null,null,null,null,null,null,null,"",{"$f":"IF(YEAR(L602)>1900,Einstellungen!$C$10-YEAR(L602),\"---\")","v":"---"},"0000-0000-f-19000100",1,585,"","",1,585,"","","0000","0000","f","19000100",1900,"01","00"]
["","",null,null,null,null,null,null,null,null,null,null,null,null,null,null,"",{"$f":"IF(YEAR(L603)>1900,Einstellungen!$C$10-YEAR(L603),\"---\")","v":"---"},"0000-0000-f-19000100",1,586,"","",1,586,"","","0000","0000","f","19000100",1900,"01","00"]
["","",null,null,null,null,null,null,null,null,null,null,null,null,null,null,"",{"$f":"IF(YEAR(L604)>1900,Einstellungen!$C$10-YEAR(L604),\"---\")","v":"---"},"0000-0000-f-19000100",1,587,"","",1,587,"","","0000","0000","f","19000100",1900,"01","00"]
["","",null,null,null,null,null,null,null,null,null,null,null,null,null,null,"",{"$f":"IF(YEAR(L605)>1900,Einstellungen!$C$10-YEAR(L605),\"---\")","v":"---"},"0000-0000-f-19000100",1,588,"","",1,588,"","","0000","0000","f","19000100",1900,"01","00"]
["","",null,null,null,null,null,null,null,null,null,null,null,null,null,null,"",{"$f":"IF(YEAR(L606)>1900,Einstellungen!$C$10-YEAR(L606),\"---\")","v":"---"},"0000-0000-f-19000100",1,589,"","",1,589,"","","0000","0000","f","19000100",1900,"01","00"]
["","",null,null,null,null,null,null,null,null,null,null,null,null,null,null,"",{"$f":"IF(YEAR(L607)>1900,Einstellungen!$C$10-YEAR(L607),\"---\")","v":"---"},"0000-0000-f-19000100",1,590,"","",1,590,"","","0000","0000","f","19000100",1900,"01","00"]
["","",null,null,null,null,null,null,null,null,null,null,null,null,null,null,"",{"$f":"IF(YEAR(L608)>1900,Einstellungen!$C$10-YEAR(L608),\"---\")","v":"---"},"0000-0000-f-19000100",1,591,"","",1,591,"","","0000","0000","f","19000100",1900,"01","00"]
["","",null,null,null,null,null,null,null,null,null,null,null,null,null,null,"",{"$f":"IF(YEAR(L609)>1900,Einstellungen!$C$10-YEAR(L609),\"---\")","v":"---"},"0000-0000-f-19000100",1,592,"","",1,592,"","","0000","0000","f","19000100",1900,"01","00"]
["","",null,null,null,null,null,null,null,null,null,null,null,null,null,null,"",{"$f":"IF(YEAR(L610)>1900,Einstellungen!$C$10-YEAR(L610),\"---\")","v":"---"},"0000-0000-f-19000100",1,593,"","",1,593,"","","0000","0000","f","19000100",1900,"01","00"]
["","",null,null,null,null,null,null,null,null,null,null,null,null,null,null,"",{"$f":"IF(YEAR(L611)>1900,Einstellungen!$C$10-YEAR(L611),\"---\")","v":"---"},"0000-0000-f-19000100",1,594,"","",1,594,"","","0000","0000","f","19000100",1900,"01","00"]
["","",null,null,null,null,null,null,null,null,null,null,null,null,null,null,"",{"$f":"IF(YEAR(L612)>1900,Einstellungen!$C$10-YEAR(L612),\"---\")","v":"---"},"0000-0000-f-19000100",1,595,"","",1,595,"","","0000","0000","f","19000100",1900,"01","00"]
["","",null,null,null,null,null,null,null,null,null,null,null,null,null,null,"",{"$f":"IF(YEAR(L613)>1900,Einstellungen!$C$10-YEAR(L613),\"---\")","v":"---"},"0000-0000-f-19000100",1,596,"","",1,596,"","","0000","0000","f","19000100",1900,"01","00"]
["","",null,null,null,null,null,null,null,null,null,null,null,null,null,null,"",{"$f":"IF(YEAR(L614)>1900,Einstellungen!$C$10-YEAR(L614),\"---\")","v":"---"},"0000-0000-f-19000100",1,597,"","",1,597,"","","0000","0000","f","19000100",1900,"01","00"]
["","",null,null,null,null,null,null,null,null,null,null,null,null,null,null,"",{"$f":"IF(YEAR(L615)>1900,Einstellungen!$C$10-YEAR(L615),\"---\")","v":"---"},"0000-0000-f-19000100",1,598,"","",1,598,"","","0000","0000","f","19000100",1900,"01","00"]
["","",null,null,null,null,null,null,null,null,null,null,null,null,null,null,"",{"$f":"IF(YEAR(L616)>1900,Einstellungen!$C$10-YEAR(L616),\"---\")","v":"---"},"0000-0000-f-19000100",1,599,"","",1,599,"","","0000","0000","f","19000100",1900,"01","00"]
["","",null,null,null,null,null,null,null,null,null,null,null,null,null,null,"",{"$f":"IF(YEAR(L617)>1900,Einstellungen!$C$10-YEAR(L617),\"---\")","v":"---"},"0000-0000-f-19000100",1,600,"","",1,600,"","","0000","0000","f","19000100",1900,"01","00"]
["","",null,null,null,null,null,null,null,null,null,null,null,null,null,null,"",{"$f":"IF(YEAR(L618)>1900,Einstellungen!$C$10-YEAR(L618),\"---\")","v":"---"},"0000-0000-f-19000100",1,601,"","",1,601,"","","0000","0000","f","19000100",1900,"01","00"]
["","",null,null,null,null,null,null,null,null,null,null,null,null,null,null,"",{"$f":"IF(YEAR(L619)>1900,Einstellungen!$C$10-YEAR(L619),\"---\")","v":"---"},"0000-0000-f-19000100",1,602,"","",1,602,"","","0000","0000","f","19000100",1900,"01","00"]
["","",null,null,null,null,null,null,null,null,null,null,null,null,null,null,"",{"$f":"IF(YEAR(L620)>1900,Einstellungen!$C$10-YEAR(L620),\"---\")","v":"---"},"0000-0000-f-19000100",1,603,"","",1,603,"","","0000","0000","f","19000100",1900,"01","00"]
["","",null,null,null,null,null,null,null,null,null,null,null,null,null,null,"",{"$f":"IF(YEAR(L621)>1900,Einstellungen!$C$10-YEAR(L621),\"---\")","v":"---"},"0000-0000-f-19000100",1,604,"","",1,604,"","","0000","0000","f","19000100",1900,"01","00"]
["","",null,null,null,null,null,null,null,null,null,null,null,null,null,null,"",{"$f":"IF(YEAR(L622)>1900,Einstellungen!$C$10-YEAR(L622),\"---\")","v":"---"},"0000-0000-f-19000100",1,605,"","",1,605,"","","0000","0000","f","19000100",1900,"01","00"]
["","",null,null,null,null,null,null,null,null,null,null,null,null,null,null,"",{"$f":"IF(YEAR(L623)>1900,Einstellungen!$C$10-YEAR(L623),\"---\")","v":"---"},"0000-0000-f-19000100",1,606,"","",1,606,"","","0000","0000","f","19000100",1900,"01","00"]
["","",null,null,null,null,null,null,null,null,null,null,null,null,null,null,"",{"$f":"IF(YEAR(L624)>1900,Einstellungen!$C$10-YEAR(L624),\"---\")","v":"---"},"0000-0000-f-19000100",1,607,"","",1,607,"","","0000","0000","f","19000100",1900,"01","00"]
["","",null,null,null,null,null,null,null,null,null,null,null,null,null,null,"",{"$f":"IF(YEAR(L625)>1900,Einstellungen!$C$10-YEAR(L625),\"---\")","v":"---"},"0000-0000-f-19000100",1,608,"","",1,608,"","","0000","0000","f","19000100",1900,"01","00"]
["","",null,null,null,null,null,null,null,null,null,null,null,null,null,null,"",{"$f":"IF(YEAR(L626)>1900,Einstellungen!$C$10-YEAR(L626),\"---\")","v":"---"},"0000-0000-f-19000100",1,609,"","",1,609,"","","0000","0000","f","19000100",1900,"01","00"]
["","",null,null,null,null,null,null,null,null,null,null,null,null,null,null,"",{"$f":"IF(YEAR(L627)>1900,Einstellungen!$C$10-YEAR(L627),\"---\")","v":"---"},"0000-0000-f-19000100",1,610,"","",1,610,"","","0000","0000","f","19000100",1900,"01","00"]
["","",null,null,null,null,null,null,null,null,null,null,null,null,null,null,"",{"$f":"IF(YEAR(L628)>1900,Einstellungen!$C$10-YEAR(L628),\"---\")","v":"---"},"0000-0000-f-19000100",1,611,"","",1,611,"","","0000","0000","f","19000100",1900,"01","00"]
["","",null,null,null,null,null,null,null,null,null,null,null,null,null,null,"",{"$f":"IF(YEAR(L629)>1900,Einstellungen!$C$10-YEAR(L629),\"---\")","v":"---"},"0000-0000-f-19000100",1,612,"","",1,612,"","","0000","0000","f","19000100",1900,"01","00"]
["","",null,null,null,null,null,null,null,null,null,null,null,null,null,null,"",{"$f":"IF(YEAR(L630)>1900,Einstellungen!$C$10-YEAR(L630),\"---\")","v":"---"},"0000-0000-f-19000100",1,613,"","",1,613,"","","0000","0000","f","19000100",1900,"01","00"]
["","",null,null,null,null,null,null,null,null,null,null,null,null,null,null,"",{"$f":"IF(YEAR(L631)>1900,Einstellungen!$C$10-YEAR(L631),\"---\")","v":"---"},"0000-0000-f-19000100",1,614,"","",1,614,"","","0000","0000","f","19000100",1900,"01","00"]
["","",null,null,null,null,null,null,null,null,null,null,null,null,null,null,"",{"$f":"IF(YEAR(L632)>1900,Einstellungen!$C$10-YEAR(L632),\"---\")","v":"---"},"0000-0000-f-19000100",1,615,"","",1,615,"","","0000","0000","f","19000100",1900,"01","00"]
["","",null,null,null,null,null,null,null,null,null,null,null,null,null,null,"",{"$f":"IF(YEAR(L633)>1900,Einstellungen!$C$10-YEAR(L633),\"---\")","v":"---"},"0000-0000-f-19000100",1,616,"","",1,616,"","","0000","0000","f","19000100",1900,"01","00"]
["","",null,null,null,null,null,null,null,null,null,null,null,null,null,null,"",{"$f":"IF(YEAR(L634)>1900,Einstellungen!$C$10-YEAR(L634),\"---\")","v":"---"},"0000-0000-f-19000100",1,617,"","",1,617,"","","0000","0000","f","19000100",1900,"01","00"]
["","",null,null,null,null,null,null,null,null,null,null,null,null,null,null,"",{"$f":"IF(YEAR(L635)>1900,Einstellungen!$C$10-YEAR(L635),\"---\")","v":"---"},"0000-0000-f-19000100",1,618,"","",1,618,"","","0000","0000","f","19000100",1900,"01","00"]
["","",null,null,null,null,null,null,null,null,null,null,null,null,null,null,"",{"$f":"IF(YEAR(L636)>1900,Einstellungen!$C$10-YEAR(L636),\"---\")","v":"---"},"0000-0000-f-19000100",1,619,"","",1,619,"","","0000","0000","f","19000100",1900,"01","00"]
["","",null,null,null,null,null,null,null,null,null,null,null,null,null,null,"",{"$f":"IF(YEAR(L637)>1900,Einstellungen!$C$10-YEAR(L637),\"---\")","v":"---"},"0000-0000-f-19000100",1,620,"","",1,620,"","","0000","0000","f","19000100",1900,"01","00"]
["","",null,null,null,null,null,null,null,null,null,null,null,null,null,null,"",{"$f":"IF(YEAR(L638)>1900,Einstellungen!$C$10-YEAR(L638),\"---\")","v":"---"},"0000-0000-f-19000100",1,621,"","",1,621,"","","0000","0000","f","19000100",1900,"01","00"]
["","",null,null,null,null,null,null,null,null,null,null,null,null,null,null,"",{"$f":"IF(YEAR(L639)>1900,Einstellungen!$C$10-YEAR(L639),\"---\")","v":"---"},"0000-0000-f-19000100",1,622,"","",1,622,"","","0000","0000","f","19000100",1900,"01","00"]
["","",null,null,null,null,null,null,null,null,null,null,null,null,null,null,"",{"$f":"IF(YEAR(L640)>1900,Einstellungen!$C$10-YEAR(L640),\"---\")","v":"---"},"0000-0000-f-19000100",1,623,"","",1,623,"","","0000","0000","f","19000100",1900,"01","00"]
["","",null,null,null,null,null,null,null,null,null,null,null,null,null,null,"",{"$f":"IF(YEAR(L641)>1900,Einstellungen!$C$10-YEAR(L641),\"---\")","v":"---"},"0000-0000-f-19000100",1,624,"","",1,624,"","","0000","0000","f","19000100",1900,"01","00"]
["","",null,null,null,null,null,null,null,null,null,null,null,null,null,null,"",{"$f":"IF(YEAR(L642)>1900,Einstellungen!$C$10-YEAR(L642),\"---\")","v":"---"},"0000-0000-f-19000100",1,625,"","",1,625,"","","0000","0000","f","19000100",1900,"01","00"]
["","",null,null,null,null,null,null,null,null,null,null,null,null,null,null,"",{"$f":"IF(YEAR(L643)>1900,Einstellungen!$C$10-YEAR(L643),\"---\")","v":"---"},"0000-0000-f-19000100",1,626,"","",1,626,"","","0000","0000","f","19000100",1900,"01","00"]
["","",null,null,null,null,null,null,null,null,null,null,null,null,null,null,"",{"$f":"IF(YEAR(L644)>1900,Einstellungen!$C$10-YEAR(L644),\"---\")","v":"---"},"0000-0000-f-19000100",1,627,"","",1,627,"","","0000","0000","f","19000100",1900,"01","00"]
["","",null,null,null,null,null,null,null,null,null,null,null,null,null,null,"",{"$f":"IF(YEAR(L645)>1900,Einstellungen!$C$10-YEAR(L645),\"---\")","v":"---"},"0000-0000-f-19000100",1,628,"","",1,628,"","","0000","0000","f","19000100",1900,"01","00"]
["","",null,null,null,null,null,null,null,null,null,null,null,null,null,null,"",{"$f":"IF(YEAR(L646)>1900,Einstellungen!$C$10-YEAR(L646),\"---\")","v":"---"},"0000-0000-f-19000100",1,629,"","",1,629,"","","0000","0000","f","19000100",1900,"01","00"]
["","",null,null,null,null,null,null,null,null,null,null,null,null,null,null,"",{"$f":"IF(YEAR(L647)>1900,Einstellungen!$C$10-YEAR(L647),\"---\")","v":"---"},"0000-0000-f-19000100",1,630,"","",1,630,"","","0000","0000","f","19000100",1900,"01","00"]
["","",null,null,null,null,null,null,null,null,null,null,null,null,null,null,"",{"$f":"IF(YEAR(L648)>1900,Einstellungen!$C$10-YEAR(L648),\"---\")","v":"---"},"0000-0000-f-19000100",1,631,"","",1,631,"","","0000","0000","f","19000100",1900,"01","00"]
["","",null,null,null,null,null,null,null,null,null,null,null,null,null,null,"",{"$f":"IF(YEAR(L649)>1900,Einstellungen!$C$10-YEAR(L649),\"---\")","v":"---"},"0000-0000-f-19000100",1,632,"","",1,632,"","","0000","0000","f","19000100",1900,"01","00"]
["","",null,null,null,null,null,null,null,null,null,null,null,null,null,null,"",{"$f":"IF(YEAR(L650)>1900,Einstellungen!$C$10-YEAR(L650),\"---\")","v":"---"},"0000-0000-f-19000100",1,633,"","",1,633,"","","0000","0000","f","19000100",1900,"01","00"]
["","",null,null,null,null,null,null,null,null,null,null,null,null,null,null,"",{"$f":"IF(YEAR(L651)>1900,Einstellungen!$C$10-YEAR(L651),\"---\")","v":"---"},"0000-0000-f-19000100",1,634,"","",1,634,"","","0000","0000","f","19000100",1900,"01","00"]
["","",null,null,null,null,null,null,null,null,null,null,null,null,null,null,"",{"$f":"IF(YEAR(L652)>1900,Einstellungen!$C$10-YEAR(L652),\"---\")","v":"---"},"0000-0000-f-19000100",1,635,"","",1,635,"","","0000","0000","f","19000100",1900,"01","00"]
["","",null,null,null,null,null,null,null,null,null,null,null,null,null,null,"",{"$f":"IF(YEAR(L653)>1900,Einstellungen!$C$10-YEAR(L653),\"---\")","v":"---"},"0000-0000-f-19000100",1,636,"","",1,636,"","","0000","0000","f","19000100",1900,"01","00"]
["","",null,null,null,null,null,null,null,null,null,null,null,null,null,null,"",{"$f":"IF(YEAR(L654)>1900,Einstellungen!$C$10-YEAR(L654),\"---\")","v":"---"},"0000-0000-f-19000100",1,637,"","",1,637,"","","0000","0000","f","19000100",1900,"01","00"]
["","",null,null,null,null,null,null,null,null,null,null,null,null,null,null,"",{"$f":"IF(YEAR(L655)>1900,Einstellungen!$C$10-YEAR(L655),\"---\")","v":"---"},"0000-0000-f-19000100",1,638,"","",1,638,"","","0000","0000","f","19000100",1900,"01","00"]
["","",null,null,null,null,null,null,null,null,null,null,null,null,null,null,"",{"$f":"IF(YEAR(L656)>1900,Einstellungen!$C$10-YEAR(L656),\"---\")","v":"---"},"0000-0000-f-19000100",1,639,"","",1,639,"","","0000","0000","f","19000100",1900,"01","00"]
["","",null,null,null,null,null,null,null,null,null,null,null,null,null,null,"",{"$f":"IF(YEAR(L657)>1900,Einstellungen!$C$10-YEAR(L657),\"---\")","v":"---"},"0000-0000-f-19000100",1,640,"","",1,640,"","","0000","0000","f","19000100",1900,"01","00"]
["","",null,null,null,null,null,null,null,null,null,null,null,null,null,null,{"$f":"IF(LEN(D658)>0,IF(P658=\"x\",\"\",\"x\"),\"\")","v":""},{"$f":"IF(YEAR(L658)>1900,Einstellungen!$C$10-YEAR(L658),\"---\")","v":"---"},"0000-0000-f-19000100",1,641,"","",1,641,"","","0000","0000","f","19000100",1900,"01","00"]
["","",null,null,null,null,null,null,null,null,null,null,null,null,null,null,"",{"$f":"IF(YEAR(L659)>1900,Einstellungen!$C$10-YEAR(L659),\"---\")","v":"---"},{"$f":"AB659 & \"-\" & AC659 & \"-\" & AD659 & \"-\" & AE659","v":"0000-0000-f-19000100"},{"$f":"IF(R659<=$AE$12,1,0)","v":1},{"$f":"IF(T659=1,U658+1,U658)","v":642},{"$f":"IF((M659+N659)>0,IF(T659=1,U659,\"-\"),\"\")","v":""},{"$f":"Z659 & AA659","v":""},{"$f":"IF(LEN(C659)>0, 0, T659)","v":1},{"$f":"Y658+X659","v":642},{"$f":"IF(X659=1,IF(Y659<=$Z$12,\"Q\",\"\"),\"\")","v":""},{"$f":"IF(X659=1, IF(Y659>$Z$12, IF(Y659<=($Z$12+$AA$12),\"R\",\"\"),\"\"), \"\")","v":""},{"$f":"IF(M659<1,\"0000\", IF(M659<10,\"000\"&M659, IF(M659<100,\"00\"&M659, IF(M659<1000,\"0\"&M659,\"\"& M659))))","v":"0000"},"0000",{"$f":"IF(O659=\"a\",\"a\",\"f\")","v":"f"},{"$f":"AF659&AG659&AH659","v":"19000100"},{"$f":"YEAR(L659)","v":1900},{"$f":"IF(MONTH(L659)<10,\"0\"&MONTH(L659),MONTH(L659))","v":"01"},{"$f":"IF(DAY(L659)<10,\"0\"&DAY(L659),DAY(L659))","v":"00"}]
["","",null,null,null,null,null,null,null,null,null,null,null,null,null,null,"",{"$f":"IF(YEAR(L660)>1900,Einstellungen!$C$10-YEAR(L660),\"---\")","v":"---"},"0000-0000-f-19000100",1,643,"","",1,643,"","","0000","0000","f","19000100",1900,"01","00"]
["","",null,null,null,null,null,null,null,null,null,null,null,null,null,null,"",{"$f":"IF(YEAR(L661)>1900,Einstellungen!$C$10-YEAR(L661),\"---\")","v":"---"},"0000-0000-f-19000100",1,644,"","",1,644,"","","0000","0000","f","19000100",1900,"01","00"]
["","",null,null,null,null,null,null,null,null,null,null,null,null,null,null,"",{"$f":"IF(YEAR(L662)>1900,Einstellungen!$C$10-YEAR(L662),\"---\")","v":"---"},"0000-0000-f-19000100",1,645,"","",1,645,"","","0000","0000","f","19000100",1900,"01","00"]
["","",null,null,null,null,null,null,null,null,null,null,null,null,null,null,"",{"$f":"IF(YEAR(L663)>1900,Einstellungen!$C$10-YEAR(L663),\"---\")","v":"---"},"0000-0000-f-19000100",1,646,"","",1,646,"","","0000","0000","f","19000100",1900,"01","00"]
["","",null,null,null,null,null,null,null,null,null,null,null,null,null,null,"",{"$f":"IF(YEAR(L664)>1900,Einstellungen!$C$10-YEAR(L664),\"---\")","v":"---"},"0000-0000-f-19000100",1,647,"","",1,647,"","","0000","0000","f","19000100",1900,"01","00"]
["","",null,null,null,null,null,null,null,null,null,null,null,null,null,null,"",{"$f":"IF(YEAR(L665)>1900,Einstellungen!$C$10-YEAR(L665),\"---\")","v":"---"},"0000-0000-f-19000100",1,648,"","",1,648,"","","0000","0000","f","19000100",1900,"01","00"]
["","",null,null,null,null,null,null,null,null,null,null,null,null,null,null,"",{"$f":"IF(YEAR(L666)>1900,Einstellungen!$C$10-YEAR(L666),\"---\")","v":"---"},"0000-0000-f-19000100",1,649,"","",1,649,"","","0000","0000","f","19000100",1900,"01","00"]
["","",null,null,null,null,null,null,null,null,null,null,null,null,null,null,"",{"$f":"IF(YEAR(L667)>1900,Einstellungen!$C$10-YEAR(L667),\"---\")","v":"---"},"0000-0000-f-19000100",1,650,"","",1,650,"","","0000","0000","f","19000100",1900,"01","00"]
["","",null,null,null,null,null,null,null,null,null,null,null,null,null,null,"",{"$f":"IF(YEAR(L668)>1900,Einstellungen!$C$10-YEAR(L668),\"---\")","v":"---"},"0000-0000-f-19000100",1,651,"","",1,651,"","","0000","0000","f","19000100",1900,"01","00"]
["","",null,null,null,null,null,null,null,null,null,null,null,null,null,null,"",{"$f":"IF(YEAR(L669)>1900,Einstellungen!$C$10-YEAR(L669),\"---\")","v":"---"},"0000-0000-f-19000100",1,652,"","",1,652,"","","0000","0000","f","19000100",1900,"01","00"]
["","",null,null,null,null,null,null,null,null,null,null,null,null,null,null,"",{"$f":"IF(YEAR(L670)>1900,Einstellungen!$C$10-YEAR(L670),\"---\")","v":"---"},"0000-0000-f-19000100",1,653,"","",1,653,"","","0000","0000","f","19000100",1900,"01","00"]
["","",null,null,null,null,null,null,null,null,null,null,null,null,null,null,"",{"$f":"IF(YEAR(L671)>1900,Einstellungen!$C$10-YEAR(L671),\"---\")","v":"---"},"0000-0000-f-19000100",1,654,"","",1,654,"","","0000","0000","f","19000100",1900,"01","00"]
["","",null,null,null,null,null,null,null,null,null,null,null,null,null,null,"",{"$f":"IF(YEAR(L672)>1900,Einstellungen!$C$10-YEAR(L672),\"---\")","v":"---"},"0000-0000-f-19000100",1,655,"","",1,655,"","","0000","0000","f","19000100",1900,"01","00"]
["","",null,null,null,null,null,null,null,null,null,null,null,null,null,null,"",{"$f":"IF(YEAR(L673)>1900,Einstellungen!$C$10-YEAR(L673),\"---\")","v":"---"},"0000-0000-f-19000100",1,656,"","",1,656,"","","0000","0000","f","19000100",1900,"01","00"]
["","",null,null,null,null,null,null,null,null,null,null,null,null,null,null,"",{"$f":"IF(YEAR(L674)>1900,Einstellungen!$C$10-YEAR(L674),\"---\")","v":"---"},"0000-0000-f-19000100",1,657,"","",1,657,"","","0000","0000","f","19000100",1900,"01","00"]
["","",null,null,null,null,null,null,null,null,null,null,null,null,null,null,"",{"$f":"IF(YEAR(L675)>1900,Einstellungen!$C$10-YEAR(L675),\"---\")","v":"---"},"0000-0000-f-19000100",1,658,"","",1,658,"","","0000","0000","f","19000100",1900,"01","00"]
["","",null,null,null,null,null,null,null,null,null,null,null,null,null,null,"",{"$f":"IF(YEAR(L676)>1900,Einstellungen!$C$10-YEAR(L676),\"---\")","v":"---"},"0000-0000-f-19000100",1,659,"","",1,659,"","","0000","0000","f","19000100",1900,"01","00"]
["","",null,null,null,null,null,null,null,null,null,null,null,null,null,null,"",{"$f":"IF(YEAR(L677)>1900,Einstellungen!$C$10-YEAR(L677),\"---\")","v":"---"},"0000-0000-f-19000100",1,660,"","",1,660,"","","0000","0000","f","19000100",1900,"01","00"]
["","",null,null,null,null,null,null,null,null,null,null,null,null,null,null,"",{"$f":"IF(YEAR(L678)>1900,Einstellungen!$C$10-YEAR(L678),\"---\")","v":"---"},"0000-0000-f-19000100",1,661,"","",1,661,"","","0000","0000","f","19000100",1900,"01","00"]
["","",null,null,null,null,null,null,null,null,null,null,null,null,null,null,"",{"$f":"IF(YEAR(L679)>1900,Einstellungen!$C$10-YEAR(L679),\"---\")","v":"---"},"0000-0000-f-19000100",1,662,"","",1,662,"","","0000","0000","f","19000100",1900,"01","00"]
["","",null,null,null,null,null,null,null,null,null,null,null,null,null,null,"",{"$f":"IF(YEAR(L680)>1900,Einstellungen!$C$10-YEAR(L680),\"---\")","v":"---"},"0000-0000-f-19000100",1,663,"","",1,663,"","","0000","0000","f","19000100",1900,"01","00"]
["","",null,null,null,null,null,null,null,null,null,null,null,null,null,null,"",{"$f":"IF(YEAR(L681)>1900,Einstellungen!$C$10-YEAR(L681),\"---\")","v":"---"},"0000-0000-f-19000100",1,664,"","",1,664,"","","0000","0000","f","19000100",1900,"01","00"]
["","",null,null,null,null,null,null,null,null,null,null,null,null,null,null,"",{"$f":"IF(YEAR(L682)>1900,Einstellungen!$C$10-YEAR(L682),\"---\")","v":"---"},"0000-0000-f-19000100",1,665,"","",1,665,"","","0000","0000","f","19000100",1900,"01","00"]
["","",null,null,null,null,null,null,null,null,null,null,null,null,null,null,"",{"$f":"IF(YEAR(L683)>1900,Einstellungen!$C$10-YEAR(L683),\"---\")","v":"---"},"0000-0000-f-19000100",1,666,"","",1,666,"","","0000","0000","f","19000100",1900,"01","00"]
["","",null,null,null,null,null,null,null,null,null,null,null,null,null,null,"",{"$f":"IF(YEAR(L684)>1900,Einstellungen!$C$10-YEAR(L684),\"---\")","v":"---"},"0000-0000-f-19000100",1,667,"","",1,667,"","","0000","0000","f","19000100",1900,"01","00"]
["","",null,null,null,null,null,null,null,null,null,null,null,null,null,null,"",{"$f":"IF(YEAR(L685)>1900,Einstellungen!$C$10-YEAR(L685),\"---\")","v":"---"},"0000-0000-f-19000100",1,668,"","",1,668,"","","0000","0000","f","19000100",1900,"01","00"]
["","",null,null,null,null,null,null,null,null,null,null,null,null,null,null,"",{"$f":"IF(YEAR(L686)>1900,Einstellungen!$C$10-YEAR(L686),\"---\")","v":"---"},"0000-0000-f-19000100",1,669,"","",1,669,"","","0000","0000","f","19000100",1900,"01","00"]
["","",null,null,null,null,null,null,null,null,null,null,null,null,null,null,"",{"$f":"IF(YEAR(L687)>1900,Einstellungen!$C$10-YEAR(L687),\"---\")","v":"---"},"0000-0000-f-19000100",1,670,"","",1,670,"","","0000","0000","f","19000100",1900,"01","00"]
["","",null,null,null,null,null,null,null,null,null,null,null,null,null,null,"",{"$f":"IF(YEAR(L688)>1900,Einstellungen!$C$10-YEAR(L688),\"---\")","v":"---"},"0000-0000-f-19000100",1,671,"","",1,671,"","","0000","0000","f","19000100",1900,"01","00"]
["","",null,null,null,null,null,null,null,null,null,null,null,null,null,null,"",{"$f":"IF(YEAR(L689)>1900,Einstellungen!$C$10-YEAR(L689),\"---\")","v":"---"},"0000-0000-f-19000100",1,672,"","",1,672,"","","0000","0000","f","19000100",1900,"01","00"]
["","",null,null,null,null,null,null,null,null,null,null,null,null,null,null,"",{"$f":"IF(YEAR(L690)>1900,Einstellungen!$C$10-YEAR(L690),\"---\")","v":"---"},"0000-0000-f-19000100",1,673,"","",1,673,"","","0000","0000","f","19000100",1900,"01","00"]
["","",null,null,null,null,null,null,null,null,null,null,null,null,null,null,"",{"$f":"IF(YEAR(L691)>1900,Einstellungen!$C$10-YEAR(L691),\"---\")","v":"---"},"0000-0000-f-19000100",1,674,"","",1,674,"","","0000","0000","f","19000100",1900,"01","00"]
["","",null,null,null,null,null,null,null,null,null,null,null,null,null,null,"",{"$f":"IF(YEAR(L692)>1900,Einstellungen!$C$10-YEAR(L692),\"---\")","v":"---"},"0000-0000-f-19000100",1,675,"","",1,675,"","","0000","0000","f","19000100",1900,"01","00"]
["","",null,null,null,null,null,null,null,null,null,null,null,null,null,null,"",{"$f":"IF(YEAR(L693)>1900,Einstellungen!$C$10-YEAR(L693),\"---\")","v":"---"},"0000-0000-f-19000100",1,676,"","",1,676,"","","0000","0000","f","19000100",1900,"01","00"]
["","",null,null,null,null,null,null,null,null,null,null,null,null,null,null,"",{"$f":"IF(YEAR(L694)>1900,Einstellungen!$C$10-YEAR(L694),\"---\")","v":"---"},"0000-0000-f-19000100",1,677,"","",1,677,"","","0000","0000","f","19000100",1900,"01","00"]
["","",null,null,null,null,null,null,null,null,null,null,null,null,null,null,"",{"$f":"IF(YEAR(L695)>1900,Einstellungen!$C$10-YEAR(L695),\"---\")","v":"---"},"0000-0000-f-19000100",1,678,"","",1,678,"","","0000","0000","f","19000100",1900,"01","00"]
["","",null,null,null,null,null,null,null,null,null,null,null,null,null,null,"",{"$f":"IF(YEAR(L696)>1900,Einstellungen!$C$10-YEAR(L696),\"---\")","v":"---"},"0000-0000-f-19000100",1,679,"","",1,679,"","","0000","0000","f","19000100",1900,"01","00"]
["","",null,null,null,null,null,null,null,null,null,null,null,null,null,null,"",{"$f":"IF(YEAR(L697)>1900,Einstellungen!$C$10-YEAR(L697),\"---\")","v":"---"},"0000-0000-f-19000100",1,680,"","",1,680,"","","0000","0000","f","19000100",1900,"01","00"]
["","",null,null,null,null,null,null,null,null,null,null,null,null,null,null,"",{"$f":"IF(YEAR(L698)>1900,Einstellungen!$C$10-YEAR(L698),\"---\")","v":"---"},"0000-0000-f-19000100",1,681,"","",1,681,"","","0000","0000","f","19000100",1900,"01","00"]
["","",null,null,null,null,null,null,null,null,null,null,null,null,null,null,"",{"$f":"IF(YEAR(L699)>1900,Einstellungen!$C$10-YEAR(L699),\"---\")","v":"---"},"0000-0000-f-19000100",1,682,"","",1,682,"","","0000","0000","f","19000100",1900,"01","00"]
["","",null,null,null,null,null,null,null,null,null,null,null,null,null,null,"",{"$f":"IF(YEAR(L700)>1900,Einstellungen!$C$10-YEAR(L700),\"---\")","v":"---"},"0000-0000-f-19000100",1,683,"","",1,683,"","","0000","0000","f","19000100",1900,"01","00"]
["","",null,null,null,null,null,null,null,null,null,null,null,null,null,null,"",{"$f":"IF(YEAR(L701)>1900,Einstellungen!$C$10-YEAR(L701),\"---\")","v":"---"},"0000-0000-f-19000100",1,684,"","",1,684,"","","0000","0000","f","19000100",1900,"01","00"]
["","",null,null,null,null,null,null,null,null,null,null,null,null,null,null,"",{"$f":"IF(YEAR(L702)>1900,Einstellungen!$C$10-YEAR(L702),\"---\")","v":"---"},"0000-0000-f-19000100",1,685,"","",1,685,"","","0000","0000","f","19000100",1900,"01","00"]
["","",null,null,null,null,null,null,null,null,null,null,null,null,null,null,"",{"$f":"IF(YEAR(L703)>1900,Einstellungen!$C$10-YEAR(L703),\"---\")","v":"---"},"0000-0000-f-19000100",1,686,"","",1,686,"","","0000","0000","f","19000100",1900,"01","00"]
["","",null,null,null,null,null,null,null,null,null,null,null,null,null,null,"",{"$f":"IF(YEAR(L704)>1900,Einstellungen!$C$10-YEAR(L704),\"---\")","v":"---"},"0000-0000-f-19000100",1,687,"","",1,687,"","","0000","0000","f","19000100",1900,"01","00"]
["","",null,null,null,null,null,null,null,null,null,null,null,null,null,null,"",{"$f":"IF(YEAR(L705)>1900,Einstellungen!$C$10-YEAR(L705),\"---\")","v":"---"},"0000-0000-f-19000100",1,688,"","",1,688,"","","0000","0000","f","19000100",1900,"01","00"]
["","",null,null,null,null,null,null,null,null,null,null,null,null,null,null,"",{"$f":"IF(YEAR(L706)>1900,Einstellungen!$C$10-YEAR(L706),\"---\")","v":"---"},"0000-0000-f-19000100",1,689,"","",1,689,"","","0000","0000","f","19000100",1900,"01","00"]
["","",null,null,null,null,null,null,null,null,null,null,null,null,null,null,"",{"$f":"IF(YEAR(L707)>1900,Einstellungen!$C$10-YEAR(L707),\"---\")","v":"---"},"0000-0000-f-19000100",1,690,"","",1,690,"","","0000","0000","f","19000100",1900,"01","00"]
["","",null,null,null,null,null,null,null,null,null,null,null,null,null,null,"",{"$f":"IF(YEAR(L708)>1900,Einstellungen!$C$10-YEAR(L708),\"---\")","v":"---"},"0000-0000-f-19000100",1,691,"","",1,691,"","","0000","0000","f","19000100",1900,"01","00"]
["","",null,null,null,null,null,null,null,null,null,null,null,null,null,null,"",{"$f":"IF(YEAR(L709)>1900,Einstellungen!$C$10-YEAR(L709),\"---\")","v":"---"},"0000-0000-f-19000100",1,692,"","",1,692,"","","0000","0000","f","19000100",1900,"01","00"]
["","",null,null,null,null,null,null,null,null,null,null,null,null,null,null,"",{"$f":"IF(YEAR(L710)>1900,Einstellungen!$C$10-YEAR(L710),\"---\")","v":"---"},"0000-0000-f-19000100",1,693,"","",1,693,"","","0000","0000","f","19000100",1900,"01","00"]
["","",null,null,null,null,null,null,null,null,null,null,null,null,null,null,"",{"$f":"IF(YEAR(L711)>1900,Einstellungen!$C$10-YEAR(L711),\"---\")","v":"---"},"0000-0000-f-19000100",1,694,"","",1,694,"","","0000","0000","f","19000100",1900,"01","00"]
["","",null,null,null,null,null,null,null,null,null,null,null,null,null,null,"",{"$f":"IF(YEAR(L712)>1900,Einstellungen!$C$10-YEAR(L712),\"---\")","v":"---"},"0000-0000-f-19000100",1,695,"","",1,695,"","","0000","0000","f","19000100",1900,"01","00"]
["","",null,null,null,null,null,null,null,null,null,null,null,null,null,null,"",{"$f":"IF(YEAR(L713)>1900,Einstellungen!$C$10-YEAR(L713),\"---\")","v":"---"},"0000-0000-f-19000100",1,696,"","",1,696,"","","0000","0000","f","19000100",1900,"01","00"]
["","",null,null,null,null,null,null,null,null,null,null,null,null,null,null,"",{"$f":"IF(YEAR(L714)>1900,Einstellungen!$C$10-YEAR(L714),\"---\")","v":"---"},"0000-0000-f-19000100",1,697,"","",1,697,"","","0000","0000","f","19000100",1900,"01","00"]
["","",null,null,null,null,null,null,null,null,null,null,null,null,null,null,"",{"$f":"IF(YEAR(L715)>1900,Einstellungen!$C$10-YEAR(L715),\"---\")","v":"---"},"0000-0000-f-19000100",1,698,"","",1,698,"","","0000","0000","f","19000100",1900,"01","00"]
["","",null,null,null,null,null,null,null,null,null,null,null,null,null,null,"",{"$f":"IF(YEAR(L716)>1900,Einstellungen!$C$10-YEAR(L716),\"---\")","v":"---"},"0000-0000-f-19000100",1,699,"","",1,699,"","","0000","0000","f","19000100",1900,"01","00"]
["","",null,null,null,null,null,null,null,null,null,null,null,null,null,null,"",{"$f":"IF(YEAR(L717)>1900,Einstellungen!$C$10-YEAR(L717),\"---\")","v":"---"},"0000-0000-f-19000100",1,700,"","",1,700,"","","0000","0000","f","19000100",1900,"01","00"]

{"sheet":"Hilfstabellen","index":6,"n_rows":16,"n_cols":13,"rows_kept":16,"cut":false,"hidden":false,"merged":[]}
[]
["Jahr:",2023,null,"Diese Datenfelder können vom Anwender nicht verändert werden!"]
[]
["Kategorie","Disziplin","Stellung","Alter von","Alter bis","Jahrgang von","Jahrgang bis","T01","T02","T03","T04","T05","T06"]
["---","keine",null,"---","---","---","---","","","",""]
["A1  08-10","Armbrust 10m","sitzend / feste Auflage",8,10,{"$f":"$B$2-D6","v":2015},{"$f":"$B$2-E6","v":2013},"","Punkte","","x= Mädchen","x= Junge","Abmeldung"]
["A2  08-12","Armbrust 10m","stehend / aufgelegt oder frei",8,12,{"$f":"$B$2-D7","v":2015},{"$f":"$B$2-E7","v":2011},"","Punkte","a= aufgelegt","x= Mädchen","x= Junge","Abmeldung"]
["A3  13-15","Armbrust 10m","stehend / aufgelegt oder frei",13,15,{"$f":"$B$2-D8","v":2010},{"$f":"$B$2-E8","v":2008},"","Punkte","a= aufgelegt","x= Mädchen","x= Junge","Abmeldung"]
["G1  08-10","Luftgewehr 10m","sitzend / feste Auflage",8,10,{"$f":"$B$2-D9","v":2015},{"$f":"$B$2-E9","v":2013},"Treffer","Punkte","","x= Mädchen","x= Junge","Abmeldung"]
["G2  08-12","Luftgewehr 10m","stehend / feste Auflage",8,12,2015,2011,"Treffer","Punkte","","x= Mädchen","x= Junge","Abmeldung"]
["G3  10-14","Luftgewehr 10m","stehend / bewegliche Auflage",10,14,2013,2009,"Treffer","Punkte","","x= Mädchen","x= Junge","Abmeldung"]
["G4  10-15","Luftgewehr 10m","stehend / frei",10,15,2013,2008,"Treffer","Punkte","","x= Mädchen","x= Junge","Abmeldung"]
["P1  08-10","Luftpistole 10m","sitzend / feste Auflage",8,10,2015,2013,"Treffer","Punkte","","x= Mädchen","x= Junge","Abmeldung"]
["P2  08-12","Luftpistole 10m","stehend / feste Auflage",8,12,2015,2011,"Treffer","Punkte","","x= Mädchen","x= Junge","Abmeldung"]
["P3  10-14","Luftpistole 10m","stehend / bewegliche Auflage",10,14,2013,2009,"Treffer","Punkte","","x= Mädchen","x= Junge","Abmeldung"]
["P4  10-15","Luftpistole 10m","stehend / frei",10,15,2013,2008,"Treffer","Punkte","","x= Mädchen","x= Junge","Abmeldung"]